Workbook

Sheet Summary
B3: 2020 | R3: Jan | S3: Feb | T3: Mar | U3: Apr | V3: May | W3: Jun | X3: Jul | Y3: Aug | Z3: Sep | AA3: Oct | AB3: Nov | AC3: Dec | AH3: Jan | AI3: Feb | AJ3: Mar | AK3: Apr | AL3: May | AM3: Jun | AN3: Jul | AO3: Aug | AP3: Sep | AQ3: Oct | AR3: Nov | AS3: Dec
B4: Jan | C4: Feb | D4: Mar | E4: Apr | F4: May | G4: Jun | H4: Jul | I4: Aug | J4: Sep | K4: Oct | L4: Nov | M4: Dec | Q4: Assaults Vancouver 2019 | R4: =B60 -> 304 | S4: =C60 -> 285 | T4: =D60 -> 359 | U4: =E60 -> 346 | V4: =F60 -> 404 | W4: =G60 -> 372 | X4: =H60 -> 417 | Y4: =I60 -> 462 | ... AC4: =M60 -> 378 | AG4: Arsons Vancouver 2019 | AH4: =Jan_2019!I28 -> 12 | AI4: =Feb_2019!I28 -> 21 | AJ4: =Mar_2019!I28 -> 23 | AK4: =Apr_2019!I28 -> 20 | AL4: =May_2019!I28 -> 22 | AM4: =Jun_2019!I28 -> 13 | AN4: =Jul_2019!I28 -> 30 | AO4: =Aug_2019!I28 -> 19 | AP4: =Sep_2019!I28 -> 19 | AQ4: =Oct_2019!I28 -> 27 | AR4: =Nov_2019!I28 -> 31 | AS4: =Dec_2019!I28 -> 16
A5: Neighbourhood | B5: =Jan_2020!C4 -> Assaults | C5: =Feb_2020!C4 -> Assaults | D5: =Mar_2020!C4 -> Assaults | E5: =Apr_2020!C4 -> Assaults | F5: =May_2020!C4 -> Assaults | G5: =Jun_2020!C4 -> Assaults | H5: =Jul_2020!C4 -> Assaults | I5: =Aug_2020!C4 -> Assaults | Q5: Assaults Vancouver 2020 | R5: =B30 -> 405 | S5: =C30 -> 352 | T5: =D30 -> 382 | U5: =E30 -> 339 | V5: =F30 -> 395 | W5: =G30 -> 376 | X5: =H30 -> 382 | Y5: =I30 -> 405 | AG5: Arsons Vancouver 2020 | AH5: =Jan_2020!I29 -> 5 | AI5: =Feb_2020!I29 -> 16 | AJ5: =Mar_2020!I28 -> 38 | AK5: =Apr_2020!I29 -> 41 | AL5: =May_2020!I29 -> 39 | AM5: =Jun_2020!I29 -> 24 | AN5: =Jul_2020!I29 -> 25 | AO5: =Aug_2020!I29 -> 28
A6: Arbutus Ridge | B6: =Jan_2020!C5 -> 1 | C6: =Feb_2020!C5 -> 0 | D6: =Mar_2020!C5 -> 2 | E6: =Apr_2020!C5 -> 0 | F6: =May_2020!C5 -> 3 | G6: =Jun_2020!C5 -> 3 | H6: =Jul_2020!C5 -> 1 | I6: =Aug_2020!C5 -> 2 | Q6: B&E, Thefts, Mischief Vancouver 2019 | R6: =B121 -> 3207 | S6: =C121 -> 2607 | T6: =D121 -> 2933 | U6: =E121 -> 3028 | V6: =F121 -> 3305 | W6: =G121 -> 3086 | X6: =H121 -> 3494 | Y6: =I121 -> 3572 | ... AC6: =M121 -> 3115 | AG6: Sex Offences Vancouver 2019 | AH6: =Jan_2019!B28 -> 35 | AI6: =Feb_2019!B28 -> 53 | AJ6: =Mar_2019!B28 -> 43 | AK6: =Apr_2019!B28 -> 47 | AL6: =May_2019!B28 -> 52 | AM6: =Jun_2019!B28 -> 46 | AN6: =Jul_2019!B28 -> 40 | AO6: =Aug_2019!B28 -> 49 | AP6: =Sep_2019!B28 -> 47 | AQ6: =Oct_2019!B28 -> 46 | AR6: =Nov_2019!B28 -> 32 | AS6: =Dec_2019!B28 -> 32
A7: Central Business District | B7: =Jan_2020!C6 -> 162 | C7: =Feb_2020!C6 -> 143 | D7: =Mar_2020!C6 -> 172 | E7: =Apr_2020!C6 -> 111 | F7: =May_2020!C6 -> 130 | G7: =Jun_2020!C6 -> 135 | H7: =Jul_2020!C6 -> 144 | I7: =Aug_2020!C6 -> 160 | Q7: B&E, Thefts, Mischief Vancouver 2020 | R7: =B91 -> 3279 | S7: =C91 -> 3196 | T7: =D91 -> 2982 | U7: =E91 -> 2548 | V7: =F91 -> 1853 | W7: =G91 -> 1783 | X7: =H91 -> 2212 | Y7: =I91 -> 2379 | AG7: Sex Offences Vancouver 2020 | AH7: =Jan_2020!B29 -> 50 | AI7: =Feb_2020!B29 -> 47 | AJ7: =Mar_2020!B28 -> 42 | AK7: =Apr_2020!B29 -> 38 | AL7: =May_2020!B29 -> 34 | AM7: =Jun_2020!B29 -> 60 | AN7: =Jul_2020!B29 -> 42 | AO7: =Aug_2020!B29 -> 48
A8: Dunbar - Southlands | B8: =Jan_2020!C7 -> 1 | C8: =Feb_2020!C7 -> 2 | D8: =Mar_2020!C7 -> 1 | E8: =Apr_2020!C7 -> 4 | F8: =May_2020!C7 -> 2 | G8: =Jun_2020!C7 -> 2 | H8: =Jul_2020!C7 -> 2 | I8: =Aug_2020!C7 -> 0
A9: Fairview | B9: =Jan_2020!C8 -> 10 | C9: =Feb_2020!C8 -> 6 | D9: =Mar_2020!C8 -> 5 | E9: =Apr_2020!C8 -> 9 | F9: =May_2020!C8 -> 9 | G9: =Jun_2020!C8 -> 7 | H9: =Jul_2020!C8 -> 10 | I9: =Aug_2020!C8 -> 11 | R9: Jan | S9: Feb | T9: Mar | U9: Apr | V9: May | W9: Jun | X9: Jul | Y9: Aug | Z9: Sep | AA9: Oct | AB9: Nov | AC9: Dec
A10: Grandview - Woodland | B10: =Jan_2020!C9 -> 21 | C10: =Feb_2020!C9 -> 26 | D10: =Mar_2020!C9 -> 20 | E10: =Apr_2020!C9 -> 25 | F10: =May_2020!C9 -> 22 | G10: =Jun_2020!C9 -> 27 | H10: =Jul_2020!C9 -> 33 | I10: =Aug_2020!C9 -> 27 | Q10: Assaults CBD 2019 | R10: =B37 -> 128 | S10: =C37 -> 118 | T10: =D37 -> 146 | U10: =E37 -> 136 | V10: =F37 -> 166 | W10: =G37 -> 140 | X10: =H37 -> 170 | Y10: =I37 -> 183 | ... AC10: =M37 -> 152 | AH10: =Aug_2020!B4 -> Sex Offences | AI10: =Aug_2020!C4 -> Assaults | AJ10: =Aug_2020!D4 -> Robbery | AK10: =Aug_2020!E4 -> B&E | AL10: =Aug_2020!F4 -> Theft of MV | AM10: =Aug_2020!G4 -> Theft from Auto | AN10: =Aug_2020!H4 -> Theft<>$5K | AO10: =Aug_2020!I4 -> Arson | ... AQ10: =Aug_2020!K4 -> Offensive Weapons
A11: Hastings - Sunrise | B11: =Jan_2020!C10 -> 12 | C11: =Feb_2020!C10 -> 11 | D11: =Mar_2020!C10 -> 9 | E11: =Apr_2020!C10 -> 7 | F11: =May_2020!C10 -> 13 | G11: =Jun_2020!C10 -> 12 | H11: =Jul_2020!C10 -> 11 | I11: =Aug_2020!C10 -> 12 | Q11: Assaults CBD 2020 | R11: =B7 -> 162 | S11: =C7 -> 143 | T11: =D7 -> 172 | U11: =E7 -> 111 | V11: =F7 -> 130 | W11: =G7 -> 135 | X11: =H7 -> 144 | Y11: =I7 -> 160 | AG11: Prior 6 months | AH11: =AH13/AH15-1 -> 0.039370079 | AI11: =AI13/AI15-1 -> 0.016049933 | AJ11: =AJ13/AJ15-1 -> 0.04467354 | AK11: =AK13/AK15-1 -> -0.12089498 | AL11: =AL13/AL15-1 -> -0.36550633 | AM11: =AM13/AM15-1 -> -0.46562462 | AN11: =AN13/AN15-1 -> -0.33180638 | AO11: =AO13/AO15-1 -> 0.71052632 | ... AQ11: =AQ13/AQ15-1 -> 0.1184739
A12: Kensington - Cedar Cottage | B12: =Jan_2020!C11 -> 16 | C12: =Feb_2020!C11 -> 9 | D12: =Mar_2020!C11 -> 10 | E12: =Apr_2020!C11 -> 8 | F12: =May_2020!C11 -> 17 | G12: =Jun_2020!C11 -> 8 | H12: =Jul_2020!C11 -> 15 | I12: =Aug_2020!C11 -> 13 | Q12: Assaults Strathcona 2019 | R12: =B55 -> 44 | S12: =C55 -> 49 | T12: =D55 -> 57 | U12: =E55 -> 58 | V12: =F55 -> 61 | W12: =G55 -> 70 | X12: =H55 -> 65 | Y12: =I55 -> 82 | ... AC12: =M55 -> 61 | AG12: YoY Same 6 months | AH12: =AH13/AH14-1 -> -0.046931408 | AI12: =AI13/AI14-1 -> -0.034322034 | AJ12: =AJ13/AJ14-1 -> -0.044025157 | AK12: =AK13/AK14-1 -> 0.16722568 | AL12: =AL13/AL14-1 -> -0.43441467 | AM12: =AM13/AM14-1 -> -0.4581476 | AN12: =AN13/AN14-1 -> -0.35609182 | AO12: =AO13/AO14-1 -> 0.53543307 | ... AQ12: =AQ13/AQ14-1 -> 0.056925996
A13: Kerrisdale | B13: =Jan_2020!C12 -> 1 | C13: =Feb_2020!C12 -> 1 | D13: =Mar_2020!C12 -> 1 | E13: =Apr_2020!C12 -> 4 | F13: =May_2020!C12 -> 4 | G13: =Jun_2020!C12 -> 2 | H13: =Jul_2020!C12 -> 3 | I13: =Aug_2020!C12 -> 2 | Q13: Assaults Strathcona 2020 | R13: =B25 -> 69 | S13: =C25 -> 65 | T13: =D25 -> 54 | U13: =E25 -> 66 | V13: =F25 -> 74 | W13: =G25 -> 66 | X13: =H25 -> 66 | Y13: =I25 -> 61 | AG13: Mar-Aug 2020 | AH13: =Mar_2020!B28+Apr_2020!B29+May_2020!B29+Jun_2020!B29+Jul_2020!B29+Aug_2020!B29 -> 264 | AI13: =Mar_2020!C28+Apr_2020!C29+May_2020!C29+Jun_2020!C29+Jul_2020!C29+Aug_2020!C29 -> 2279 | AJ13: =Mar_2020!D28+Apr_2020!D29+May_2020!D29+Jun_2020!D29+Jul_2020!D29+Aug_2020!D29 -> 304 | AK13: =Mar_2020!E28+Apr_2020!E29+May_2020!E29+Jun_2020!E29+Jul_2020!E29+Aug_2020!E29 -> 2436 | AL13: =Mar_2020!F28+Apr_2020!F29+May_2020!F29+Jun_2020!F29+Jul_2020!F29+Aug_2020!F29 -> 401 | AM13: =Mar_2020!G28+Apr_2020!G29+May_2020!G29+Jun_2020!G29+Jul_2020!G29+Aug_2020!G29 -> 4376 | AN13: =Mar_2020!H28+Apr_2020!H29+May_2020!H29+Jun_2020!H29+Jul_2020!H29+Aug_2020!H29 -> 4376 | AO13: =Mar_2020!I28+Apr_2020!I29+May_2020!I29+Jun_2020!I29+Jul_2020!I29+Aug_2020!I29 -> 195 | ... AQ13: =Mar_2020!K28+Apr_2020!K29+May_2020!K29+Jun_2020!K29+Jul_2020!K29+Aug_2020!K29 -> 557
A14: Killarney | B14: =Jan_2020!C13 -> 4 | C14: =Feb_2020!C13 -> 4 | D14: =Mar_2020!C13 -> 2 | E14: =Apr_2020!C13 -> 1 | F14: =May_2020!C13 -> 7 | G14: =Jun_2020!C13 -> 4 | H14: =Jul_2020!C13 -> 2 | I14: =Aug_2020!C13 -> 5 | AG14: Mar-Aug 2019 | AH14: =Mar_2019!B28+Apr_2019!B28+May_2019!B28+Jun_2019!B28+Jul_2019!B28+Aug_2019!B28 -> 277 | AI14: =Mar_2019!C28+Apr_2019!C28+May_2019!C28+Jun_2019!C28+Jul_2019!C28+Aug_2019!C28 -> 2360 | AJ14: =Mar_2019!D28+Apr_2019!D28+May_2019!D28+Jun_2019!D28+Jul_2019!D28+Aug_2019!D28 -> 318 | AK14: =Mar_2019!E28+Apr_2019!E28+May_2019!E28+Jun_2019!E28+Jul_2019!E28+Aug_2019!E28 -> 2087 | AL14: =Mar_2019!F28+Apr_2019!F28+May_2019!F28+Jun_2019!F28+Jul_2019!F28+Aug_2019!F28 -> 709 | AM14: =Mar_2019!G28+Apr_2019!G28+May_2019!G28+Jun_2019!G28+Jul_2019!G28+Aug_2019!G28 -> 8076 | AN14: =Mar_2019!H28+Apr_2019!H28+May_2019!H28+Jun_2019!H28+Jul_2019!H28+Aug_2019!H28 -> 6796 | AO14: =Mar_2019!I28+Apr_2019!I28+May_2019!I28+Jun_2019!I28+Jul_2019!I28+Aug_2019!I28 -> 127 | ... AQ14: =Mar_2019!K28+Apr_2019!K28+May_2019!K28+Jun_2019!K28+Jul_2019!K28+Aug_2019!K28 -> 527
A15: Kitsilano | B15: =Jan_2020!C14 -> 5 | C15: =Feb_2020!C14 -> 5 | D15: =Mar_2020!C14 -> 9 | E15: =Apr_2020!C14 -> 8 | F15: =May_2020!C14 -> 9 | G15: =Jun_2020!C14 -> 11 | H15: =Jul_2020!C14 -> 7 | I15: =Aug_2020!C14 -> 8 | R15: Jan | S15: Feb | T15: Mar | U15: Apr | V15: May | W15: Jun | X15: Jul | Y15: Aug | Z15: Sep | AA15: Oct | AB15: Nov | AC15: Dec | AG15: Sep-Feb 2019-20 | AH15: =Sep_2019!B28+Oct_2019!B28+Nov_2019!B28+Dec_2019!B28+Jan_2020!B29+Feb_2020!B29 -> 254 | AI15: =Sep_2019!C28+Oct_2019!C28+Nov_2019!C28+Dec_2019!C28+Jan_2020!C29+Feb_2020!C29 -> 2243 | AJ15: =Sep_2019!D28+Oct_2019!D28+Nov_2019!D28+Dec_2019!D28+Jan_2020!D29+Feb_2020!D29 -> 291 | AK15: =Sep_2019!E28+Oct_2019!E28+Nov_2019!E28+Dec_2019!E28+Jan_2020!E29+Feb_2020!E29 -> 2771 | AL15: =Sep_2019!F28+Oct_2019!F28+Nov_2019!F28+Dec_2019!F28+Jan_2020!F29+Feb_2020!F29 -> 632 | AM15: =Sep_2019!G28+Oct_2019!G28+Nov_2019!G28+Dec_2019!G28+Jan_2020!G29+Feb_2020!G29 -> 8189 | AN15: =Sep_2019!H28+Oct_2019!H28+Nov_2019!H28+Dec_2019!H28+Jan_2020!H29+Feb_2020!H29 -> 6549 | AO15: =Sep_2019!I28+Oct_2019!I28+Nov_2019!I28+Dec_2019!I28+Jan_2020!I29+Feb_2020!I29 -> 114 | ... AQ15: =Sep_2019!K28+Oct_2019!K28+Nov_2019!K28+Dec_2019!K28+Jan_2020!K29+Feb_2020!K29 -> 498
A16: Marpole | B16: =Jan_2020!C15 -> 6 | C16: =Feb_2020!C15 -> 6 | D16: =Mar_2020!C15 -> 4 | E16: =Apr_2020!C15 -> 6 | F16: =May_2020!C15 -> 4 | G16: =Jun_2020!C15 -> 8 | H16: =Jul_2020!C15 -> 4 | I16: =Aug_2020!C15 -> 7 | Q16: B&E, Thefts, Mischief CBD 2019 | R16: =B98 -> 1124 | S16: =C98 -> 909 | T16: =D98 -> 1040 | U16: =E98 -> 1024 | V16: =F98 -> 1115 | W16: =G98 -> 997 | X16: =H98 -> 1205 | Y16: =I98 -> 1212 | ... AC16: =M98 -> 1102
A17: Mount Pleasant | B17: =Jan_2020!C16 -> 26 | C17: =Feb_2020!C16 -> 20 | D17: =Mar_2020!C16 -> 29 | E17: =Apr_2020!C16 -> 25 | F17: =May_2020!C16 -> 18 | G17: =Jun_2020!C16 -> 15 | H17: =Jul_2020!C16 -> 13 | I17: =Aug_2020!C16 -> 20 | Q17: B&E, Thefts, Mischief CBD 2020 | R17: =B68 -> 1159 | S17: =C68 -> 1123 | T17: =D68 -> 888 | U17: =E68 -> 599 | V17: =F68 -> 418 | W17: =G68 -> 428 | X17: =H68 -> 539 | Y17: =I68 -> 648
A18: Musqueam | B18: =Jan_2020!C17 -> 1 | C18: =Feb_2020!C17 -> 2 | E18: =Apr_2020!C17 -> 1 | F18: =May_2020!C17 -> 1 | G18: =Jun_2020!C17 -> 1 | H18: =Jul_2020!C17 -> 1 | I18: =Aug_2020!C17 -> 0 | Q18: B&E, Thefts, Mischief Strathcona 2019 | R18: =B116 -> 175 | S18: =C116 -> 128 | T18: =D116 -> 140 | U18: =E116 -> 205 | V18: =F116 -> 179 | W18: =G116 -> 248 | X18: =H116 -> 240 | Y18: =I116 -> 197 | ... AC18: =M116 -> 142
A19: Oakridge | B19: =Jan_2020!C18 -> 2 | C19: =Feb_2020!C18 -> 3 | D19: =Mar_2020!C17 -> 4 | E19: =Apr_2020!C18 -> 2 | F19: =May_2020!C18 -> 1 | G19: =Jun_2020!C18 -> 1 | H19: =Jul_2020!C18 -> 6 | I19: =Aug_2020!C18 -> 4 | Q19: B&E, Thefts, Mischief Strathcona 2020 | R19: =B86 -> 163 | S19: =C86 -> 190 | T19: =D86 -> 223 | U19: =E86 -> 172 | V19: =F86 -> 119 | W19: =G86 -> 117 | X19: =H86 -> 160 | Y19: =I86 -> 155
A20: Renfrew - Collingwood | B20: =Jan_2020!C19 -> 4 | C20: =Feb_2020!C19 -> 9 | D20: =Mar_2020!C18 -> 13 | E20: =Apr_2020!C19 -> 12 | F20: =May_2020!C19 -> 13 | G20: =Jun_2020!C19 -> 17 | H20: =Jul_2020!C19 -> 9 | I20: =Aug_2020!C19 -> 11
A21: Riley Park | B21: =Jan_2020!C20 -> 4 | C21: =Feb_2020!C20 -> 4 | D21: =Mar_2020!C19 -> 3 | E21: =Apr_2020!C20 -> 5 | F21: =May_2020!C20 -> 4 | G21: =Jun_2020!C20 -> 2 | H21: =Jul_2020!C20 -> 4 | I21: =Aug_2020!C20 -> 3
A22: Shaughnessy | B22: =Jan_2020!C21 -> 1 | C22: =Feb_2020!C21 -> 1 | D22: =Mar_2020!C20 -> 0 | E22: =Apr_2020!C21 -> 1 | F22: =May_2020!C21 -> 0 | G22: =Jun_2020!C21 -> 1 | H22: =Jul_2020!C21 -> 0 | I22: =Aug_2020!C21 -> 1
A23: South Cambie | B23: =Jan_2020!C22 -> 2 | C23: =Feb_2020!C22 -> 4 | D23: =Mar_2020!C21 -> 6 | E23: =Apr_2020!C22 -> 2 | F23: =May_2020!C22 -> 3 | G23: =Jun_2020!C22 -> 5 | H23: =Jul_2020!C22 -> 3 | I23: =Aug_2020!C22 -> 1
A24: Stanley Park | B24: =Jan_2020!C23 -> 1 | C24: =Feb_2020!C23 -> 0 | D24: =Mar_2020!C22 -> 1 | E24: =Apr_2020!C23 -> 4 | F24: =May_2020!C23 -> 2 | G24: =Jun_2020!C23 -> 1 | H24: =Jul_2020!C23 -> 2 | I24: =Aug_2020!C23 -> 1
A25: Strathcona | B25: =Jan_2020!C24 -> 69 | C25: =Feb_2020!C24 -> 65 | D25: =Mar_2020!C23 -> 54 | E25: =Apr_2020!C24 -> 66 | F25: =May_2020!C24 -> 74 | G25: =Jun_2020!C24 -> 66 | H25: =Jul_2020!C24 -> 66 | I25: =Aug_2020!C24 -> 61
A26: Sunset | B26: =Jan_2020!C25 -> 7 | C26: =Feb_2020!C25 -> 4 | D26: =Mar_2020!C24 -> 8 | E26: =Apr_2020!C25 -> 6 | F26: =May_2020!C25 -> 11 | G26: =Jun_2020!C25 -> 6 | H26: =Jul_2020!C25 -> 7 | I26: =Aug_2020!C25 -> 13
A27: Victoria - Fraserview | B27: =Jan_2020!C26 -> 11 | C27: =Feb_2020!C26 -> 6 | D27: =Mar_2020!C25 -> 1 | E27: =Apr_2020!C26 -> 6 | F27: =May_2020!C26 -> 2 | G27: =Jun_2020!C26 -> 3 | H27: =Jul_2020!C26 -> 0 | I27: =Aug_2020!C26 -> 9
A28: West End | B28: =Jan_2020!C27 -> 38 | C28: =Feb_2020!C27 -> 20 | D28: =Mar_2020!C26 -> 27 | E28: =Apr_2020!C27 -> 25 | F28: =May_2020!C27 -> 43 | G28: =Jun_2020!C27 -> 37 | H28: =Jul_2020!C27 -> 36 | I28: =Aug_2020!C27 -> 33
A29: West Point Grey | B29: =Jan_2020!C28 -> 0 | C29: =Feb_2020!C28 -> 1 | D29: =Mar_2020!C27 -> 1 | E29: =Apr_2020!C28 -> 1 | F29: =May_2020!C28 -> 3 | G29: =Jun_2020!C28 -> 2 | H29: =Jul_2020!C28 -> 3 | I29: =Aug_2020!C28 -> 1
A30: GRAND TOTAL | B30: =Jan_2020!C29 -> 405 | C30: =Feb_2020!C29 -> 352 | D30: =Mar_2020!C28 -> 382 | E30: =Apr_2020!C29 -> 339 | F30: =May_2020!C29 -> 395 | G30: =Jun_2020!C29 -> 376 | H30: =Jul_2020!C29 -> 382 | I30: =Aug_2020!C29 -> 405
B33: 2019
B34: Jan | C34: Feb | D34: Mar | E34: Apr | F34: May | G34: Jun | H34: Jul | I34: Aug | J34: Sep | K34: Oct | L34: Nov | M34: Dec
A35: Neighbourhood | B35: =Jan_2019!C3 -> Assaults | C35: =Feb_2019!C3 -> Assaults | D35: =Mar_2019!C3 -> Assaults | E35: =Apr_2019!C3 -> Assaults | F35: =May_2019!C3 -> Assaults | G35: =Jun_2019!C3 -> Assaults | H35: =Jul_2019!C3 -> Assaults | I35: =Aug_2019!C3 -> Assaults | J35: =Sep_2019!C3 -> Assaults | K35: =Oct_2019!C3 -> Assaults | L35: =Nov_2019!C3 -> Assaults | M35: =Dec_2019!C3 -> Assaults
A36: Arbutus Ridge | B36: =Jan_2019!C4 -> 1 | C36: =Feb_2019!C4 -> 1 | D36: =Mar_2019!C4 -> 1 | E36: =Apr_2019!C4 -> 0 | F36: =May_2019!C4 -> 1 | G36: =Jun_2019!C4 -> 2 | H36: =Jul_2019!C4 -> 4 | I36: =Aug_2019!C4 -> 3 | J36: =Sep_2019!C4 -> 2 | K36: =Oct_2019!C4 -> 0 | L36: =Nov_2019!C4 -> 0 | M36: =Dec_2019!C4 -> 1
A37: Central Business District | B37: =Jan_2019!C5 -> 128 | C37: =Feb_2019!C5 -> 118 | D37: =Mar_2019!C5 -> 146 | E37: =Apr_2019!C5 -> 136 | F37: =May_2019!C5 -> 166 | G37: =Jun_2019!C5 -> 140 | H37: =Jul_2019!C5 -> 170 | I37: =Aug_2019!C5 -> 183 | J37: =Sep_2019!C5 -> 157 | K37: =Oct_2019!C5 -> 134 | L37: =Nov_2019!C5 -> 154 | M37: =Dec_2019!C5 -> 152
A38: Dunbar - Southlands | B38: =Jan_2019!C6 -> 0 | C38: =Feb_2019!C6 -> 1 | D38: =Mar_2019!C6 -> 0 | E38: =Apr_2019!C6 -> 2 | F38: =May_2019!C6 -> 2 | G38: =Jun_2019!C6 -> 1 | H38: =Jul_2019!C6 -> 2 | I38: =Aug_2019!C6 -> 1 | J38: =Sep_2019!C6 -> 1 | K38: =Oct_2019!C6 -> 1 | L38: =Nov_2019!C6 -> 2 | M38: =Dec_2019!C6 -> 1
A39: Fairview | B39: =Jan_2019!C7 -> 10 | C39: =Feb_2019!C7 -> 6 | D39: =Mar_2019!C7 -> 14 | E39: =Apr_2019!C7 -> 13 | F39: =May_2019!C7 -> 6 | G39: =Jun_2019!C7 -> 10 | H39: =Jul_2019!C7 -> 9 | I39: =Aug_2019!C7 -> 11 | J39: =Sep_2019!C7 -> 3 | K39: =Oct_2019!C7 -> 7 | L39: =Nov_2019!C7 -> 12 | M39: =Dec_2019!C7 -> 15
A40: Grandview - Woodland | B40: =Jan_2019!C8 -> 13 | C40: =Feb_2019!C8 -> 12 | D40: =Mar_2019!C8 -> 27 | E40: =Apr_2019!C8 -> 13 | F40: =May_2019!C8 -> 19 | G40: =Jun_2019!C8 -> 18 | H40: =Jul_2019!C8 -> 24 | I40: =Aug_2019!C8 -> 23 | J40: =Sep_2019!C8 -> 20 | K40: =Oct_2019!C8 -> 27 | L40: =Nov_2019!C8 -> 16 | M40: =Dec_2019!C8 -> 20
A41: Hastings - Sunrise | B41: =Jan_2019!C9 -> 6 | C41: =Feb_2019!C9 -> 13 | D41: =Mar_2019!C9 -> 2 | E41: =Apr_2019!C9 -> 4 | F41: =May_2019!C9 -> 15 | G41: =Jun_2019!C9 -> 13 | H41: =Jul_2019!C9 -> 13 | I41: =Aug_2019!C9 -> 10 | J41: =Sep_2019!C9 -> 14 | K41: =Oct_2019!C9 -> 7 | L41: =Nov_2019!C9 -> 13 | M41: =Dec_2019!C9 -> 6
A42: Kensington - Cedar Cottage | B42: =Jan_2019!C10 -> 9 | C42: =Feb_2019!C10 -> 5 | D42: =Mar_2019!C10 -> 6 | E42: =Apr_2019!C10 -> 17 | F42: =May_2019!C10 -> 16 | G42: =Jun_2019!C10 -> 8 | H42: =Jul_2019!C10 -> 17 | I42: =Aug_2019!C10 -> 14 | J42: =Sep_2019!C10 -> 11 | K42: =Oct_2019!C10 -> 24 | L42: =Nov_2019!C10 -> 17 | M42: =Dec_2019!C10 -> 13
A43: Kerrisdale | B43: =Jan_2019!C11 -> 2 | C43: =Feb_2019!C11 -> 2 | D43: =Mar_2019!C11 -> 1 | E43: =Apr_2019!C11 -> 3 | F43: =May_2019!C11 -> 2 | G43: =Jun_2019!C11 -> 0 | H43: =Jul_2019!C11 -> 3 | I43: =Aug_2019!C11 -> 1 | J43: =Sep_2019!C11 -> 1 | K43: =Oct_2019!C11 -> 4 | L43: =Nov_2019!C11 -> 1 | M43: =Dec_2019!C11 -> 0
A44: Killarney | B44: =Jan_2019!C12 -> 2 | C44: =Feb_2019!C12 -> 4 | D44: =Mar_2019!C12 -> 5 | E44: =Apr_2019!C12 -> 2 | F44: =May_2019!C12 -> 10 | G44: =Jun_2019!C12 -> 6 | H44: =Jul_2019!C12 -> 2 | I44: =Aug_2019!C12 -> 2 | J44: =Sep_2019!C12 -> 5 | K44: =Oct_2019!C12 -> 4 | L44: =Nov_2019!C12 -> 3 | M44: =Dec_2019!C12 -> 5
A45: Kitsilano | B45: =Jan_2019!C13 -> 7 | C45: =Feb_2019!C13 -> 5 | D45: =Mar_2019!C13 -> 8 | E45: =Apr_2019!C13 -> 6 | F45: =May_2019!C13 -> 10 | G45: =Jun_2019!C13 -> 4 | H45: =Jul_2019!C13 -> 10 | I45: =Aug_2019!C13 -> 11 | J45: =Sep_2019!C13 -> 7 | K45: =Oct_2019!C13 -> 6 | L45: =Nov_2019!C13 -> 10 | M45: =Dec_2019!C13 -> 8
A46: Marpole | B46: =Jan_2019!C14 -> 6 | C46: =Feb_2019!C14 -> 8 | D46: =Mar_2019!C14 -> 8 | E46: =Apr_2019!C14 -> 7 | F46: =May_2019!C14 -> 6 | G46: =Jun_2019!C14 -> 11 | H46: =Jul_2019!C14 -> 5 | I46: =Aug_2019!C14 -> 6 | J46: =Sep_2019!C14 -> 4 | K46: =Oct_2019!C14 -> 6 | L46: =Nov_2019!C14 -> 5 | M46: =Dec_2019!C14 -> 6
... A60: GRAND TOTAL | B60: =Jan_2019!C28 -> 304 | C60: =Feb_2019!C28 -> 285 | D60: =Mar_2019!C28 -> 359 | E60: =Apr_2019!C28 -> 346 | F60: =May_2019!C28 -> 404 | G60: =Jun_2019!C28 -> 372 | H60: =Jul_2019!C28 -> 417 | I60: =Aug_2019!C28 -> 462 | J60: =Sep_2019!C28 -> 399 | K60: =Oct_2019!C28 -> 338 | L60: =Nov_2019!C28 -> 371 | M60: =Dec_2019!C28 -> 378
B64: 2020
B65: Jan | C65: Feb | D65: Mar | E65: Apr | F65: May | G65: Jun | H65: Jul | I65: Aug | J65: Sep | K65: Oct | L65: Nov | M65: Dec
A66: Neighbourhood | B66: =Jan_2020!E4 -> B&E | C66: =Feb_2020!E4 -> B&E | D66: =Mar_2020!E4 -> B&E | E66: =Apr_2020!E4 -> B&E | F66: =May_2020!E4 -> B&E | G66: =Jun_2020!E4 -> B&E | H66: =Jul_2020!E4 -> B&E | I66: =Aug_2020!E4 -> B&E
A67: Arbutus Ridge | B67: =Jan_2020!E5+Jan_2020!G5+Jan_2020!H5+Jan_2020!J5 -> 28 | C67: =Feb_2020!E5+Feb_2020!G5+Feb_2020!H5+Feb_2020!J5 -> 27 | D67: =Mar_2020!E5+Mar_2020!G5+Mar_2020!H5+Mar_2020!J5 -> 36 | E67: =Apr_2020!E5+Apr_2020!G5+Apr_2020!H5+Apr_2020!J5 -> 32 | F67: =May_2020!E5+May_2020!G5+May_2020!H5+May_2020!J5 -> 17 | G67: =Jun_2020!E5+Jun_2020!G5+Jun_2020!H5+Jun_2020!J5 -> 36 | H67: =Jul_2020!E5+Jul_2020!G5+Jul_2020!H5+Jul_2020!J5 -> 24 | I67: =Aug_2020!E5+Aug_2020!G5+Aug_2020!H5+Aug_2020!J5 -> 29
A68: Central Business District | B68: =Jan_2020!E6+Jan_2020!G6+Jan_2020!H6+Jan_2020!J6 -> 1159 | C68: =Feb_2020!E6+Feb_2020!G6+Feb_2020!H6+Feb_2020!J6 -> 1123 | D68: =Mar_2020!E6+Mar_2020!G6+Mar_2020!H6+Mar_2020!J6 -> 888 | E68: =Apr_2020!E6+Apr_2020!G6+Apr_2020!H6+Apr_2020!J6 -> 599 | F68: =May_2020!E6+May_2020!G6+May_2020!H6+May_2020!J6 -> 418 | G68: =Jun_2020!E6+Jun_2020!G6+Jun_2020!H6+Jun_2020!J6 -> 428 | H68: =Jul_2020!E6+Jul_2020!G6+Jul_2020!H6+Jul_2020!J6 -> 539 | I68: =Aug_2020!E6+Aug_2020!G6+Aug_2020!H6+Aug_2020!J6 -> 648
A69: Dunbar - Southlands | B69: =Jan_2020!E7+Jan_2020!G7+Jan_2020!H7+Jan_2020!J7 -> 46 | C69: =Feb_2020!E7+Feb_2020!G7+Feb_2020!H7+Feb_2020!J7 -> 29 | D69: =Mar_2020!E7+Mar_2020!G7+Mar_2020!H7+Mar_2020!J7 -> 35 | E69: =Apr_2020!E7+Apr_2020!G7+Apr_2020!H7+Apr_2020!J7 -> 46 | F69: =May_2020!E7+May_2020!G7+May_2020!H7+May_2020!J7 -> 33 | G69: =Jun_2020!E7+Jun_2020!G7+Jun_2020!H7+Jun_2020!J7 -> 39 | H69: =Jul_2020!E7+Jul_2020!G7+Jul_2020!H7+Jul_2020!J7 -> 47 | I69: =Aug_2020!E7+Aug_2020!G7+Aug_2020!H7+Aug_2020!J7 -> 36
A70: Fairview | B70: =Jan_2020!E8+Jan_2020!G8+Jan_2020!H8+Jan_2020!J8 -> 166 | C70: =Feb_2020!E8+Feb_2020!G8+Feb_2020!H8+Feb_2020!J8 -> 162 | D70: =Mar_2020!E8+Mar_2020!G8+Mar_2020!H8+Mar_2020!J8 -> 201 | E70: =Apr_2020!E8+Apr_2020!G8+Apr_2020!H8+Apr_2020!J8 -> 165 | F70: =May_2020!E8+May_2020!G8+May_2020!H8+May_2020!J8 -> 121 | G70: =Jun_2020!E8+Jun_2020!G8+Jun_2020!H8+Jun_2020!J8 -> 112 | H70: =Jul_2020!E8+Jul_2020!G8+Jul_2020!H8+Jul_2020!J8 -> 141 | I70: =Aug_2020!E8+Aug_2020!G8+Aug_2020!H8+Aug_2020!J8 -> 156
A71: Grandview - Woodland | B71: =Jan_2020!E9+Jan_2020!G9+Jan_2020!H9+Jan_2020!J9 -> 133 | C71: =Feb_2020!E9+Feb_2020!G9+Feb_2020!H9+Feb_2020!J9 -> 145 | D71: =Mar_2020!E9+Mar_2020!G9+Mar_2020!H9+Mar_2020!J9 -> 138 | E71: =Apr_2020!E9+Apr_2020!G9+Apr_2020!H9+Apr_2020!J9 -> 144 | F71: =May_2020!E9+May_2020!G9+May_2020!H9+May_2020!J9 -> 102 | G71: =Jun_2020!E9+Jun_2020!G9+Jun_2020!H9+Jun_2020!J9 -> 83 | H71: =Jul_2020!E9+Jul_2020!G9+Jul_2020!H9+Jul_2020!J9 -> 97 | I71: =Aug_2020!E9+Aug_2020!G9+Aug_2020!H9+Aug_2020!J9 -> 105
A72: Hastings - Sunrise | B72: =Jan_2020!E10+Jan_2020!G10+Jan_2020!H10+Jan_2020!J10 -> 98 | C72: =Feb_2020!E10+Feb_2020!G10+Feb_2020!H10+Feb_2020!J10 -> 102 | D72: =Mar_2020!E10+Mar_2020!G10+Mar_2020!H10+Mar_2020!J10 -> 105 | E72: =Apr_2020!E10+Apr_2020!G10+Apr_2020!H10+Apr_2020!J10 -> 90 | F72: =May_2020!E10+May_2020!G10+May_2020!H10+May_2020!J10 -> 91 | G72: =Jun_2020!E10+Jun_2020!G10+Jun_2020!H10+Jun_2020!J10 -> 81 | H72: =Jul_2020!E10+Jul_2020!G10+Jul_2020!H10+Jul_2020!J10 -> 52 | I72: =Aug_2020!E10+Aug_2020!G10+Aug_2020!H10+Aug_2020!J10 -> 101
A73: Kensington - Cedar Cottage | B73: =Jan_2020!E11+Jan_2020!G11+Jan_2020!H11+Jan_2020!J11 -> 119 | C73: =Feb_2020!E11+Feb_2020!G11+Feb_2020!H11+Feb_2020!J11 -> 150 | D73: =Mar_2020!E11+Mar_2020!G11+Mar_2020!H11+Mar_2020!J11 -> 117 | E73: =Apr_2020!E11+Apr_2020!G11+Apr_2020!H11+Apr_2020!J11 -> 131 | F73: =May_2020!E11+May_2020!G11+May_2020!H11+May_2020!J11 -> 101 | G73: =Jun_2020!E11+Jun_2020!G11+Jun_2020!H11+Jun_2020!J11 -> 80 | H73: =Jul_2020!E11+Jul_2020!G11+Jul_2020!H11+Jul_2020!J11 -> 117 | I73: =Aug_2020!E11+Aug_2020!G11+Aug_2020!H11+Aug_2020!J11 -> 111
A74: Kerrisdale | B74: =Jan_2020!E12+Jan_2020!G12+Jan_2020!H12+Jan_2020!J12 -> 35 | C74: =Feb_2020!E12+Feb_2020!G12+Feb_2020!H12+Feb_2020!J12 -> 36 | D74: =Mar_2020!E12+Mar_2020!G12+Mar_2020!H12+Mar_2020!J12 -> 31 | E74: =Apr_2020!E12+Apr_2020!G12+Apr_2020!H12+Apr_2020!J12 -> 35 | F74: =May_2020!E12+May_2020!G12+May_2020!H12+May_2020!J12 -> 31 | G74: =Jun_2020!E12+Jun_2020!G12+Jun_2020!H12+Jun_2020!J12 -> 20 | H74: =Jul_2020!E12+Jul_2020!G12+Jul_2020!H12+Jul_2020!J12 -> 24 | I74: =Aug_2020!E12+Aug_2020!G12+Aug_2020!H12+Aug_2020!J12 -> 34
A75: Killarney | B75: =Jan_2020!E13+Jan_2020!G13+Jan_2020!H13+Jan_2020!J13 -> 41 | C75: =Feb_2020!E13+Feb_2020!G13+Feb_2020!H13+Feb_2020!J13 -> 50 | D75: =Mar_2020!E13+Mar_2020!G13+Mar_2020!H13+Mar_2020!J13 -> 38 | E75: =Apr_2020!E13+Apr_2020!G13+Apr_2020!H13+Apr_2020!J13 -> 37 | F75: =May_2020!E13+May_2020!G13+May_2020!H13+May_2020!J13 -> 24 | G75: =Jun_2020!E13+Jun_2020!G13+Jun_2020!H13+Jun_2020!J13 -> 36 | H75: =Jul_2020!E13+Jul_2020!G13+Jul_2020!H13+Jul_2020!J13 -> 40 | I75: =Aug_2020!E13+Aug_2020!G13+Aug_2020!H13+Aug_2020!J13 -> 46
A76: Kitsilano | B76: =Jan_2020!E14+Jan_2020!G14+Jan_2020!H14+Jan_2020!J14 -> 166 | C76: =Feb_2020!E14+Feb_2020!G14+Feb_2020!H14+Feb_2020!J14 -> 131 | D76: =Mar_2020!E14+Mar_2020!G14+Mar_2020!H14+Mar_2020!J14 -> 142 | E76: =Apr_2020!E14+Apr_2020!G14+Apr_2020!H14+Apr_2020!J14 -> 161 | F76: =May_2020!E14+May_2020!G14+May_2020!H14+May_2020!J14 -> 110 | G76: =Jun_2020!E14+Jun_2020!G14+Jun_2020!H14+Jun_2020!J14 -> 103 | H76: =Jul_2020!E14+Jul_2020!G14+Jul_2020!H14+Jul_2020!J14 -> 152 | I76: =Aug_2020!E14+Aug_2020!G14+Aug_2020!H14+Aug_2020!J14 -> 121
A77: Marpole | B77: =Jan_2020!E15+Jan_2020!G15+Jan_2020!H15+Jan_2020!J15 -> 81 | C77: =Feb_2020!E15+Feb_2020!G15+Feb_2020!H15+Feb_2020!J15 -> 79 | D77: =Mar_2020!E15+Mar_2020!G15+Mar_2020!H15+Mar_2020!J15 -> 65 | E77: =Apr_2020!E15+Apr_2020!G15+Apr_2020!H15+Apr_2020!J15 -> 73 | F77: =May_2020!E15+May_2020!G15+May_2020!H15+May_2020!J15 -> 34 | G77: =Jun_2020!E15+Jun_2020!G15+Jun_2020!H15+Jun_2020!J15 -> 47 | H77: =Jul_2020!E15+Jul_2020!G15+Jul_2020!H15+Jul_2020!J15 -> 56 | I77: =Aug_2020!E15+Aug_2020!G15+Aug_2020!H15+Aug_2020!J15 -> 50
A78: Mount Pleasant | B78: =Jan_2020!E16+Jan_2020!G16+Jan_2020!H16+Jan_2020!J16 -> 214 | C78: =Feb_2020!E16+Feb_2020!G16+Feb_2020!H16+Feb_2020!J16 -> 209 | D78: =Mar_2020!E16+Mar_2020!G16+Mar_2020!H16+Mar_2020!J16 -> 205 | E78: =Apr_2020!E16+Apr_2020!G16+Apr_2020!H16+Apr_2020!J16 -> 181 | F78: =May_2020!E16+May_2020!G16+May_2020!H16+May_2020!J16 -> 156 | G78: =Jun_2020!E16+Jun_2020!G16+Jun_2020!H16+Jun_2020!J16 -> 104 | H78: =Jul_2020!E16+Jul_2020!G16+Jul_2020!H16+Jul_2020!J16 -> 158 | I78: =Aug_2020!E16+Aug_2020!G16+Aug_2020!H16+Aug_2020!J16 -> 149
A79: Musqueam | B79: =Jan_2020!E17+Jan_2020!G17+Jan_2020!H17+Jan_2020!J17 -> 4 | C79: =Feb_2020!E17+Feb_2020!G17+Feb_2020!H17+Feb_2020!J17 -> 2 | E79: =Apr_2020!E17+Apr_2020!G17+Apr_2020!H17+Apr_2020!J17 -> 1 | F79: =May_2020!E17+May_2020!G17+May_2020!H17+May_2020!J17 -> 4 | G79: =Jun_2020!E17+Jun_2020!G17+Jun_2020!H17+Jun_2020!J17 -> 5 | H79: =Jul_2020!E17+Jul_2020!G17+Jul_2020!H17+Jul_2020!J17 -> 0 | I79: =Aug_2020!E17+Aug_2020!G17+Aug_2020!H17+Aug_2020!J17 -> 1
A80: Oakridge | B80: =Jan_2020!E18+Jan_2020!G18+Jan_2020!H18+Jan_2020!J18 -> 48 | C80: =Feb_2020!E18+Feb_2020!G18+Feb_2020!H18+Feb_2020!J18 -> 47 | D80: =Mar_2020!E17+Mar_2020!G17+Mar_2020!H17+Mar_2020!J17 -> 37 | E80: =Apr_2020!E18+Apr_2020!G18+Apr_2020!H18+Apr_2020!J18 -> 31 | F80: =May_2020!E18+May_2020!G18+May_2020!H18+May_2020!J18 -> 22 | G80: =Jun_2020!E18+Jun_2020!G18+Jun_2020!H18+Jun_2020!J18 -> 19 | H80: =Jul_2020!E18+Jul_2020!G18+Jul_2020!H18+Jul_2020!J18 -> 17 | I80: =Aug_2020!E18+Aug_2020!G18+Aug_2020!H18+Aug_2020!J18 -> 21
A81: Renfrew - Collingwood | B81: =Jan_2020!E19+Jan_2020!G19+Jan_2020!H19+Jan_2020!J19 -> 140 | C81: =Feb_2020!E19+Feb_2020!G19+Feb_2020!H19+Feb_2020!J19 -> 129 | D81: =Mar_2020!E18+Mar_2020!G18+Mar_2020!H18+Mar_2020!J18 -> 181 | E81: =Apr_2020!E19+Apr_2020!G19+Apr_2020!H19+Apr_2020!J19 -> 163 | F81: =May_2020!E19+May_2020!G19+May_2020!H19+May_2020!J19 -> 112 | G81: =Jun_2020!E19+Jun_2020!G19+Jun_2020!H19+Jun_2020!J19 -> 113 | H81: =Jul_2020!E19+Jul_2020!G19+Jul_2020!H19+Jul_2020!J19 -> 177 | I81: =Aug_2020!E19+Aug_2020!G19+Aug_2020!H19+Aug_2020!J19 -> 170
A82: Riley Park | B82: =Jan_2020!E20+Jan_2020!G20+Jan_2020!H20+Jan_2020!J20 -> 86 | C82: =Feb_2020!E20+Feb_2020!G20+Feb_2020!H20+Feb_2020!J20 -> 93 | D82: =Mar_2020!E19+Mar_2020!G19+Mar_2020!H19+Mar_2020!J19 -> 66 | E82: =Apr_2020!E20+Apr_2020!G20+Apr_2020!H20+Apr_2020!J20 -> 78 | F82: =May_2020!E20+May_2020!G20+May_2020!H20+May_2020!J20 -> 42 | G82: =Jun_2020!E20+Jun_2020!G20+Jun_2020!H20+Jun_2020!J20 -> 46 | H82: =Jul_2020!E20+Jul_2020!G20+Jul_2020!H20+Jul_2020!J20 -> 40 | I82: =Aug_2020!E20+Aug_2020!G20+Aug_2020!H20+Aug_2020!J20 -> 57
A83: Shaughnessy | B83: =Jan_2020!E21+Jan_2020!G21+Jan_2020!H21+Jan_2020!J21 -> 38 | C83: =Feb_2020!E21+Feb_2020!G21+Feb_2020!H21+Feb_2020!J21 -> 20 | D83: =Mar_2020!E20+Mar_2020!G20+Mar_2020!H20+Mar_2020!J20 -> 31 | E83: =Apr_2020!E21+Apr_2020!G21+Apr_2020!H21+Apr_2020!J21 -> 33 | F83: =May_2020!E21+May_2020!G21+May_2020!H21+May_2020!J21 -> 27 | G83: =Jun_2020!E21+Jun_2020!G21+Jun_2020!H21+Jun_2020!J21 -> 20 | H83: =Jul_2020!E21+Jul_2020!G21+Jul_2020!H21+Jul_2020!J21 -> 38 | I83: =Aug_2020!E21+Aug_2020!G21+Aug_2020!H21+Aug_2020!J21 -> 31
A84: South Cambie | B84: =Jan_2020!E22+Jan_2020!G22+Jan_2020!H22+Jan_2020!J22 -> 29 | C84: =Feb_2020!E22+Feb_2020!G22+Feb_2020!H22+Feb_2020!J22 -> 22 | D84: =Mar_2020!E21+Mar_2020!G21+Mar_2020!H21+Mar_2020!J21 -> 56 | E84: =Apr_2020!E22+Apr_2020!G22+Apr_2020!H22+Apr_2020!J22 -> 42 | F84: =May_2020!E22+May_2020!G22+May_2020!H22+May_2020!J22 -> 36 | G84: =Jun_2020!E22+Jun_2020!G22+Jun_2020!H22+Jun_2020!J22 -> 25 | H84: =Jul_2020!E22+Jul_2020!G22+Jul_2020!H22+Jul_2020!J22 -> 26 | I84: =Aug_2020!E22+Aug_2020!G22+Aug_2020!H22+Aug_2020!J22 -> 36
A85: Stanley Park | B85: =Jan_2020!E23+Jan_2020!G23+Jan_2020!H23+Jan_2020!J23 -> 15 | C85: =Feb_2020!E23+Feb_2020!G23+Feb_2020!H23+Feb_2020!J23 -> 11 | D85: =Mar_2020!E22+Mar_2020!G22+Mar_2020!H22+Mar_2020!J22 -> 5 | E85: =Apr_2020!E23+Apr_2020!G23+Apr_2020!H23+Apr_2020!J23 -> 3 | F85: =May_2020!E23+May_2020!G23+May_2020!H23+May_2020!J23 -> 1 | G85: =Jun_2020!E23+Jun_2020!G23+Jun_2020!H23+Jun_2020!J23 -> 5 | H85: =Jul_2020!E23+Jul_2020!G23+Jul_2020!H23+Jul_2020!J23 -> 3 | I85: =Aug_2020!E23+Aug_2020!G23+Aug_2020!H23+Aug_2020!J23 -> 6
A86: Strathcona | B86: =Jan_2020!E24+Jan_2020!G24+Jan_2020!H24+Jan_2020!J24 -> 163 | C86: =Feb_2020!E24+Feb_2020!G24+Feb_2020!H24+Feb_2020!J24 -> 190 | D86: =Mar_2020!E23+Mar_2020!G23+Mar_2020!H23+Mar_2020!J23 -> 223 | E86: =Apr_2020!E24+Apr_2020!G24+Apr_2020!H24+Apr_2020!J24 -> 172 | F86: =May_2020!E24+May_2020!G24+May_2020!H24+May_2020!J24 -> 119 | G86: =Jun_2020!E24+Jun_2020!G24+Jun_2020!H24+Jun_2020!J24 -> 117 | H86: =Jul_2020!E24+Jul_2020!G24+Jul_2020!H24+Jul_2020!J24 -> 160 | I86: =Aug_2020!E24+Aug_2020!G24+Aug_2020!H24+Aug_2020!J24 -> 155
A87: Sunset | B87: =Jan_2020!E25+Jan_2020!G25+Jan_2020!H25+Jan_2020!J25 -> 123 | C87: =Feb_2020!E25+Feb_2020!G25+Feb_2020!H25+Feb_2020!J25 -> 79 | D87: =Mar_2020!E24+Mar_2020!G24+Mar_2020!H24+Mar_2020!J24 -> 67 | E87: =Apr_2020!E25+Apr_2020!G25+Apr_2020!H25+Apr_2020!J25 -> 87 | F87: =May_2020!E25+May_2020!G25+May_2020!H25+May_2020!J25 -> 43 | G87: =Jun_2020!E25+Jun_2020!G25+Jun_2020!H25+Jun_2020!J25 -> 51 | H87: =Jul_2020!E25+Jul_2020!G25+Jul_2020!H25+Jul_2020!J25 -> 57 | I87: =Aug_2020!E25+Aug_2020!G25+Aug_2020!H25+Aug_2020!J25 -> 62
A88: Victoria - Fraserview | B88: =Jan_2020!E26+Jan_2020!G26+Jan_2020!H26+Jan_2020!J26 -> 58 | C88: =Feb_2020!E26+Feb_2020!G26+Feb_2020!H26+Feb_2020!J26 -> 54 | D88: =Mar_2020!E25+Mar_2020!G25+Mar_2020!H25+Mar_2020!J25 -> 56 | E88: =Apr_2020!E26+Apr_2020!G26+Apr_2020!H26+Apr_2020!J26 -> 40 | F88: =May_2020!E26+May_2020!G26+May_2020!H26+May_2020!J26 -> 31 | G88: =Jun_2020!E26+Jun_2020!G26+Jun_2020!H26+Jun_2020!J26 -> 41 | H88: =Jul_2020!E26+Jul_2020!G26+Jul_2020!H26+Jul_2020!J26 -> 33 | I88: =Aug_2020!E26+Aug_2020!G26+Aug_2020!H26+Aug_2020!J26 -> 35
A89: West End | B89: =Jan_2020!E27+Jan_2020!G27+Jan_2020!H27+Jan_2020!J27 -> 273 | C89: =Feb_2020!E27+Feb_2020!G27+Feb_2020!H27+Feb_2020!J27 -> 269 | D89: =Mar_2020!E26+Mar_2020!G26+Mar_2020!H26+Mar_2020!J26 -> 233 | E89: =Apr_2020!E27+Apr_2020!G27+Apr_2020!H27+Apr_2020!J27 -> 181 | F89: =May_2020!E27+May_2020!G27+May_2020!H27+May_2020!J27 -> 140 | G89: =Jun_2020!E27+Jun_2020!G27+Jun_2020!H27+Jun_2020!J27 -> 143 | H89: =Jul_2020!E27+Jul_2020!G27+Jul_2020!H27+Jul_2020!J27 -> 180 | I89: =Aug_2020!E27+Aug_2020!G27+Aug_2020!H27+Aug_2020!J27 -> 163
A90: West Point Grey | B90: =Jan_2020!E28+Jan_2020!G28+Jan_2020!H28+Jan_2020!J28 -> 16 | C90: =Feb_2020!E28+Feb_2020!G28+Feb_2020!H28+Feb_2020!J28 -> 37 | D90: =Mar_2020!E27+Mar_2020!G27+Mar_2020!H27+Mar_2020!J27 -> 26 | E90: =Apr_2020!E28+Apr_2020!G28+Apr_2020!H28+Apr_2020!J28 -> 23 | F90: =May_2020!E28+May_2020!G28+May_2020!H28+May_2020!J28 -> 38 | G90: =Jun_2020!E28+Jun_2020!G28+Jun_2020!H28+Jun_2020!J28 -> 29 | H90: =Jul_2020!E28+Jul_2020!G28+Jul_2020!H28+Jul_2020!J28 -> 34 | I90: =Aug_2020!E28+Aug_2020!G28+Aug_2020!H28+Aug_2020!J28 -> 56
A91: GRAND TOTAL | B91: =Jan_2020!E29+Jan_2020!G29+Jan_2020!H29+Jan_2020!J29 -> 3279 | C91: =Feb_2020!E29+Feb_2020!G29+Feb_2020!H29+Feb_2020!J29 -> 3196 | D91: =Mar_2020!E28+Mar_2020!G28+Mar_2020!H28+Mar_2020!J28 -> 2982 | E91: =Apr_2020!E29+Apr_2020!G29+Apr_2020!H29+Apr_2020!J29 -> 2548 | F91: =May_2020!E29+May_2020!G29+May_2020!H29+May_2020!J29 -> 1853 | G91: =Jun_2020!E29+Jun_2020!G29+Jun_2020!H29+Jun_2020!J29 -> 1783 | H91: =Jul_2020!E29+Jul_2020!G29+Jul_2020!H29+Jul_2020!J29 -> 2212 | I91: =Aug_2020!E29+Aug_2020!G29+Aug_2020!H29+Aug_2020!J29 -> 2379
B94: 2019
B95: Jan | C95: Feb | D95: Mar | E95: Apr | F95: May | G95: Jun | H95: Jul | I95: Aug | J95: Sep | K95: Oct | L95: Nov | M95: Dec
A96: Neighbourhood | B96: =Jan_2019!E3 -> B&E | C96: =Feb_2019!E3 -> B&E | D96: =Mar_2019!E3 -> B&E | E96: =Apr_2019!E3 -> B&E | F96: =May_2019!E3 -> B&E | G96: =Jun_2019!E3 -> B&E | H96: =Jul_2019!E3 -> B&E | I96: =Aug_2019!E3 -> B&E | J96: =Sep_2019!$E3 -> B&E | K96: =Oct_2019!$E3 -> B&E | L96: =Nov_2019!$E3 -> B&E | M96: =Dec_2019!$E3 -> B&E
A97: Arbutus Ridge | B97: =Jan_2019!E4+Jan_2019!G4+Jan_2019!H4+Jan_2019!J4 -> 21 | C97: =Feb_2019!E4+Feb_2019!G4+Feb_2019!H4+Feb_2019!J4 -> 24 | D97: =Mar_2019!E4+Mar_2019!G4+Mar_2019!H4+Mar_2019!J4 -> 24 | E97: =Apr_2019!E4+Apr_2019!G4+Apr_2019!H4+Apr_2019!J4 -> 22 | F97: =May_2019!E4+May_2019!G4+May_2019!H4+May_2019!J4 -> 21 | G97: =Jun_2019!E4+Jun_2019!G4+Jun_2019!H4+Jun_2019!J4 -> 24 | H97: =Jul_2019!E4+Jul_2019!G4+Jul_2019!H4+Jul_2019!J4 -> 22 | I97: =Aug_2019!E4+Aug_2019!G4+Aug_2019!H4+Aug_2019!J4 -> 41 | J97: =Sep_2019!$E4+Sep_2019!$G4+Sep_2019!$H4+Sep_2019!$J4 -> 27 | K97: =Oct_2019!$E4+Oct_2019!$G4+Oct_2019!$H4+Oct_2019!$J4 -> 26 | L97: =Nov_2019!$E4+Nov_2019!$G4+Nov_2019!$H4+Nov_2019!$J4 -> 27 | M97: =Dec_2019!$E4+Dec_2019!$G4+Dec_2019!$H4+Dec_2019!$J4 -> 14
A98: Central Business District | B98: =Jan_2019!E5+Jan_2019!G5+Jan_2019!H5+Jan_2019!J5 -> 1124 | C98: =Feb_2019!E5+Feb_2019!G5+Feb_2019!H5+Feb_2019!J5 -> 909 | D98: =Mar_2019!E5+Mar_2019!G5+Mar_2019!H5+Mar_2019!J5 -> 1040 | E98: =Apr_2019!E5+Apr_2019!G5+Apr_2019!H5+Apr_2019!J5 -> 1024 | F98: =May_2019!E5+May_2019!G5+May_2019!H5+May_2019!J5 -> 1115 | G98: =Jun_2019!E5+Jun_2019!G5+Jun_2019!H5+Jun_2019!J5 -> 997 | H98: =Jul_2019!E5+Jul_2019!G5+Jul_2019!H5+Jul_2019!J5 -> 1205 | I98: =Aug_2019!E5+Aug_2019!G5+Aug_2019!H5+Aug_2019!J5 -> 1212 | J98: =Sep_2019!$E5+Sep_2019!$G5+Sep_2019!$H5+Sep_2019!$J5 -> 1193 | K98: =Oct_2019!$E5+Oct_2019!$G5+Oct_2019!$H5+Oct_2019!$J5 -> 1205 | L98: =Nov_2019!$E5+Nov_2019!$G5+Nov_2019!$H5+Nov_2019!$J5 -> 1202 | M98: =Dec_2019!$E5+Dec_2019!$G5+Dec_2019!$H5+Dec_2019!$J5 -> 1102
A99: Dunbar - Southlands | B99: =Jan_2019!E6+Jan_2019!G6+Jan_2019!H6+Jan_2019!J6 -> 25 | C99: =Feb_2019!E6+Feb_2019!G6+Feb_2019!H6+Feb_2019!J6 -> 24 | D99: =Mar_2019!E6+Mar_2019!G6+Mar_2019!H6+Mar_2019!J6 -> 32 | E99: =Apr_2019!E6+Apr_2019!G6+Apr_2019!H6+Apr_2019!J6 -> 21 | F99: =May_2019!E6+May_2019!G6+May_2019!H6+May_2019!J6 -> 24 | G99: =Jun_2019!E6+Jun_2019!G6+Jun_2019!H6+Jun_2019!J6 -> 24 | H99: =Jul_2019!E6+Jul_2019!G6+Jul_2019!H6+Jul_2019!J6 -> 38 | I99: =Aug_2019!E6+Aug_2019!G6+Aug_2019!H6+Aug_2019!J6 -> 49 | J99: =Sep_2019!$E6+Sep_2019!$G6+Sep_2019!$H6+Sep_2019!$J6 -> 46 | K99: =Oct_2019!$E6+Oct_2019!$G6+Oct_2019!$H6+Oct_2019!$J6 -> 40 | L99: =Nov_2019!$E6+Nov_2019!$G6+Nov_2019!$H6+Nov_2019!$J6 -> 41 | M99: =Dec_2019!$E6+Dec_2019!$G6+Dec_2019!$H6+Dec_2019!$J6 -> 47
A100: Fairview | B100: =Jan_2019!E7+Jan_2019!G7+Jan_2019!H7+Jan_2019!J7 -> 176 | C100: =Feb_2019!E7+Feb_2019!G7+Feb_2019!H7+Feb_2019!J7 -> 137 | D100: =Mar_2019!E7+Mar_2019!G7+Mar_2019!H7+Mar_2019!J7 -> 209 | E100: =Apr_2019!E7+Apr_2019!G7+Apr_2019!H7+Apr_2019!J7 -> 195 | F100: =May_2019!E7+May_2019!G7+May_2019!H7+May_2019!J7 -> 207 | G100: =Jun_2019!E7+Jun_2019!G7+Jun_2019!H7+Jun_2019!J7 -> 173 | H100: =Jul_2019!E7+Jul_2019!G7+Jul_2019!H7+Jul_2019!J7 -> 179 | I100: =Aug_2019!E7+Aug_2019!G7+Aug_2019!H7+Aug_2019!J7 -> 212 | J100: =Sep_2019!$E7+Sep_2019!$G7+Sep_2019!$H7+Sep_2019!$J7 -> 219 | K100: =Oct_2019!$E7+Oct_2019!$G7+Oct_2019!$H7+Oct_2019!$J7 -> 223 | L100: =Nov_2019!$E7+Nov_2019!$G7+Nov_2019!$H7+Nov_2019!$J7 -> 215 | M100: =Dec_2019!$E7+Dec_2019!$G7+Dec_2019!$H7+Dec_2019!$J7 -> 192
A101: Grandview - Woodland | B101: =Jan_2019!E8+Jan_2019!G8+Jan_2019!H8+Jan_2019!J8 -> 169 | C101: =Feb_2019!E8+Feb_2019!G8+Feb_2019!H8+Feb_2019!J8 -> 115 | D101: =Mar_2019!E8+Mar_2019!G8+Mar_2019!H8+Mar_2019!J8 -> 122 | E101: =Apr_2019!E8+Apr_2019!G8+Apr_2019!H8+Apr_2019!J8 -> 143 | F101: =May_2019!E8+May_2019!G8+May_2019!H8+May_2019!J8 -> 146 | G101: =Jun_2019!E8+Jun_2019!G8+Jun_2019!H8+Jun_2019!J8 -> 158 | H101: =Jul_2019!E8+Jul_2019!G8+Jul_2019!H8+Jul_2019!J8 -> 149 | I101: =Aug_2019!E8+Aug_2019!G8+Aug_2019!H8+Aug_2019!J8 -> 191 | J101: =Sep_2019!$E8+Sep_2019!$G8+Sep_2019!$H8+Sep_2019!$J8 -> 167 | K101: =Oct_2019!$E8+Oct_2019!$G8+Oct_2019!$H8+Oct_2019!$J8 -> 182 | L101: =Nov_2019!$E8+Nov_2019!$G8+Nov_2019!$H8+Nov_2019!$J8 -> 136 | M101: =Dec_2019!$E8+Dec_2019!$G8+Dec_2019!$H8+Dec_2019!$J8 -> 143
A102: Hastings - Sunrise | B102: =Jan_2019!E9+Jan_2019!G9+Jan_2019!H9+Jan_2019!J9 -> 143 | C102: =Feb_2019!E9+Feb_2019!G9+Feb_2019!H9+Feb_2019!J9 -> 79 | D102: =Mar_2019!E9+Mar_2019!G9+Mar_2019!H9+Mar_2019!J9 -> 93 | E102: =Apr_2019!E9+Apr_2019!G9+Apr_2019!H9+Apr_2019!J9 -> 100 | F102: =May_2019!E9+May_2019!G9+May_2019!H9+May_2019!J9 -> 113 | G102: =Jun_2019!E9+Jun_2019!G9+Jun_2019!H9+Jun_2019!J9 -> 114 | H102: =Jul_2019!E9+Jul_2019!G9+Jul_2019!H9+Jul_2019!J9 -> 128 | I102: =Aug_2019!E9+Aug_2019!G9+Aug_2019!H9+Aug_2019!J9 -> 117 | J102: =Sep_2019!$E9+Sep_2019!$G9+Sep_2019!$H9+Sep_2019!$J9 -> 129 | K102: =Oct_2019!$E9+Oct_2019!$G9+Oct_2019!$H9+Oct_2019!$J9 -> 116 | L102: =Nov_2019!$E9+Nov_2019!$G9+Nov_2019!$H9+Nov_2019!$J9 -> 104 | M102: =Dec_2019!$E9+Dec_2019!$G9+Dec_2019!$H9+Dec_2019!$J9 -> 84
A103: Kensington - Cedar Cottage | B103: =Jan_2019!E10+Jan_2019!G10+Jan_2019!H10+Jan_2019!J10 -> 122 | C103: =Feb_2019!E10+Feb_2019!G10+Feb_2019!H10+Feb_2019!J10 -> 118 | D103: =Mar_2019!E10+Mar_2019!G10+Mar_2019!H10+Mar_2019!J10 -> 95 | E103: =Apr_2019!E10+Apr_2019!G10+Apr_2019!H10+Apr_2019!J10 -> 105 | F103: =May_2019!E10+May_2019!G10+May_2019!H10+May_2019!J10 -> 157 | G103: =Jun_2019!E10+Jun_2019!G10+Jun_2019!H10+Jun_2019!J10 -> 136 | H103: =Jul_2019!E10+Jul_2019!G10+Jul_2019!H10+Jul_2019!J10 -> 137 | I103: =Aug_2019!E10+Aug_2019!G10+Aug_2019!H10+Aug_2019!J10 -> 109 | J103: =Sep_2019!$E10+Sep_2019!$G10+Sep_2019!$H10+Sep_2019!$J10 -> 167 | K103: =Oct_2019!$E10+Oct_2019!$G10+Oct_2019!$H10+Oct_2019!$J10 -> 160 | L103: =Nov_2019!$E10+Nov_2019!$G10+Nov_2019!$H10+Nov_2019!$J10 -> 136 | M103: =Dec_2019!$E10+Dec_2019!$G10+Dec_2019!$H10+Dec_2019!$J10 -> 111
A104: Kerrisdale | B104: =Jan_2019!E11+Jan_2019!G11+Jan_2019!H11+Jan_2019!J11 -> 42 | C104: =Feb_2019!E11+Feb_2019!G11+Feb_2019!H11+Feb_2019!J11 -> 23 | D104: =Mar_2019!E11+Mar_2019!G11+Mar_2019!H11+Mar_2019!J11 -> 34 | E104: =Apr_2019!E11+Apr_2019!G11+Apr_2019!H11+Apr_2019!J11 -> 27 | F104: =May_2019!E11+May_2019!G11+May_2019!H11+May_2019!J11 -> 32 | G104: =Jun_2019!E11+Jun_2019!G11+Jun_2019!H11+Jun_2019!J11 -> 24 | H104: =Jul_2019!E11+Jul_2019!G11+Jul_2019!H11+Jul_2019!J11 -> 52 | I104: =Aug_2019!E11+Aug_2019!G11+Aug_2019!H11+Aug_2019!J11 -> 33 | J104: =Sep_2019!$E11+Sep_2019!$G11+Sep_2019!$H11+Sep_2019!$J11 -> 58 | K104: =Oct_2019!$E11+Oct_2019!$G11+Oct_2019!$H11+Oct_2019!$J11 -> 43 | L104: =Nov_2019!$E11+Nov_2019!$G11+Nov_2019!$H11+Nov_2019!$J11 -> 37 | M104: =Dec_2019!$E11+Dec_2019!$G11+Dec_2019!$H11+Dec_2019!$J11 -> 28
A105: Killarney | B105: =Jan_2019!E12+Jan_2019!G12+Jan_2019!H12+Jan_2019!J12 -> 48 | C105: =Feb_2019!E12+Feb_2019!G12+Feb_2019!H12+Feb_2019!J12 -> 43 | D105: =Mar_2019!E12+Mar_2019!G12+Mar_2019!H12+Mar_2019!J12 -> 42 | E105: =Apr_2019!E12+Apr_2019!G12+Apr_2019!H12+Apr_2019!J12 -> 50 | F105: =May_2019!E12+May_2019!G12+May_2019!H12+May_2019!J12 -> 38 | G105: =Jun_2019!E12+Jun_2019!G12+Jun_2019!H12+Jun_2019!J12 -> 41 | H105: =Jul_2019!E12+Jul_2019!G12+Jul_2019!H12+Jul_2019!J12 -> 64 | I105: =Aug_2019!E12+Aug_2019!G12+Aug_2019!H12+Aug_2019!J12 -> 57 | J105: =Sep_2019!$E12+Sep_2019!$G12+Sep_2019!$H12+Sep_2019!$J12 -> 66 | K105: =Oct_2019!$E12+Oct_2019!$G12+Oct_2019!$H12+Oct_2019!$J12 -> 40 | L105: =Nov_2019!$E12+Nov_2019!$G12+Nov_2019!$H12+Nov_2019!$J12 -> 44 | M105: =Dec_2019!$E12+Dec_2019!$G12+Dec_2019!$H12+Dec_2019!$J12 -> 39
A106: Kitsilano | B106: =Jan_2019!E13+Jan_2019!G13+Jan_2019!H13+Jan_2019!J13 -> 119 | C106: =Feb_2019!E13+Feb_2019!G13+Feb_2019!H13+Feb_2019!J13 -> 108 | D106: =Mar_2019!E13+Mar_2019!G13+Mar_2019!H13+Mar_2019!J13 -> 130 | E106: =Apr_2019!E13+Apr_2019!G13+Apr_2019!H13+Apr_2019!J13 -> 124 | F106: =May_2019!E13+May_2019!G13+May_2019!H13+May_2019!J13 -> 135 | G106: =Jun_2019!E13+Jun_2019!G13+Jun_2019!H13+Jun_2019!J13 -> 120 | H106: =Jul_2019!E13+Jul_2019!G13+Jul_2019!H13+Jul_2019!J13 -> 132 | I106: =Aug_2019!E13+Aug_2019!G13+Aug_2019!H13+Aug_2019!J13 -> 140 | J106: =Sep_2019!$E13+Sep_2019!$G13+Sep_2019!$H13+Sep_2019!$J13 -> 151 | K106: =Oct_2019!$E13+Oct_2019!$G13+Oct_2019!$H13+Oct_2019!$J13 -> 196 | L106: =Nov_2019!$E13+Nov_2019!$G13+Nov_2019!$H13+Nov_2019!$J13 -> 153 | M106: =Dec_2019!$E13+Dec_2019!$G13+Dec_2019!$H13+Dec_2019!$J13 -> 108
A107: Marpole | B107: =Jan_2019!E14+Jan_2019!G14+Jan_2019!H14+Jan_2019!J14 -> 62 | C107: =Feb_2019!E14+Feb_2019!G14+Feb_2019!H14+Feb_2019!J14 -> 85 | D107: =Mar_2019!E14+Mar_2019!G14+Mar_2019!H14+Mar_2019!J14 -> 74 | E107: =Apr_2019!E14+Apr_2019!G14+Apr_2019!H14+Apr_2019!J14 -> 73 | F107: =May_2019!E14+May_2019!G14+May_2019!H14+May_2019!J14 -> 75 | G107: =Jun_2019!E14+Jun_2019!G14+Jun_2019!H14+Jun_2019!J14 -> 56 | H107: =Jul_2019!E14+Jul_2019!G14+Jul_2019!H14+Jul_2019!J14 -> 70 | I107: =Aug_2019!E14+Aug_2019!G14+Aug_2019!H14+Aug_2019!J14 -> 82 | J107: =Sep_2019!$E14+Sep_2019!$G14+Sep_2019!$H14+Sep_2019!$J14 -> 72 | K107: =Oct_2019!$E14+Oct_2019!$G14+Oct_2019!$H14+Oct_2019!$J14 -> 88 | L107: =Nov_2019!$E14+Nov_2019!$G14+Nov_2019!$H14+Nov_2019!$J14 -> 77 | M107: =Dec_2019!$E14+Dec_2019!$G14+Dec_2019!$H14+Dec_2019!$J14 -> 97
A108: Mount Pleasant | B108: =Jan_2019!E15+Jan_2019!G15+Jan_2019!H15+Jan_2019!J15 -> 167 | C108: =Feb_2019!E15+Feb_2019!G15+Feb_2019!H15+Feb_2019!J15 -> 164 | D108: =Mar_2019!E15+Mar_2019!G15+Mar_2019!H15+Mar_2019!J15 -> 190 | E108: =Apr_2019!E15+Apr_2019!G15+Apr_2019!H15+Apr_2019!J15 -> 187 | F108: =May_2019!E15+May_2019!G15+May_2019!H15+May_2019!J15 -> 221 | G108: =Jun_2019!E15+Jun_2019!G15+Jun_2019!H15+Jun_2019!J15 -> 214 | H108: =Jul_2019!E15+Jul_2019!G15+Jul_2019!H15+Jul_2019!J15 -> 255 | I108: =Aug_2019!E15+Aug_2019!G15+Aug_2019!H15+Aug_2019!J15 -> 276 | J108: =Sep_2019!$E15+Sep_2019!$G15+Sep_2019!$H15+Sep_2019!$J15 -> 247 | K108: =Oct_2019!$E15+Oct_2019!$G15+Oct_2019!$H15+Oct_2019!$J15 -> 227 | L108: =Nov_2019!$E15+Nov_2019!$G15+Nov_2019!$H15+Nov_2019!$J15 -> 239 | M108: =Dec_2019!$E15+Dec_2019!$G15+Dec_2019!$H15+Dec_2019!$J15 -> 225
... A121: GRAND TOTAL | B121: =Jan_2019!E28+Jan_2019!G28+Jan_2019!H28+Jan_2019!J28 -> 3207 | C121: =Feb_2019!E28+Feb_2019!G28+Feb_2019!H28+Feb_2019!J28 -> 2607 | D121: =Mar_2019!E28+Mar_2019!G28+Mar_2019!H28+Mar_2019!J28 -> 2933 | E121: =Apr_2019!E28+Apr_2019!G28+Apr_2019!H28+Apr_2019!J28 -> 3028 | F121: =May_2019!E28+May_2019!G28+May_2019!H28+May_2019!J28 -> 3305 | G121: =Jun_2019!E28+Jun_2019!G28+Jun_2019!H28+Jun_2019!J28 -> 3086 | H121: =Jul_2019!E28+Jul_2019!G28+Jul_2019!H28+Jul_2019!J28 -> 3494 | I121: =Aug_2019!E28+Aug_2019!G28+Aug_2019!H28+Aug_2019!J28 -> 3572 | J121: =Sep_2019!$E28+Sep_2019!$G28+Sep_2019!$H28+Sep_2019!$J28 -> 3730 | K121: =Oct_2019!$E28+Oct_2019!$G28+Oct_2019!$H28+Oct_2019!$J28 -> 3688 | L121: =Nov_2019!$E28+Nov_2019!$G28+Nov_2019!$H28+Nov_2019!$J28 -> 3406 | M121: =Dec_2019!$E28+Dec_2019!$G28+Dec_2019!$H28+Dec_2019!$J28 -> 3115

Sheet Aug_2020
A1: VANCOUVER POLICE DEPARTMENT
A2: REPORTED CRIME INCIDENT STATISTICS BY NEIGHBOURHOOD
A3: August 2020
A4: Neighbourhood | B4: Sex Offences | C4: Assaults | D4: Robbery | E4: B&E | F4: Theft of MV | G4: Theft from Auto | H4: Theft<>$5K | I4: Arson | J4: Mischief | K4: Offensive Weapons
A5: Arbutus Ridge | B5: 1 | C5: 2 | D5: 0 | E5: 7 | F5: 1 | G5: 10 | H5: 7 | I5: 0 | J5: 5 | K5: 1
A6: Central Business District | B6: 10 | C6: 160 | D6: 16 | E6: 63 | F6: 4 | G6: 216 | H6: 253 | I6: 10 | J6: 116 | K6: 40
A7: Dunbar - Southlands | B7: 0 | C7: 0 | D7: 0 | E7: 8 | F7: 2 | G7: 12 | H7: 9 | I7: 0 | J7: 7 | K7: 0
A8: Fairview | B8: 0 | C8: 11 | D8: 1 | E8: 27 | F8: 2 | G8: 41 | H8: 74 | I8: 1 | J8: 14 | K8: 4
A9: Grandview - Woodland | B9: 3 | C9: 27 | D9: 1 | E9: 15 | F9: 9 | G9: 43 | H9: 24 | I9: 1 | J9: 23 | K9: 4
A10: Hastings - Sunrise | B10: 2 | C10: 12 | D10: 4 | E10: 14 | F10: 6 | G10: 53 | H10: 18 | I10: 0 | J10: 16 | K10: 3
A11: Kensington - Cedar Cottage | B11: 4 | C11: 13 | D11: 2 | E11: 11 | F11: 5 | G11: 45 | H11: 41 | I11: 3 | J11: 14 | K11: 3
A12: Kerrisdale | B12: 0 | C12: 2 | D12: 1 | E12: 6 | F12: 1 | G12: 10 | H12: 13 | I12: 0 | J12: 5 | K12: 1
A13: Killarney | B13: 1 | C13: 5 | D13: 0 | E13: 8 | F13: 0 | G13: 17 | H13: 19 | I13: 0 | J13: 2 | K13: 1
A14: Kitsilano | B14: 2 | C14: 8 | D14: 0 | E14: 18 | F14: 5 | G14: 36 | H14: 48 | I14: 0 | J14: 19 | K14: 1
A15: Marpole | B15: 1 | C15: 7 | D15: 2 | E15: 9 | F15: 2 | G15: 17 | H15: 18 | I15: 0 | J15: 6 | K15: 0
A16: Mount Pleasant | B16: 5 | C16: 20 | D16: 5 | E16: 27 | F16: 8 | G16: 26 | H16: 72 | I16: 1 | J16: 24 | K16: 6
... A29: GRAND TOTAL | B29: 48 | C29: 405 | D29: 51 | E29: 329 | F29: 84 | G29: 788 | H29: 871 | I29: 28 | J29: 391 | K29: 98
A30: Please refer to the website for data disclaimers and limitations
A31: Data extracted 2020/09/15

Sheet Jul_2020
A1: VANCOUVER POLICE DEPARTMENT
A2: REPORTED CRIME INCIDENT STATISTICS BY NEIGHBOURHOOD
A3: July 2020
A4: Neighbourhood | B4: Sex Offences | C4: Assaults | D4: Robbery | E4: B&E | F4: Theft of MV | G4: Theft from Auto | H4: Theft<>$5K | I4: Arson | J4: Mischief | K4: Offensive Weapons
A5: Arbutus Ridge | B5: 0 | C5: 1 | D5: 2 | E5: 10 | F5: 1 | G5: 3 | H5: 7 | I5: 0 | J5: 4 | K5: 0
A6: Central Business District | B6: 11 | C6: 144 | D6: 15 | E6: 55 | F6: 6 | G6: 170 | H6: 176 | I6: 5 | J6: 138 | K6: 42
A7: Dunbar - Southlands | B7: 0 | C7: 2 | D7: 0 | E7: 4 | F7: 2 | G7: 17 | H7: 25 | I7: 0 | J7: 1 | K7: 1
A8: Fairview | B8: 4 | C8: 10 | D8: 3 | E8: 40 | F8: 2 | G8: 29 | H8: 56 | I8: 0 | J8: 16 | K8: 3
A9: Grandview - Woodland | B9: 2 | C9: 33 | D9: 4 | E9: 19 | F9: 6 | G9: 22 | H9: 43 | I9: 0 | J9: 13 | K9: 3
A10: Hastings - Sunrise | B10: 1 | C10: 11 | D10: 1 | E10: 6 | F10: 3 | G10: 16 | H10: 15 | I10: 0 | J10: 15 | K10: 3
A11: Kensington - Cedar Cottage | B11: 2 | C11: 15 | D11: 3 | E11: 22 | F11: 1 | G11: 35 | H11: 39 | I11: 3 | J11: 21 | K11: 1
A12: Kerrisdale | B12: 0 | C12: 3 | D12: 0 | E12: 7 | F12: 0 | G12: 5 | H12: 10 | I12: 1 | J12: 2 | K12: 0
A13: Killarney | B13: 1 | C13: 2 | D13: 1 | E13: 6 | F13: 3 | G13: 13 | H13: 18 | I13: 1 | J13: 3 | K13: 1
A14: Kitsilano | B14: 2 | C14: 7 | D14: 0 | E14: 39 | F14: 8 | G14: 46 | H14: 52 | I14: 0 | J14: 15 | K14: 0
A15: Marpole | B15: 1 | C15: 4 | D15: 0 | E15: 8 | F15: 2 | G15: 12 | H15: 20 | I15: 2 | J15: 16 | K15: 0
A16: Mount Pleasant | B16: 4 | C16: 13 | D16: 5 | E16: 25 | F16: 6 | G16: 36 | H16: 72 | I16: 2 | J16: 25 | K16: 4
... A29: GRAND TOTAL | B29: 42 | C29: 382 | D29: 54 | E29: 353 | F29: 64 | G29: 629 | H29: 835 | I29: 25 | J29: 395 | K29: 91
A30: Please refer to the website for data disclaimers and limitations
A31: Data extracted 2020/08/18

Sheet Jun_2020
A1: VANCOUVER POLICE DEPARTMENT
A2: REPORTED CRIME INCIDENT STATISTICS BY NEIGHBOURHOOD
A3: June 2020
A4: Neighbourhood | B4: Sex Offences | C4: Assaults | D4: Robbery | E4: B&E | F4: Theft of MV | G4: Theft from Auto | H4: Theft<>$5K | I4: Arson | J4: Mischief | K4: Offensive Weapons
A5: Arbutus Ridge | B5: 2 | C5: 3 | D5: 0 | E5: 21 | F5: 1 | G5: 7 | H5: 4 | I5: 0 | J5: 4 | K5: 0
A6: Central Business District | B6: 15 | C6: 135 | D6: 14 | E6: 61 | F6: 5 | G6: 111 | H6: 134 | I6: 7 | J6: 122 | K6: 57
A7: Dunbar - Southlands | B7: 1 | C7: 2 | D7: 0 | E7: 8 | F7: 2 | G7: 10 | H7: 14 | I7: 0 | J7: 7 | K7: 0
A8: Fairview | B8: 4 | C8: 7 | D8: 1 | E8: 19 | F8: 0 | G8: 25 | H8: 54 | I8: 1 | J8: 14 | K8: 2
A9: Grandview - Woodland | B9: 2 | C9: 27 | D9: 3 | E9: 20 | F9: 7 | G9: 18 | H9: 25 | I9: 0 | J9: 20 | K9: 5
A10: Hastings - Sunrise | B10: 6 | C10: 12 | D10: 0 | E10: 16 | F10: 5 | G10: 30 | H10: 12 | I10: 1 | J10: 23 | K10: 1
A11: Kensington - Cedar Cottage | B11: 3 | C11: 8 | D11: 2 | E11: 10 | F11: 1 | G11: 18 | H11: 42 | I11: 0 | J11: 10 | K11: 5
A12: Kerrisdale | B12: 0 | C12: 2 | D12: 0 | E12: 7 | F12: 0 | G12: 6 | H12: 2 | I12: 0 | J12: 5 | K12: 0
A13: Killarney | B13: 2 | C13: 4 | D13: 0 | E13: 3 | F13: 0 | G13: 10 | H13: 15 | I13: 0 | J13: 8 | K13: 1
A14: Kitsilano | B14: 3 | C14: 11 | D14: 0 | E14: 20 | F14: 3 | G14: 27 | H14: 46 | I14: 1 | J14: 10 | K14: 1
A15: Marpole | B15: 4 | C15: 8 | D15: 2 | E15: 12 | F15: 2 | G15: 18 | H15: 14 | I15: 0 | J15: 3 | K15: 0
A16: Mount Pleasant | B16: 2 | C16: 15 | D16: 1 | E16: 19 | F16: 3 | G16: 26 | H16: 40 | I16: 1 | J16: 19 | K16: 3
... A29: GRAND TOTAL | B29: 60 | C29: 376 | D29: 45 | E29: 309 | F29: 54 | G29: 463 | H29: 634 | I29: 24 | J29: 377 | K29: 100
A30: Please refer to the website for data disclaimers and limitations
A31: Data extracted 2020/07/21

Sheet May_2020
A1: VANCOUVER POLICE DEPARTMENT
A2: REPORTED CRIME INCIDENT STATISTICS BY NEIGHBOURHOOD
A3: May 2020
A4: Neighbourhood | B4: Sex Offences | C4: Assaults | D4: Robbery | E4: B&E | F4: Theft of MV | G4: Theft from Auto | H4: Theft<>$5K | I4: Arson | J4: Mischief | K4: Offensive Weapons
A5: Arbutus Ridge | B5: 0 | C5: 3 | D5: 0 | E5: 6 | F5: 0 | G5: 7 | H5: 2 | I5: 0 | J5: 2 | K5: 0
A6: Central Business District | B6: 11 | C6: 130 | D6: 16 | E6: 86 | F6: 3 | G6: 104 | H6: 108 | I6: 9 | J6: 120 | K6: 64
A7: Dunbar - Southlands | B7: 0 | C7: 2 | D7: 0 | E7: 8 | F7: 0 | G7: 10 | H7: 7 | I7: 0 | J7: 8 | K7: 0
A8: Fairview | B8: 0 | C8: 9 | D8: 1 | E8: 28 | F8: 6 | G8: 36 | H8: 44 | I8: 2 | J8: 13 | K8: 1
A9: Grandview - Woodland | B9: 1 | C9: 22 | D9: 3 | E9: 21 | F9: 4 | G9: 31 | H9: 30 | I9: 2 | J9: 20 | K9: 7
A10: Hastings - Sunrise | B10: 4 | C10: 13 | D10: 1 | E10: 6 | F10: 3 | G10: 46 | H10: 22 | I10: 0 | J10: 17 | K10: 2
A11: Kensington - Cedar Cottage | B11: 2 | C11: 17 | D11: 1 | E11: 16 | F11: 3 | G11: 39 | H11: 30 | I11: 1 | J11: 16 | K11: 4
A12: Kerrisdale | B12: 0 | C12: 4 | D12: 1 | E12: 7 | F12: 0 | G12: 13 | H12: 7 | I12: 1 | J12: 4 | K12: 0
A13: Killarney | B13: 3 | C13: 7 | D13: 1 | E13: 5 | F13: 1 | G13: 9 | H13: 3 | I13: 0 | J13: 7 | K13: 1
A14: Kitsilano | B14: 1 | C14: 9 | D14: 0 | E14: 26 | F14: 3 | G14: 29 | H14: 42 | I14: 0 | J14: 13 | K14: 4
A15: Marpole | B15: 1 | C15: 4 | D15: 0 | E15: 12 | F15: 2 | G15: 8 | H15: 8 | I15: 0 | J15: 6 | K15: 1
A16: Mount Pleasant | B16: 0 | C16: 18 | D16: 2 | E16: 32 | F16: 3 | G16: 34 | H16: 60 | I16: 6 | J16: 30 | K16: 8
... A29: GRAND TOTAL | B29: 34 | C29: 395 | D29: 39 | E29: 366 | F29: 43 | G29: 541 | H29: 550 | I29: 39 | J29: 396 | K29: 132
A30: Please refer to the website for data disclaimers and limitations
A31: Data extracted 2020/06/16

Sheet Apr_2020
A1: VANCOUVER POLICE DEPARTMENT
A2: REPORTED CRIME INCIDENT STATISTICS BY NEIGHBOURHOOD
A3: April 2020
A4: Neighbourhood | B4: Sex Offences | C4: Assaults | D4: Robbery | E4: B&E | F4: Theft of MV | G4: Theft from Auto | H4: Theft<>$5K | I4: Arson | J4: Mischief | K4: Offensive Weapons
A5: Arbutus Ridge | B5: 0 | C5: 0 | D5: 0 | E5: 11 | F5: 0 | G5: 8 | H5: 7 | I5: 0 | J5: 6 | K5: 0
A6: Central Business District | B6: 7 | C6: 111 | D6: 22 | E6: 129 | F6: 6 | G6: 183 | H6: 132 | I6: 17 | J6: 155 | K6: 30
A7: Dunbar - Southlands | B7: 1 | C7: 4 | D7: 0 | E7: 7 | F7: 1 | G7: 20 | H7: 12 | I7: 0 | J7: 7 | K7: 0
A8: Fairview | B8: 0 | C8: 9 | D8: 2 | E8: 46 | F8: 5 | G8: 55 | H8: 46 | I8: 1 | J8: 18 | K8: 4
A9: Grandview - Woodland | B9: 2 | C9: 25 | D9: 4 | E9: 31 | F9: 12 | G9: 44 | H9: 40 | I9: 2 | J9: 29 | K9: 2
A10: Hastings - Sunrise | B10: 1 | C10: 7 | D10: 0 | E10: 23 | F10: 6 | G10: 38 | H10: 11 | I10: 0 | J10: 18 | K10: 0
A11: Kensington - Cedar Cottage | B11: 1 | C11: 8 | D11: 3 | E11: 27 | F11: 7 | G11: 54 | H11: 34 | I11: 1 | J11: 16 | K11: 5
A12: Kerrisdale | B12: 0 | C12: 4 | D12: 0 | E12: 9 | F12: 1 | G12: 16 | H12: 3 | I12: 1 | J12: 7 | K12: 0
A13: Killarney | B13: 0 | C13: 1 | D13: 0 | E13: 4 | F13: 0 | G13: 20 | H13: 8 | I13: 0 | J13: 5 | K13: 1
A14: Kitsilano | B14: 10 | C14: 8 | D14: 1 | E14: 34 | F14: 4 | G14: 54 | H14: 53 | I14: 1 | J14: 20 | K14: 1
A15: Marpole | B15: 0 | C15: 6 | D15: 1 | E15: 14 | F15: 0 | G15: 31 | H15: 14 | I15: 2 | J15: 14 | K15: 0
A16: Mount Pleasant | B16: 2 | C16: 25 | D16: 4 | E16: 41 | F16: 8 | G16: 63 | H16: 46 | I16: 4 | J16: 31 | K16: 1
... A29: GRAND TOTAL | B29: 38 | C29: 339 | D29: 57 | E29: 558 | F29: 77 | G29: 890 | H29: 610 | I29: 41 | J29: 490 | K29: 78
A30: Please refer to the website for data disclaimers and limitations
A31: Data extracted 2020/05/19

Sheet Mar_2020
A1: VANCOUVER POLICE DEPARTMENT
A2: REPORTED CRIME INCIDENT STATISTICS BY NEIGHBOURHOOD
A3: March 2020
A4: Neighbourhood | B4: Sex Offences | C4: Assaults | D4: Robbery | E4: B&E | F4: Theft of MV | G4: Theft from Auto | H4: Theft<>$5K | I4: Arson | J4: Mischief | K4: Offensive Weapons
A5: Arbutus Ridge | B5: 0 | C5: 2 | D5: 1 | E5: 7 | F5: 1 | G5: 15 | H5: 9 | I5: 0 | J5: 5 | K5: 0
A6: Central Business District | B6: 15 | C6: 172 | D6: 20 | E6: 105 | F6: 7 | G6: 354 | H6: 269 | I6: 21 | J6: 160 | K6: 28
A7: Dunbar - Southlands | B7: 0 | C7: 1 | D7: 0 | E7: 6 | F7: 2 | G7: 19 | H7: 6 | I7: 1 | J7: 4 | K7: 0
A8: Fairview | B8: 1 | C8: 5 | D8: 3 | E8: 41 | F8: 4 | G8: 75 | H8: 58 | I8: 1 | J8: 27 | K8: 0
A9: Grandview - Woodland | B9: 3 | C9: 20 | D9: 6 | E9: 31 | F9: 9 | G9: 38 | H9: 42 | I9: 0 | J9: 27 | K9: 2
A10: Hastings - Sunrise | B10: 3 | C10: 9 | D10: 2 | E10: 18 | F10: 8 | G10: 44 | H10: 20 | I10: 2 | J10: 23 | K10: 0
A11: Kensington - Cedar Cottage | B11: 2 | C11: 10 | D11: 3 | E11: 16 | F11: 5 | G11: 33 | H11: 46 | I11: 0 | J11: 22 | K11: 2
A12: Kerrisdale | B12: 2 | C12: 1 | D12: 1 | E12: 7 | F12: 3 | G12: 13 | H12: 9 | I12: 2 | J12: 2 | K12: 0
A13: Killarney | B13: 0 | C13: 2 | D13: 0 | E13: 7 | F13: 0 | G13: 19 | H13: 8 | I13: 0 | J13: 4 | K13: 1
A14: Kitsilano | B14: 1 | C14: 9 | D14: 0 | E14: 34 | F14: 5 | G14: 57 | H14: 34 | I14: 0 | J14: 17 | K14: 0
A15: Marpole | B15: 0 | C15: 4 | D15: 1 | E15: 16 | F15: 2 | G15: 22 | H15: 19 | I15: 0 | J15: 8 | K15: 0
A16: Mount Pleasant | B16: 1 | C16: 29 | D16: 4 | E16: 44 | F16: 3 | G16: 67 | H16: 68 | I16: 3 | J16: 26 | K16: 3
... A28: GRAND TOTAL | B28: 42 | C28: 382 | D28: 58 | E28: 521 | F28: 79 | G28: 1065 | H28: 876 | I28: 38 | J28: 520 | K28: 58
A30: Please refer to the website for data disclaimers and limitations
A31: Data extracted 2020/04/21

Sheet Feb_2020
A1: VANCOUVER POLICE DEPARTMENT
A2: REPORTED CRIME INCIDENT STATISTICS BY NEIGHBOURHOOD
A3: February 2020
A4: Neighbourhood | B4: Sex Offences | C4: Assaults | D4: Robbery | E4: B&E | F4: Theft of MV | G4: Theft from Auto | H4: Theft<>$5K | I4: Arson | J4: Mischief | K4: Offensive Weapons
A5: Arbutus Ridge | B5: 0 | C5: 0 | D5: 0 | E5: 7 | F5: 0 | G5: 12 | H5: 4 | I5: 0 | J5: 4 | K5: 0
A6: Central Business District | B6: 13 | C6: 143 | D6: 12 | E6: 84 | F6: 5 | G6: 508 | H6: 367 | I6: 9 | J6: 164 | K6: 30
A7: Dunbar - Southlands | B7: 1 | C7: 2 | D7: 0 | E7: 6 | F7: 1 | G7: 12 | H7: 5 | I7: 0 | J7: 6 | K7: 1
A8: Fairview | B8: 3 | C8: 6 | D8: 0 | E8: 16 | F8: 2 | G8: 69 | H8: 50 | I8: 2 | J8: 27 | K8: 1
A9: Grandview - Woodland | B9: 4 | C9: 26 | D9: 0 | E9: 25 | F9: 5 | G9: 33 | H9: 47 | I9: 0 | J9: 40 | K9: 4
A10: Hastings - Sunrise | B10: 1 | C10: 11 | D10: 2 | E10: 15 | F10: 3 | G10: 38 | H10: 22 | I10: 0 | J10: 27 | K10: 0
A11: Kensington - Cedar Cottage | B11: 1 | C11: 9 | D11: 4 | E11: 20 | F11: 9 | G11: 41 | H11: 55 | I11: 1 | J11: 34 | K11: 2
A12: Kerrisdale | B12: 0 | C12: 1 | D12: 0 | E12: 15 | F12: 2 | G12: 12 | H12: 5 | I12: 0 | J12: 4 | K12: 0
A13: Killarney | B13: 1 | C13: 4 | D13: 0 | E13: 13 | F13: 1 | G13: 25 | H13: 8 | I13: 0 | J13: 4 | K13: 0
A14: Kitsilano | B14: 1 | C14: 5 | D14: 1 | E14: 15 | F14: 4 | G14: 63 | H14: 34 | I14: 0 | J14: 19 | K14: 0
A15: Marpole | B15: 1 | C15: 6 | D15: 1 | E15: 11 | F15: 6 | G15: 26 | H15: 31 | I15: 0 | J15: 11 | K15: 0
A16: Mount Pleasant | B16: 1 | C16: 20 | D16: 2 | E16: 45 | F16: 7 | G16: 54 | H16: 77 | I16: 1 | J16: 33 | K16: 2
... A29: GRAND TOTAL | B29: 47 | C29: 352 | D29: 41 | E29: 414 | F29: 70 | G29: 1222 | H29: 1011 | I29: 16 | J29: 549 | K29: 62
A30: Please refer to the website for data disclaimers and limitations
A31: Data extracted 2020/03/26

Sheet Jan_2020
A1: VANCOUVER POLICE DEPARTMENT
A2: REPORTED CRIME INCIDENT STATISTICS BY NEIGHBOURHOOD
A3: January 2020
A4: Neighbourhood | B4: Sex Offences | C4: Assaults | D4: Robbery | E4: B&E | F4: Theft of MV | G4: Theft from Auto | H4: Theft<>$5K | I4: Arson | J4: Mischief | K4: Offensive Weapons
A5: Arbutus Ridge | B5: 1 | C5: 1 | D5: 0 | E5: 7 | F5: 2 | G5: 10 | H5: 7 | I5: 0 | J5: 4 | K5: 0
A6: Central Business District | B6: 17 | C6: 162 | D6: 19 | E6: 82 | F6: 12 | G6: 504 | H6: 379 | I6: 3 | J6: 194 | K6: 25
A7: Dunbar - Southlands | B7: 0 | C7: 1 | D7: 0 | E7: 18 | F7: 2 | G7: 11 | H7: 7 | I7: 0 | J7: 10 | K7: 0
A8: Fairview | B8: 0 | C8: 10 | D8: 2 | E8: 27 | F8: 7 | G8: 63 | H8: 46 | I8: 0 | J8: 30 | K8: 2
A9: Grandview - Woodland | B9: 6 | C9: 21 | D9: 2 | E9: 25 | F9: 4 | G9: 46 | H9: 32 | I9: 0 | J9: 30 | K9: 3
A10: Hastings - Sunrise | B10: 0 | C10: 12 | D10: 3 | E10: 21 | F10: 1 | G10: 41 | H10: 21 | I10: 0 | J10: 15 | K10: 1
A11: Kensington - Cedar Cottage | B11: 4 | C11: 16 | D11: 2 | E11: 20 | F11: 4 | G11: 44 | H11: 36 | I11: 0 | J11: 19 | K11: 5
A12: Kerrisdale | B12: 0 | C12: 1 | D12: 0 | E12: 5 | F12: 0 | G12: 15 | H12: 10 | I12: 0 | J12: 5 | K12: 0
A13: Killarney | B13: 2 | C13: 4 | D13: 0 | E13: 9 | F13: 4 | G13: 17 | H13: 11 | I13: 0 | J13: 4 | K13: 1
A14: Kitsilano | B14: 0 | C14: 5 | D14: 0 | E14: 33 | F14: 3 | G14: 55 | H14: 49 | I14: 0 | J14: 29 | K14: 1
A15: Marpole | B15: 0 | C15: 6 | D15: 1 | E15: 15 | F15: 4 | G15: 28 | H15: 20 | I15: 0 | J15: 18 | K15: 4
A16: Mount Pleasant | B16: 6 | C16: 26 | D16: 3 | E16: 42 | F16: 9 | G16: 60 | H16: 77 | I16: 0 | J16: 35 | K16: 2
... A29: GRAND TOTAL | B29: 50 | C29: 405 | D29: 41 | E29: 457 | F29: 76 | G29: 1270 | H29: 989 | I29: 5 | J29: 563 | K29: 70
A30: Please refer to the website for data disclaimers and limitations
A31: Data extracted 2020/02/18

Sheet Dec_2019
A1: VANCOUVER POLICE DEPARTMENT - NEIGHBOURHOOD STATISTICS
A2: December 2019
A3: Neighbourhood | B3: Sex Offences | C3: Assaults | D3: Robbery | E3: B&E | F3: Theft of MV | G3: Theft from Auto | H3: Theft<>$5K | I3: Arson | J3: Mischief | K3: Offensive Weapons
A4: Arbutus Ridge | B4: 0 | C4: 1 | D4: 0 | E4: 7 | F4: 1 | G4: 2 | H4: 4 | I4: 0 | J4: 1 | K4: 0
A5: Central Business District | B5: 6 | C5: 152 | D5: 17 | E5: 64 | F5: 20 | G5: 506 | H5: 361 | I5: 3 | J5: 171 | K5: 24
A6: Dunbar - Southlands | B6: 0 | C6: 1 | D6: 0 | E6: 15 | F6: 1 | G6: 15 | H6: 9 | I6: 0 | J6: 8 | K6: 0
A7: Fairview | B7: 3 | C7: 15 | D7: 2 | E7: 32 | F7: 3 | G7: 67 | H7: 68 | I7: 1 | J7: 25 | K7: 0
A8: Grandview - Woodland | B8: 2 | C8: 20 | D8: 3 | E8: 27 | F8: 7 | G8: 53 | H8: 34 | I8: 1 | J8: 29 | K8: 4
A9: Hastings - Sunrise | B9: 1 | C9: 6 | D9: 1 | E9: 18 | F9: 6 | G9: 36 | H9: 16 | I9: 0 | J9: 14 | K9: 0
A10: Kensington - Cedar Cottage | B10: 4 | C10: 13 | D10: 2 | E10: 14 | F10: 8 | G10: 30 | H10: 46 | I10: 2 | J10: 21 | K10: 1
A11: Kerrisdale | B11: 0 | C11: 0 | D11: 0 | E11: 9 | F11: 1 | G11: 11 | H11: 6 | I11: 0 | J11: 2 | K11: 1
A12: Killarney | B12: 1 | C12: 5 | D12: 0 | E12: 10 | F12: 2 | G12: 8 | H12: 12 | I12: 1 | J12: 9 | K12: 0
A13: Kitsilano | B13: 0 | C13: 8 | D13: 2 | E13: 27 | F13: 3 | G13: 34 | H13: 35 | I13: 0 | J13: 12 | K13: 1
A14: Marpole | B14: 0 | C14: 6 | D14: 2 | E14: 23 | F14: 1 | G14: 33 | H14: 24 | I14: 0 | J14: 17 | K14: 1
A15: Mount Pleasant | B15: 2 | C15: 17 | D15: 3 | E15: 40 | F15: 6 | G15: 66 | H15: 87 | I15: 2 | J15: 32 | K15: 1
... A28: GRAND TOTAL | B28: 32 | C28: 378 | D28: 45 | E28: 469 | F28: 105 | G28: 1183 | H28: 987 | I28: 16 | J28: 476 | K28: 50
A29: Please refer to the website for data disclaimers and limitations
A30: Data run on 2020/01/21

Sheet Nov_2019
A1: VANCOUVER POLICE DEPARTMENT ‐ NEIGHBOURHOOD STATISTICS
A2: November 2019
A3: Neighbourhood | B3: Sex Offences | C3: Assaults | D3: Robbery | E3: B&E | F3: Theft of MV | G3: Theft from Auto | H3: Theft<>$5K | I3: Arson | J3: Mischief | K3: Offensive Weapons
A4: Arbutus Ridge | B4: 1 | C4: 0 | D4: 0 | E4: 13 | F4: 1 | G4: 3 | H4: 9 | I4: 1 | J4: 2 | K4: 0
A5: Central Business District | B5: 11 | C5: 154 | D5: 26 | E5: 76 | F5: 12 | G5: 570 | H5: 413 | I5: 9 | J5: 143 | K5: 43
A6: Dunbar ‐ Southlands | B6: 0 | C6: 2 | D6: 0 | E6: 13 | F6: 0 | G6: 8 | H6: 10 | I6: 0 | J6: 10 | K6: 2
A7: Fairview | B7: 2 | C7: 12 | D7: 1 | E7: 46 | F7: 4 | G7: 78 | H7: 71 | I7: 0 | J7: 20 | K7: 4
A8: Grandview ‐ Woodland | B8: 2 | C8: 16 | D8: 1 | E8: 27 | F8: 14 | G8: 41 | H8: 32 | I8: 0 | J8: 36 | K8: 0
A9: Hastings ‐ Sunrise | B9: 0 | C9: 13 | D9: 0 | E9: 30 | F9: 6 | G9: 40 | H9: 19 | I9: 0 | J9: 15 | K9: 0
A10: Kensington ‐ Cedar Cottage | B10: 0 | C10: 17 | D10: 1 | E10: 25 | F10: 10 | G10: 49 | H10: 43 | I10: 0 | J10: 19 | K10: 0
A11: Kerrisdale | B11: 0 | C11: 1 | D11: 1 | E11: 12 | F11: 3 | G11: 7 | H11: 10 | I11: 0 | J11: 8 | K11: 0
A12: Killarney | B12: 0 | C12: 3 | D12: 0 | E12: 6 | F12: 2 | G12: 14 | H12: 15 | I12: 0 | J12: 9 | K12: 2
A13: Kitsilano | B13: 2 | C13: 10 | D13: 1 | E13: 29 | F13: 4 | G13: 50 | H13: 60 | I13: 1 | J13: 14 | K13: 2
A14: Marpole | B14: 0 | C14: 5 | D14: 1 | E14: 21 | F14: 2 | G14: 34 | H14: 16 | I14: 2 | J14: 6 | K14: 0
A15: Mount Pleasant | B15: 2 | C15: 21 | D15: 3 | E15: 38 | F15: 10 | G15: 81 | H15: 82 | I15: 6 | J15: 38 | K15: 2
... A28: GRAND TOTAL | B28: 32 | C28: 371 | D28: 51 | E28: 483 | F28: 107 | G28: 1363 | H28: 1118 | I28: 31 | J28: 442 | K28: 84
A29: Please refer to the website for data disclaimers and limitations
A30: Data run on 2019/12/30

Sheet Oct_2019
A1: VANCOUVER POLICE DEPARTMENT - NEIGHBOURHOOD STATISTICS
A2: October 2019
A3: Neighbourhood | B3: Sex Offences | C3: Assaults | D3: Robbery | E3: B&E | F3: Theft of MV | G3: Theft from Auto | H3: Theft<>$5K | I3: Arson | J3: Mischief | K3: Offensive Weapons
A4: Arbutus Ridge | B4: 1 | C4: 0 | D4: 0 | E4: 10 | F4: 1 | G4: 8 | H4: 6 | I4: 0 | J4: 2 | K4: 0
A5: Central Business District | B5: 19 | C5: 134 | D5: 25 | E5: 80 | F5: 16 | G5: 587 | H5: 402 | I5: 6 | J5: 136 | K5: 56
A6: Dunbar - Southlands | B6: 1 | C6: 1 | D6: 0 | E6: 5 | F6: 1 | G6: 22 | H6: 12 | I6: 0 | J6: 1 | K6: 0
A7: Fairview | B7: 1 | C7: 7 | D7: 1 | E7: 35 | F7: 0 | G7: 78 | H7: 86 | I7: 0 | J7: 24 | K7: 2
A8: Grandview - Woodland | B8: 2 | C8: 27 | D8: 2 | E8: 36 | F8: 13 | G8: 66 | H8: 56 | I8: 1 | J8: 24 | K8: 6
A9: Hastings - Sunrise | B9: 3 | C9: 7 | D9: 0 | E9: 20 | F9: 5 | G9: 58 | H9: 21 | I9: 2 | J9: 17 | K9: 2
A10: Kensington - Cedar Cottage | B10: 1 | C10: 24 | D10: 1 | E10: 23 | F10: 9 | G10: 76 | H10: 37 | I10: 1 | J10: 24 | K10: 1
A11: Kerrisdale | B11: 0 | C11: 4 | D11: 0 | E11: 17 | F11: 1 | G11: 12 | H11: 11 | I11: 0 | J11: 3 | K11: 1
A12: Killarney | B12: 2 | C12: 4 | D12: 2 | E12: 5 | F12: 5 | G12: 22 | H12: 6 | I12: 0 | J12: 7 | K12: 1
A13: Kitsilano | B13: 2 | C13: 6 | D13: 3 | E13: 37 | F13: 4 | G13: 71 | H13: 58 | I13: 3 | J13: 30 | K13: 0
A14: Marpole | B14: 0 | C14: 6 | D14: 2 | E14: 17 | F14: 6 | G14: 32 | H14: 29 | I14: 0 | J14: 10 | K14: 1
A15: Mount Pleasant | B15: 2 | C15: 14 | D15: 0 | E15: 37 | F15: 15 | G15: 74 | H15: 94 | I15: 1 | J15: 22 | K15: 2
... A28: GRAND TOTAL | B28: 46 | C28: 338 | D28: 50 | E28: 501 | F28: 116 | G28: 1576 | H28: 1165 | I28: 27 | J28: 446 | K28: 107
A29: Please refer to the website for data disclaimers and limitations
A30: Data run on 2019/11/19

Sheet Sep_2019
A1: VANCOUVER POLICE DEPARTMENT - NEIGHBOURHOOD STATISTICS
A2: September 2019
A3: Neighbourhood | B3: Sex Offences | C3: Assaults | D3: Robbery | E3: B&E | F3: Theft of MV | G3: Theft from Auto | H3: Theft<>$5K | I3: Arson | J3: Mischief | K3: Offensive Weapons
A4: Arbutus Ridge | B4: 1 | C4: 2 | D4: 0 | E4: 8 | F4: 3 | G4: 6 | H4: 11 | I4: 0 | J4: 2 | K4: 0
A5: Central Business District | B5: 15 | C5: 157 | D5: 21 | E5: 70 | F5: 22 | G5: 586 | H5: 421 | I5: 6 | J5: 116 | K5: 84
A6: Dunbar - Southlands | B6: 1 | C6: 1 | D6: 0 | E6: 9 | F6: 0 | G6: 24 | H6: 9 | I6: 0 | J6: 4 | K6: 0
A7: Fairview | B7: 1 | C7: 3 | D7: 0 | E7: 34 | F7: 9 | G7: 59 | H7: 97 | I7: 1 | J7: 29 | K7: 1
A8: Grandview - Woodland | B8: 2 | C8: 20 | D8: 10 | E8: 27 | F8: 20 | G8: 56 | H8: 58 | I8: 0 | J8: 26 | K8: 3
A9: Hastings - Sunrise | B9: 4 | C9: 14 | D9: 1 | E9: 16 | F9: 10 | G9: 71 | H9: 19 | I9: 0 | J9: 23 | K9: 1
A10: Kensington - Cedar Cottage | B10: 2 | C10: 11 | D10: 5 | E10: 20 | F10: 7 | G10: 72 | H10: 52 | I10: 1 | J10: 23 | K10: 4
A11: Kerrisdale | B11: 1 | C11: 1 | D11: 0 | E11: 24 | F11: 4 | G11: 20 | H11: 9 | I11: 1 | J11: 5 | K11: 1
A12: Killarney | B12: 0 | C12: 5 | D12: 0 | E12: 11 | F12: 6 | G12: 34 | H12: 17 | I12: 0 | J12: 4 | K12: 3
A13: Kitsilano | B13: 2 | C13: 7 | D13: 0 | E13: 22 | F13: 11 | G13: 49 | H13: 58 | I13: 0 | J13: 22 | K13: 1
A14: Marpole | B14: 1 | C14: 4 | D14: 0 | E14: 19 | F14: 5 | G14: 24 | H14: 23 | I14: 0 | J14: 6 | K14: 1
A15: Mount Pleasant | B15: 4 | C15: 14 | D15: 4 | E15: 33 | F15: 14 | G15: 72 | H15: 119 | I15: 1 | J15: 23 | K15: 2
... A28: GRAND TOTAL | B28: 47 | C28: 399 | D28: 63 | E28: 447 | F28: 158 | G28: 1575 | H28: 1279 | I28: 19 | J28: 429 | K28: 125
A29: Please refer to the website for data disclaimers and limitations
A30: Data run on 2019/10/15

Sheet Aug_2019
A1: VANCOUVER POLICE DEPARTMENT - NEIGHBOURHOOD STATISTICS
A2: August 2019
A3: Neighbourhood | B3: Sex Offences | C3: Assaults | D3: Robbery | E3: B&E | F3: Theft of MV | G3: Theft from Auto | H3: Theft<>$5K | I3: Arson | J3: Mischief | K3: Offensive Weapons
A4: Arbutus Ridge | B4: 0 | C4: 3 | D4: 0 | E4: 7 | F4: 1 | G4: 15 | H4: 18 | I4: 0 | J4: 1 | K4: 0
A5: Central Business District | B5: 20 | C5: 183 | D5: 31 | E5: 71 | F5: 23 | G5: 528 | H5: 480 | I5: 4 | J5: 133 | K5: 68
A6: Dunbar - Southlands | B6: 1 | C6: 1 | D6: 1 | E6: 11 | F6: 4 | G6: 24 | H6: 10 | I6: 0 | J6: 4 | K6: 0
A7: Fairview | B7: 2 | C7: 11 | D7: 3 | E7: 19 | F7: 5 | G7: 79 | H7: 88 | I7: 0 | J7: 26 | K7: 2
A8: Grandview - Woodland | B8: 0 | C8: 23 | D8: 4 | E8: 27 | F8: 8 | G8: 74 | H8: 55 | I8: 1 | J8: 35 | K8: 4
A9: Hastings - Sunrise | B9: 3 | C9: 10 | D9: 1 | E9: 17 | F9: 11 | G9: 60 | H9: 25 | I9: 0 | J9: 15 | K9: 0
A10: Kensington - Cedar Cottage | B10: 4 | C10: 14 | D10: 2 | E10: 15 | F10: 3 | G10: 43 | H10: 34 | I10: 0 | J10: 17 | K10: 5
A11: Kerrisdale | B11: 0 | C11: 1 | D11: 0 | E11: 10 | F11: 5 | G11: 14 | H11: 6 | I11: 0 | J11: 3 | K11: 0
A12: Killarney | B12: 1 | C12: 2 | D12: 0 | E12: 8 | F12: 3 | G12: 27 | H12: 16 | I12: 0 | J12: 6 | K12: 0
A13: Kitsilano | B13: 1 | C13: 11 | D13: 1 | E13: 17 | F13: 4 | G13: 48 | H13: 60 | I13: 1 | J13: 15 | K13: 2
A14: Marpole | B14: 1 | C14: 6 | D14: 1 | E14: 15 | F14: 3 | G14: 30 | H14: 29 | I14: 0 | J14: 8 | K14: 2
A15: Mount Pleasant | B15: 2 | C15: 32 | D15: 1 | E15: 41 | F15: 12 | G15: 99 | H15: 108 | I15: 1 | J15: 28 | K15: 4
... A28: GRAND TOTAL | B28: 49 | C28: 462 | D28: 67 | E28: 403 | F28: 138 | G28: 1445 | H28: 1306 | I28: 19 | J28: 418 | K28: 130
A29: Please refer to the website for data disclaimers and limitations
A30: Data run on 2019/09/17

Sheet Jul_2019
A1: VANCOUVER POLICE DEPARTMENT - NEIGHBOURHOOD STATISTICS
A2: July 2019
A3: Neighbourhood | B3: Sex Offences | C3: Assaults | D3: Robbery | E3: B&E | F3: Theft of MV | G3: Theft from Auto | H3: Theft<>$5K | I3: Arson | J3: Mischief | K3: Offensive Weapons
A4: Arbutus Ridge | B4: 0 | C4: 4 | D4: 0 | E4: 2 | F4: 0 | G4: 10 | H4: 6 | I4: 2 | J4: 4 | K4: 0
A5: Central Business District | B5: 16 | C5: 170 | D5: 22 | E5: 90 | F5: 17 | G5: 535 | H5: 438 | I5: 4 | J5: 142 | K5: 47
A6: Dunbar - Southlands | B6: 0 | C6: 2 | D6: 0 | E6: 7 | F6: 2 | G6: 16 | H6: 8 | I6: 0 | J6: 7 | K6: 0
A7: Fairview | B7: 2 | C7: 9 | D7: 2 | E7: 18 | F7: 3 | G7: 68 | H7: 77 | I7: 1 | J7: 16 | K7: 1
A8: Grandview - Woodland | B8: 2 | C8: 24 | D8: 1 | E8: 21 | F8: 8 | G8: 59 | H8: 46 | I8: 2 | J8: 23 | K8: 4
A9: Hastings - Sunrise | B9: 3 | C9: 13 | D9: 2 | E9: 16 | F9: 7 | G9: 62 | H9: 24 | I9: 0 | J9: 26 | K9: 1
A10: Kensington - Cedar Cottage | B10: 2 | C10: 17 | D10: 1 | E10: 14 | F10: 8 | G10: 68 | H10: 32 | I10: 0 | J10: 23 | K10: 3
A11: Kerrisdale | B11: 2 | C11: 3 | D11: 0 | E11: 16 | F11: 4 | G11: 17 | H11: 9 | I11: 0 | J11: 10 | K11: 0
A12: Killarney | B12: 0 | C12: 2 | D12: 0 | E12: 4 | F12: 3 | G12: 33 | H12: 13 | I12: 1 | J12: 14 | K12: 1
A13: Kitsilano | B13: 1 | C13: 10 | D13: 0 | E13: 21 | F13: 4 | G13: 56 | H13: 38 | I13: 2 | J13: 17 | K13: 0
A14: Marpole | B14: 2 | C14: 5 | D14: 1 | E14: 14 | F14: 7 | G14: 21 | H14: 23 | I14: 1 | J14: 12 | K14: 1
A15: Mount Pleasant | B15: 1 | C15: 17 | D15: 5 | E15: 35 | F15: 12 | G15: 74 | H15: 122 | I15: 2 | J15: 24 | K15: 7
... A28: GRAND TOTAL | B28: 40 | C28: 417 | D28: 58 | E28: 379 | F28: 141 | G28: 1459 | H28: 1178 | I28: 30 | J28: 478 | K28: 103
A29: Please refer to the website for data disclaimers and limitations
A30: Data run on 2019/08/20

Sheet Jun_2019
A1: VANCOUVER POLICE DEPARTMENT - NEIGHBOURHOOD STATISTICS
A2: June 2019
A3: Neighbourhood | B3: Sex Offences | C3: Assaults | D3: Robbery | E3: B&E | F3: Theft of MV | G3: Theft from Auto | H3: Theft<>$5K | I3: Arson | J3: Mischief | K3: Offensive Weapons
A4: Arbutus Ridge | B4: 0 | C4: 2 | D4: 0 | E4: 4 | F4: 2 | G4: 11 | H4: 5 | I4: 0 | J4: 4 | K4: 0
A5: Central Business District | B5: 19 | C5: 140 | D5: 17 | E5: 53 | F5: 17 | G5: 419 | H5: 410 | I5: 3 | J5: 115 | K5: 42
A6: Dunbar - Southlands | B6: 0 | C6: 1 | D6: 0 | E6: 6 | F6: 2 | G6: 9 | H6: 6 | I6: 1 | J6: 3 | K6: 0
A7: Fairview | B7: 3 | C7: 10 | D7: 0 | E7: 23 | F7: 5 | G7: 65 | H7: 71 | I7: 2 | J7: 14 | K7: 4
A8: Grandview - Woodland | B8: 3 | C8: 18 | D8: 4 | E8: 27 | F8: 11 | G8: 56 | H8: 48 | I8: 0 | J8: 27 | K8: 1
A9: Hastings - Sunrise | B9: 1 | C9: 13 | D9: 0 | E9: 21 | F9: 11 | G9: 53 | H9: 23 | I9: 0 | J9: 17 | K9: 3
A10: Kensington - Cedar Cottage | B10: 2 | C10: 8 | D10: 1 | E10: 15 | F10: 10 | G10: 62 | H10: 39 | I10: 0 | J10: 20 | K10: 1
A11: Kerrisdale | B11: 0 | C11: 0 | D11: 0 | E11: 4 | F11: 0 | G11: 7 | H11: 10 | I11: 0 | J11: 3 | K11: 0
A12: Killarney | B12: 2 | C12: 6 | D12: 1 | E12: 6 | F12: 5 | G12: 21 | H12: 7 | I12: 0 | J12: 7 | K12: 0
A13: Kitsilano | B13: 2 | C13: 4 | D13: 0 | E13: 26 | F13: 5 | G13: 43 | H13: 37 | I13: 0 | J13: 14 | K13: 0
A14: Marpole | B14: 1 | C14: 11 | D14: 1 | E14: 12 | F14: 1 | G14: 17 | H14: 21 | I14: 0 | J14: 6 | K14: 2
A15: Mount Pleasant | B15: 6 | C15: 23 | D15: 1 | E15: 26 | F15: 7 | G15: 73 | H15: 101 | I15: 0 | J15: 14 | K15: 6
... A28: GRAND TOTAL | B28: 46 | C28: 372 | D28: 46 | E28: 366 | F28: 123 | G28: 1244 | H28: 1091 | I28: 13 | J28: 385 | K28: 82
A29: Please refer to the website for data disclaimers and limitations
A30: Data run on 2019/07/16

Sheet May_2019
A1: VANCOUVER POLICE DEPARTMENT - NEIGHBOURHOOD STATISTICS
A2: May 2019
A3: Neighbourhood | B3: Sex Offences | C3: Assaults | D3: Robbery | E3: B&E | F3: Theft of MV | G3: Theft from Auto | H3: Theft<>$5K | I3: Arson | J3: Mischief | K3: Offensive Weapons
A4: Arbutus Ridge | B4: 2 | C4: 1 | D4: 0 | E4: 7 | F4: 1 | G4: 7 | H4: 4 | I4: 0 | J4: 3 | K4: 0
A5: Central Business District | B5: 13 | C5: 166 | D5: 25 | E5: 68 | F5: 20 | G5: 507 | H5: 401 | I5: 5 | J5: 139 | K5: 42
A6: Dunbar - Southlands | B6: 0 | C6: 2 | D6: 0 | E6: 8 | F6: 1 | G6: 7 | H6: 2 | I6: 0 | J6: 7 | K6: 0
A7: Fairview | B7: 5 | C7: 6 | D7: 1 | E7: 19 | F7: 1 | G7: 81 | H7: 91 | I7: 1 | J7: 16 | K7: 4
A8: Grandview - Woodland | B8: 3 | C8: 19 | D8: 4 | E8: 14 | F8: 8 | G8: 62 | H8: 44 | I8: 0 | J8: 26 | K8: 4
A9: Hastings - Sunrise | B9: 3 | C9: 15 | D9: 0 | E9: 16 | F9: 6 | G9: 60 | H9: 24 | I9: 0 | J9: 13 | K9: 1
A10: Kensington - Cedar Cottage | B10: 1 | C10: 16 | D10: 4 | E10: 23 | F10: 6 | G10: 75 | H10: 31 | I10: 1 | J10: 28 | K10: 1
A11: Kerrisdale | B11: 0 | C11: 2 | D11: 0 | E11: 3 | F11: 1 | G11: 23 | H11: 4 | I11: 2 | J11: 2 | K11: 0
A12: Killarney | B12: 2 | C12: 10 | D12: 0 | E12: 2 | F12: 0 | G12: 18 | H12: 13 | I12: 0 | J12: 5 | K12: 1
A13: Kitsilano | B13: 1 | C13: 10 | D13: 0 | E13: 13 | F13: 5 | G13: 53 | H13: 54 | I13: 0 | J13: 15 | K13: 0
A14: Marpole | B14: 1 | C14: 6 | D14: 0 | E14: 11 | F14: 1 | G14: 28 | H14: 30 | I14: 0 | J14: 6 | K14: 0
A15: Mount Pleasant | B15: 1 | C15: 27 | D15: 1 | E15: 30 | F15: 14 | G15: 74 | H15: 94 | I15: 0 | J15: 23 | K15: 3
... A28: GRAND TOTAL | B28: 52 | C28: 404 | D28: 55 | E28: 359 | F28: 121 | G28: 1414 | H28: 1120 | I28: 22 | J28: 412 | K28: 80
A29: Please refer to the website for data disclaimers and limitations
A30: Data run on 2019/06/18

Sheet Apr_2019
A1: VANCOUVER POLICE DEPARTMENT - NEIGHBOURHOOD STATISTICS
A2: April 2019
A3: Neighbourhood | B3: Sex Offences | C3: Assaults | D3: Robbery | E3: B&E | F3: Theft of MV | G3: Theft from Auto | H3: Theft<>$5K | I3: Arson | J3: Mischief | K3: Offensive Weapons
A4: Arbutus Ridge | B4: 0 | C4: 0 | D4: 0 | E4: 4 | F4: 2 | G4: 11 | H4: 5 | I4: 2 | J4: 2 | K4: 0
A5: Central Business District | B5: 12 | C5: 136 | D5: 18 | E5: 49 | F5: 8 | G5: 475 | H5: 388 | I5: 8 | J5: 112 | K5: 27
A6: Dunbar - Southlands | B6: 0 | C6: 2 | D6: 0 | E6: 4 | F6: 0 | G6: 5 | H6: 7 | I6: 0 | J6: 5 | K6: 0
A7: Fairview | B7: 2 | C7: 13 | D7: 1 | E7: 20 | F7: 4 | G7: 76 | H7: 84 | I7: 0 | J7: 15 | K7: 1
A8: Grandview - Woodland | B8: 2 | C8: 13 | D8: 4 | E8: 14 | F8: 6 | G8: 46 | H8: 54 | I8: 2 | J8: 29 | K8: 1
A9: Hastings - Sunrise | B9: 2 | C9: 4 | D9: 1 | E9: 7 | F9: 6 | G9: 50 | H9: 28 | I9: 0 | J9: 15 | K9: 0
A10: Kensington - Cedar Cottage | B10: 5 | C10: 17 | D10: 2 | E10: 13 | F10: 6 | G10: 42 | H10: 32 | I10: 1 | J10: 18 | K10: 4
A11: Kerrisdale | B11: 0 | C11: 3 | D11: 0 | E11: 6 | F11: 1 | G11: 6 | H11: 10 | I11: 0 | J11: 5 | K11: 0
A12: Killarney | B12: 1 | C12: 2 | D12: 0 | E12: 4 | F12: 5 | G12: 14 | H12: 27 | I12: 0 | J12: 5 | K12: 0
A13: Kitsilano | B13: 3 | C13: 6 | D13: 0 | E13: 17 | F13: 5 | G13: 48 | H13: 40 | I13: 0 | J13: 19 | K13: 2
A14: Marpole | B14: 0 | C14: 7 | D14: 0 | E14: 15 | F14: 1 | G14: 24 | H14: 26 | I14: 0 | J14: 8 | K14: 1
A15: Mount Pleasant | B15: 4 | C15: 19 | D15: 1 | E15: 14 | F15: 6 | G15: 69 | H15: 76 | I15: 0 | J15: 28 | K15: 3
... A28: GRAND TOTAL | B28: 47 | C28: 346 | D28: 44 | E28: 285 | F28: 94 | G28: 1292 | H28: 1064 | I28: 20 | J28: 387 | K28: 65
A29: Please refer to the website for data disclaimers and limitations
A30: Data run on 2019/05/21

Sheet Mar_2019
A1: VANCOUVER POLICE DEPARTMENT - NEIGHBOURHOOD STATISTICS
A2: March 2019
A3: Neighbourhood | B3: Sex Offences | C3: Assaults | D3: Robbery | E3: B&E | F3: Theft of MV | G3: Theft from Auto | H3: Theft<>$5K | I3: Arson | J3: Mischief | K3: Offensive Weapons
A4: Arbutus Ridge | B4: 0 | C4: 1 | D4: 0 | E4: 6 | F4: 0 | G4: 8 | H4: 6 | I4: 0 | J4: 4 | K4: 0
A5: Central Business District | B5: 10 | C5: 146 | D5: 17 | E5: 59 | F5: 7 | G5: 478 | H5: 382 | I5: 5 | J5: 121 | K5: 40
A6: Dunbar - Southlands | B6: 0 | C6: 0 | D6: 0 | E6: 1 | F6: 2 | G6: 16 | H6: 9 | I6: 0 | J6: 6 | K6: 0
A7: Fairview | B7: 1 | C7: 14 | D7: 0 | E7: 30 | F7: 3 | G7: 76 | H7: 74 | I7: 1 | J7: 29 | K7: 0
A8: Grandview - Woodland | B8: 4 | C8: 27 | D8: 2 | E8: 18 | F8: 8 | G8: 46 | H8: 34 | I8: 2 | J8: 24 | K8: 1
A9: Hastings - Sunrise | B9: 0 | C9: 2 | D9: 1 | E9: 10 | F9: 5 | G9: 47 | H9: 25 | I9: 0 | J9: 11 | K9: 0
A10: Kensington - Cedar Cottage | B10: 3 | C10: 6 | D10: 1 | E10: 12 | F10: 4 | G10: 28 | H10: 38 | I10: 0 | J10: 17 | K10: 2
A11: Kerrisdale | B11: 1 | C11: 1 | D11: 0 | E11: 11 | F11: 2 | G11: 12 | H11: 7 | I11: 1 | J11: 4 | K11: 0
A12: Killarney | B12: 0 | C12: 5 | D12: 0 | E12: 5 | F12: 5 | G12: 15 | H12: 14 | I12: 0 | J12: 8 | K12: 0
A13: Kitsilano | B13: 3 | C13: 8 | D13: 1 | E13: 13 | F13: 7 | G13: 53 | H13: 41 | I13: 1 | J13: 23 | K13: 1
A14: Marpole | B14: 0 | C14: 8 | D14: 1 | E14: 15 | F14: 2 | G14: 28 | H14: 27 | I14: 0 | J14: 4 | K14: 1
A15: Mount Pleasant | B15: 2 | C15: 13 | D15: 3 | E15: 19 | F15: 4 | G15: 73 | H15: 76 | I15: 2 | J15: 22 | K15: 4
... A28: GRAND TOTAL | B28: 43 | C28: 359 | D28: 48 | E28: 295 | F28: 92 | G28: 1222 | H28: 1037 | I28: 23 | J28: 379 | K28: 67
A29: Please refer to the website for data disclaimers and limitations
A30: Data run on 2019/04/16

Sheet Feb_2019
A1: VANCOUVER POLICE DEPARTMENT - NEIGHBOURHOOD STATISTICS
A2: February 2019
A3: Neighbourhood | B3: Sex Offences | C3: Assaults | D3: Robbery | E3: B&E | F3: Theft of MV | G3: Theft from Auto | H3: Theft<>$5K | I3: Arson | J3: Mischief | K3: Offensive Weapons
A4: Arbutus Ridge | B4: 0 | C4: 1 | D4: 1 | E4: 5 | F4: 0 | G4: 7 | H4: 8 | I4: 1 | J4: 4 | K4: 0
A5: Central Business District | B5: 14 | C5: 118 | D5: 17 | E5: 43 | F5: 9 | G5: 431 | H5: 338 | I5: 7 | J5: 97 | K5: 30
A6: Dunbar - Southlands | B6: 2 | C6: 1 | D6: 0 | E6: 4 | F6: 0 | G6: 10 | H6: 7 | I6: 0 | J6: 3 | K6: 0
A7: Fairview | B7: 1 | C7: 6 | D7: 1 | E7: 21 | F7: 2 | G7: 53 | H7: 48 | I7: 0 | J7: 15 | K7: 0
A8: Grandview - Woodland | B8: 4 | C8: 12 | D8: 1 | E8: 19 | F8: 9 | G8: 51 | H8: 31 | I8: 1 | J8: 14 | K8: 0
A9: Hastings - Sunrise | B9: 7 | C9: 13 | D9: 2 | E9: 7 | F9: 4 | G9: 33 | H9: 17 | I9: 0 | J9: 22 | K9: 1
A10: Kensington - Cedar Cottage | B10: 1 | C10: 5 | D10: 1 | E10: 15 | F10: 11 | G10: 44 | H10: 30 | I10: 0 | J10: 29 | K10: 1
A11: Kerrisdale | B11: 0 | C11: 2 | D11: 1 | E11: 11 | F11: 0 | G11: 8 | H11: 3 | I11: 0 | J11: 1 | K11: 0
A12: Killarney | B12: 2 | C12: 4 | D12: 0 | E12: 6 | F12: 0 | G12: 20 | H12: 14 | I12: 0 | J12: 3 | K12: 1
A13: Kitsilano | B13: 2 | C13: 5 | D13: 2 | E13: 13 | F13: 6 | G13: 41 | H13: 34 | I13: 1 | J13: 20 | K13: 0
A14: Marpole | B14: 3 | C14: 8 | D14: 0 | E14: 23 | F14: 4 | G14: 35 | H14: 19 | I14: 1 | J14: 8 | K14: 0
A15: Mount Pleasant | B15: 1 | C15: 11 | D15: 3 | E15: 39 | F15: 4 | G15: 45 | H15: 67 | I15: 0 | J15: 13 | K15: 3
... A28: GRAND TOTAL | B28: 53 | C28: 285 | D28: 44 | E28: 300 | F28: 78 | G28: 1100 | H28: 857 | I28: 21 | J28: 350 | K28: 43
A29: Please refer to the website for data disclaimers and limitations
A30: Data run on 2019/04/16

Sheet Jan_2019
A1: VANCOUVER POLICE DEPARTMENT - NEIGHBOURHOOD STATISTICS
A2: January 2019
A3: Neighbourhood | B3: Sex Offences | C3: Assaults | D3: Robbery | E3: B&E | F3: Theft of MV | G3: Theft from Auto | H3: Theft<>$5K | I3: Arson | J3: Mischief | K3: Offensive Weapons
A4: Arbutus Ridge | B4: 0 | C4: 1 | D4: 0 | E4: 4 | F4: 0 | G4: 5 | H4: 9 | I4: 1 | J4: 3 | K4: 0
A5: Central Business District | B5: 8 | C5: 128 | D5: 14 | E5: 57 | F5: 12 | G5: 585 | H5: 360 | I5: 2 | J5: 122 | K5: 19
A6: Dunbar - Southlands | B6: 0 | C6: 0 | D6: 1 | E6: 4 | F6: 0 | G6: 11 | H6: 5 | I6: 1 | J6: 5 | K6: 0
A7: Fairview | B7: 2 | C7: 10 | D7: 1 | E7: 16 | F7: 3 | G7: 72 | H7: 65 | I7: 0 | J7: 23 | K7: 0
A8: Grandview - Woodland | B8: 5 | C8: 13 | D8: 1 | E8: 29 | F8: 7 | G8: 64 | H8: 40 | I8: 1 | J8: 36 | K8: 2
A9: Hastings - Sunrise | B9: 0 | C9: 6 | D9: 0 | E9: 17 | F9: 8 | G9: 82 | H9: 27 | I9: 0 | J9: 17 | K9: 0
A10: Kensington - Cedar Cottage | B10: 2 | C10: 9 | D10: 2 | E10: 10 | F10: 6 | G10: 64 | H10: 26 | I10: 1 | J10: 22 | K10: 1
A11: Kerrisdale | B11: 0 | C11: 2 | D11: 0 | E11: 13 | F11: 1 | G11: 13 | H11: 14 | I11: 0 | J11: 2 | K11: 0
A12: Killarney | B12: 0 | C12: 2 | D12: 0 | E12: 10 | F12: 3 | G12: 21 | H12: 12 | I12: 0 | J12: 5 | K12: 0
A13: Kitsilano | B13: 1 | C13: 7 | D13: 1 | E13: 19 | F13: 2 | G13: 64 | H13: 26 | I13: 0 | J13: 10 | K13: 0
A14: Marpole | B14: 0 | C14: 6 | D14: 0 | E14: 11 | F14: 2 | G14: 25 | H14: 15 | I14: 2 | J14: 11 | K14: 2
A15: Mount Pleasant | B15: 2 | C15: 13 | D15: 3 | E15: 19 | F15: 11 | G15: 63 | H15: 63 | I15: 2 | J15: 22 | K15: 1
... A28: GRAND TOTAL | B28: 35 | C28: 304 | D28: 34 | E28: 325 | F28: 96 | G28: 1528 | H28: 940 | I28: 12 | J28: 414 | K28: 44
A29: Please refer to the website for data disclaimers and limitations
A30: Data run on 2019/02/19

Sheet Sheet9
A3: Neighbourhood | B3: Sex Offences | C3: Assaults | D3: Robbery | E3: B&E | F3: Theft of MV | G3: Theft from Auto | H3: Theft<>$5K | I3: Arson | J3: Mischief | K3: Offensive Weapons
A4: Central Business District | B4: 10 | C4: 160 | D4: 16 | E4: 63 | F4: 4 | G4: 216 | H4: 253 | I4: 10 | J4: 116 | K4: 40 | M4: August | N4: 2020
A5: Strathcona | B5: 4 | C5: 61 | D5: 10 | E5: 22 | F5: 11 | G5: 39 | H5: 59 | I5: 10 | J5: 35 | K5: 18 | M5: August | N5: 2020
A6: West End | B6: 1 | C6: 33 | D6: 2 | E6: 25 | F6: 9 | G6: 56 | H6: 46 | I6: 0 | J6: 36 | K6: 6 | M6: August | N6: 2020
A7: GRAND TOTAL | B7: 48 | C7: 405 | D7: 51 | E7: 329 | F7: 84 | G7: 788 | H7: 871 | I7: 28 | J7: 391 | K7: 98 | M7: August | N7: 2020
A8: Central Business District | B8: 11 | C8: 144 | D8: 15 | E8: 55 | F8: 6 | G8: 170 | H8: 176 | I8: 5 | J8: 138 | K8: 42 | M8: July | N8: 2020
A9: Strathcona | B9: 3 | C9: 66 | D9: 11 | E9: 14 | F9: 10 | G9: 28 | H9: 63 | I9: 6 | J9: 55 | K9: 24 | M9: July | N9: 2020
A10: West End | B10: 5 | C10: 36 | D10: 2 | E10: 24 | F10: 3 | G10: 70 | H10: 56 | I10: 1 | J10: 30 | K10: 4 | M10: July | N10: 2020
A11: GRAND TOTAL | B11: 42 | C11: 382 | D11: 54 | E11: 353 | F11: 64 | G11: 629 | H11: 835 | I11: 25 | J11: 395 | K11: 91 | M11: July | N11: 2020
A12: Central Business District | B12: 20 | C12: 183 | D12: 31 | E12: 71 | F12: 23 | G12: 528 | H12: 480 | I12: 4 | J12: 133 | K12: 68 | M12: August | N12: 2019
A13: Strathcona | B13: 7 | C13: 82 | D13: 9 | E13: 25 | F13: 10 | G13: 64 | H13: 72 | I13: 7 | J13: 36 | K13: 34 | M13: August | N13: 2019
A14: West End | B14: 4 | C14: 38 | D14: 7 | E14: 46 | F14: 7 | G14: 130 | H14: 136 | I14: 1 | J14: 32 | K14: 3 | M14: August | N14: 2019
A15: GRAND TOTAL | B15: 49 | C15: 462 | D15: 67 | E15: 403 | F15: 138 | G15: 1445 | H15: 1306 | I15: 19 | J15: 418 | K15: 130 | M15: August | N15: 2019
A17: YOY
B18: Sex Offences | C18: Assaults | D18: Robbery | E18: B&E | F18: Theft of MV | G18: Theft from Auto | H18: Theft <>$5k | I18: Arson | J18: Mischief | K18: Offensive Weapons
A19: Central Business District MOM | B19: =B4/B8-1 -> -0.090909091 | C19: =C4/C8-1 -> 0.11111111 | D19: =D4/D8-1 -> 0.066666667 | E19: =E4/E8-1 -> 0.14545455 | F19: =F4/F8-1 -> -0.33333333 | G19: =G4/G8-1 -> 0.27058824 | H19: =H4/H8-1 -> 0.4375 | I19: =I4/I8-1 -> 1 | ... K19: =K4/K8-1 -> -0.047619048
A20: Central Business District YOY | B20: =B4/B12-1 -> -0.5 | C20: =C4/C12-1 -> -0.12568306 | D20: =D4/D12-1 -> -0.48387097 | E20: =E4/E12-1 -> -0.11267606 | F20: =F4/F12-1 -> -0.82608696 | G20: =G4/G12-1 -> -0.59090909 | H20: =H4/H12-1 -> -0.47291667 | I20: =I4/I12-1 -> 1.5 | ... K20: =K4/K12-1 -> -0.41176471
A21: Strathcona MOM | B21: =B5/B9-1 -> 0.33333333 | C21: =C5/C9-1 -> -0.075757576 | D21: =D5/D9-1 -> -0.090909091 | E21: =E5/E9-1 -> 0.57142857 | F21: =F5/F9-1 -> 0.1 | G21: =G5/G9-1 -> 0.39285714 | H21: =H5/H9-1 -> -0.063492063 | I21: =I5/I9-1 -> 0.66666667 | ... K21: =K5/K9-1 -> -0.25
A22: Strathcona YOY | B22: =B5/B13-1 -> -0.42857143 | C22: =C5/C13-1 -> -0.25609756 | D22: =D5/D13-1 -> 0.11111111 | E22: =E5/E13-1 -> -0.12 | F22: =F5/F13-1 -> 0.1 | G22: =G5/G13-1 -> -0.390625 | H22: =H5/H13-1 -> -0.18055556 | I22: =I5/I13-1 -> 0.42857143 | ... K22: =K5/K13-1 -> -0.47058824
A23: West End MOM | B23: =B6/B10-1 -> -0.8 | C23: =C6/C10-1 -> -0.083333333 | D23: =D6/D10-1 -> 0 | E23: =E6/E10-1 -> 0.041666667 | F23: =F6/F10-1 -> 2 | G23: =G6/G10-1 -> -0.2 | H23: =H6/H10-1 -> -0.17857143 | I23: =I6/I10-1 -> -1 | ... K23: =K6/K10-1 -> 0.5
A24: West End YOY | B24: =B6/B14-1 -> -0.75 | C24: =C6/C14-1 -> -0.13157895 | D24: =D6/D14-1 -> -0.71428571 | E24: =E6/E14-1 -> -0.45652174 | F24: =F6/F14-1 -> 0.28571429 | G24: =G6/G14-1 -> -0.56923077 | H24: =H6/H14-1 -> -0.66176471 | I24: =I6/I14-1 -> -1 | ... K24: =K6/K14-1 -> 1
A25: GRAND TOTAL MOM | B25: =B7/B11-1 -> 0.14285714 | C25: =C7/C11-1 -> 0.060209424 | D25: =D7/D11-1 -> -0.055555556 | E25: =E7/E11-1 -> -0.067988669 | F25: =F7/F11-1 -> 0.3125 | G25: =G7/G11-1 -> 0.25278219 | H25: =H7/H11-1 -> 0.043113772 | I25: =I7/I11-1 -> 0.12 | ... K25: =K7/K11-1 -> 0.076923077
A26: GRAND TOTAL YOY | B26: =B7/B15-1 -> -0.020408163 | C26: =C7/C15-1 -> -0.12337662 | D26: =D7/D15-1 -> -0.23880597 | E26: =E7/E15-1 -> -0.18362283 | F26: =F7/F15-1 -> -0.39130435 | G26: =G7/G15-1 -> -0.45467128 | H26: =H7/H15-1 -> -0.3330781 | I26: =I7/I15-1 -> 0.47368421 | ... K26: =K7/K15-1 -> -0.24615385
B28: Sex Offences | C28: Assaults | D28: Robbery | E28: B&E | F28: Theft of MV | G28: Theft from Auto | H28: Theft <>$5k | I28: Arson | J28: Mischief | K28: Offensive Weapons
A29: Vancouver Total | B29: =B7/B15-1 -> -0.020408163 | C29: =C7/C15-1 -> -0.12337662 | D29: =D7/D15-1 -> -0.23880597 | E29: =E7/E15-1 -> -0.18362283 | F29: =F7/F15-1 -> -0.39130435 | G29: =G7/G15-1 -> -0.45467128 | H29: =H7/H15-1 -> -0.3330781 | I29: =I7/I15-1 -> 0.47368421 | ... K29: =K7/K15-1 -> -0.24615385
A30: Central Business District | B30: =B4/B12-1 -> -0.5 | C30: =C4/C12-1 -> -0.12568306 | D30: =D4/D12-1 -> -0.48387097 | E30: =E4/E12-1 -> -0.11267606 | F30: =F4/F12-1 -> -0.82608696 | G30: =G4/G12-1 -> -0.59090909 | H30: =H4/H12-1 -> -0.47291667 | I30: =I4/I12-1 -> 1.5 | ... K30: =K4/K12-1 -> -0.41176471
A33: Rest of Vancouver MOM
A34: Rest of Vancouver YOY
