Workbook
Name IDX: 'Table 17-3'!$A$1

Sheet Homeless_Count_Manual
AQ1: Vancouver as lowest homeless per capita and middling percentage of homeless lived elsewhere in prior year
E4: Vancouver 2017 | F4: Calgary 2018 | G4: Winnipeg 2018 | L4: ='1710013601-eng-1'!C45 -> Winnipeg (CMA), Manitoba | N4: ='1710013601-eng-1'!E45 -> Calgary (CMA), Alberta | P4: ='1710013601-eng-1'!G45 -> Vancouver (CMA), British Columbia
C5: Total Homeless Count | E5: 3605 | F5: 2911 | G5: 1519 | L5: ='1710013601-eng-1'!C46 -> 2016 / 2017 | M5: ='1710013601-eng-1'!D46 -> 2017 / 2018 | N5: ='1710013601-eng-1'!E46 -> 2016 / 2017 | O5: ='1710013601-eng-1'!F46 -> 2017 / 2018 | P5: ='1710013601-eng-1'!G46 -> 2016 / 2017 | Q5: ='1710013601-eng-1'!H46 -> 2017 / 2018 | AH5: ='1710013501-eng-1'!B6 -> Both sexes
C6: Unsheltered | E6: 1032 | F6: 59 | G6: 204 | K6: ='1710013601-eng-1'!B47 -> Non-Movers | L6: ='1710013601-eng-1'!C47 -> 776251 | M6: ='1710013601-eng-1'!D47 -> 792063 | N6: ='1710013601-eng-1'!E47 -> 1388672 | O6: ='1710013601-eng-1'!F47 -> 1411548 | P6: ='1710013601-eng-1'!G47 -> 2505512 | Q6: ='1710013601-eng-1'!H47 -> 2534261 | AH6: ='1710013501-eng-1'!B7 -> All ages
C7: Sheltered | E7: =256+1864+156+30 -> 2306 | F7: =1374+1276 -> 2650 | G7: =392+236+213 -> 841 | K7: ='1710013601-eng-1'!B48 -> Intraprovincial Migrants | L7: ='1710013601-eng-1'!C48 -> 7867 | M7: ='1710013601-eng-1'!D48 -> 7424 | N7: ='1710013601-eng-1'!E48 -> 15750 | O7: ='1710013601-eng-1'!F48 -> 15018 | P7: ='1710013601-eng-1'!G48 -> 16736 | Q7: ='1710013601-eng-1'!H48 -> 16045 | AG7: ='1710013501-eng-1'!A8 -> Geography | AH7: ='1710013501-eng-1'!B8 -> 2015 | AI7: ='1710013501-eng-1'!C8 -> 2016 | AJ7: ='1710013501-eng-1'!D8 -> 2017 | AK7: ='1710013501-eng-1'!E8 -> 2018 | AL7: ='1710013501-eng-1'!F8 -> 2019
C8: Other | E8: 267 | F8: 202 | G8: =399+47+28 -> 474 | K8: ='1710013601-eng-1'!B49 -> Interprovincial Migrants | L8: ='1710013601-eng-1'!C49 -> 6377 | M8: ='1710013601-eng-1'!D49 -> 6029 | N8: ='1710013601-eng-1'!E49 -> 18019 | O8: ='1710013601-eng-1'!F49 -> 20149 | P8: ='1710013601-eng-1'!G49 -> 23759 | Q8: ='1710013601-eng-1'!H49 -> 22964 | AH8: ='1710013501-eng-1'!B9 -> Persons | BG8: Visibility of Homeless Vancouver
C9: Non-Migrant (in Metro Previous Year) | E9: =2262-496+142 -> 1908 | F9: =50%+12% -> 0.62 | G9: =35+90+86+381+304 -> 896 | K9: ='1710013601-eng-1'!B50 -> International Migrants | L9: ='1710013601-eng-1'!C50 -> 18200 | M9: ='1710013601-eng-1'!D50 -> 17502 | N9: ='1710013601-eng-1'!E50 -> 18740 | O9: ='1710013601-eng-1'!F50 -> 19525 | P9: ='1710013601-eng-1'!G50 -> 42366 | Q9: ='1710013601-eng-1'!H50 -> 54936 | AG9: ='1710013501-eng-1'!A10 -> Winnipeg (CMA), Manitoba | AH9: ='1710013501-eng-1'!B10 -> 785860 | AI9: ='1710013501-eng-1'!C10 -> 801177 | AJ9: ='1710013501-eng-1'!D10 -> 817754 | AK9: ='1710013501-eng-1'!E10 -> 832232 | AL9: ='1710013501-eng-1'!F10 -> 844566
C10: Intraprovincial Migrant | E10: =107+21 -> 128 | F10: =32%*28% -> 0.0896 | G10: 61 | AG10: ='1710013501-eng-1'!A11 -> Calgary (CMA), Alberta | AH10: ='1710013501-eng-1'!B11 -> 1414010 | AI10: ='1710013501-eng-1'!C11 -> 1438160 | AJ10: ='1710013501-eng-1'!D11 -> 1459256 | AK10: ='1710013501-eng-1'!E11 -> 1483983 | AL10: ='1710013501-eng-1'!F11 -> 1514723
A11: =SUM(E9:E14) -> 3605 | C11: Interprovincial Migrant | E11: 155 | F11: =32%*35% -> 0.112 | G11: =12+10+9+7+2 -> 40 | AG11: ='1710013501-eng-1'!A12 -> Vancouver (CMA), British Columbia | AH11: ='1710013501-eng-1'!B12 -> 2544484 | AI11: ='1710013501-eng-1'!C12 -> 2582202 | AJ11: ='1710013501-eng-1'!D12 -> 2612874 | AK11: ='1710013501-eng-1'!E12 -> 2652306 | AL11: ='1710013501-eng-1'!F12 -> 2691351
C12: International Migrant | E12: 45 | F12: =32%*4% -> 0.0128 | G12: 11
C13: Unknown Origin | E13: =496-470 -> 26 | F13: =32%*33%+32%*1% -> 0.1088 | G13: =G30-SUM(G10:G12) -> 32 | K13: Counted as Homeless per 1,000 by Residence One Year Prior
C14: Unknown mobility | E14: 1343 | F14: 0.06 | G14: =G5-SUM(G9:G12,G13) -> 479 | L14: Metro Winnipeg 2018 | M14: Metro Calgary 2018 | N14: Metro Vancouver 2017 | AH14: Counted Homeless per 10,000 Residents | AI14: % of Counted Homeless Recent Migrants | AL14: Unsheltered | AM14: Sheltered | AN14: Other
C15: Adj. Non-Migrant (in Metro Previous Year) | E15: =ROUND(E9+E$14*E9/SUM(E$9:E$12),0) -> 3054 | F15: =ROUND(F$5*F9+F$5*(F$14*F9/SUM(F$9:F$12)),0) -> 1935 | G15: =ROUND(G9+G$14*G9/SUM(G$9:G$12),0) -> 1322 | K15: Non-Migrant | L15: =1000*G15/M6 -> 1.6690592 | M15: =1000*F15/O6 -> 1.3708354 | N15: =1000*E15/P6 -> 1.2189125 | AG15: Metro Winnipeg* 2018 | AH15: =10000*G5/AK9 -> 18.252122 | AI15: =100*(1-G15/G5) -> 12.969059 | AK15: Winnipeg 2018 | AL15: =G6 -> 204 | AM15: =G7 -> 841 | AN15: =G8 -> 474
C16: Adj. Intraprovincial Migrant | E16: =ROUND(E10+E$14*(E10/SUM(E$9:E$12))+E$13*(E10/SUM(E$10:E$12)),0) -> 215 | F16: =ROUND(F$5*F10+F$5*(F$14*F10/SUM(F$9:F$12))+F$5*(F$13*F10/SUM(F$10:F$12)),0) -> 412 | G16: =ROUND(G10+G$14*(G10/SUM(G$9:G$12))+G$13*(G10/SUM(G$10:G$12)),0) -> 107 | K16: Intraprovincial Migrant | L16: =1000*G16/M7 -> 14.412716 | M16: =1000*F16/O7 -> 27.433746 | N16: =1000*E16/P7 -> 12.846558 | AG16: Metro Calgary* 2018 | AH16: =10000*F5/AK10 -> 19.616128 | AI16: =100*(1-F15/F5) -> 33.527997 | AK16: Calgary 2018 | AL16: =F6 -> 59 | AM16: =F7 -> 2650 | AN16: =F8 -> 202
C17: Adj. Interprovincial Migrant | E17: =ROUND(E11+E$14*(E11/SUM(E$9:E$12))+E$13*(E11/SUM(E$10:E$12)),0) -> 260 | F17: =ROUND(F$5*F11+F$5*(F$14*F11/SUM(F$9:F$12))+F$5*(F$13*F11/SUM(F$10:F$12)),0) -> 515 | G17: =ROUND(G11+G$14*(G11/SUM(G$9:G$12))+G$13*(G11/SUM(G$10:G$12)),0) -> 70 | K17: Interprovincial Migrant | L17: =1000*G17/M8 -> 11.610549 | M17: =1000*F17/O8 -> 25.559581 | N17: =1000*E17/P8 -> 10.943222 | AG17: Metro Vancouver 2017 | AH17: =10000*E5/AJ11 -> 13.797068 | AI17: =100*(1-E15/E5) -> 15.284327 | AK17: Metro Vancouver 2017 | AL17: =E6 -> 1032 | AM17: =E7 -> 2306 | AN17: =E8 -> 267
C18: Adj. International Migrant | E18: =ROUND(E12+E$14*(E12/SUM(E$9:E$12))+E$13*(E12/SUM(E$10:E$12)),0) -> 76 | F18: =ROUND(F$5*F12+F$5*(F$14*F12/SUM(F$9:F$12))+F$5*(F$13*F12/SUM(F$10:F$12)),0) -> 59 | G18: =ROUND(G12+G$14*(G12/SUM(G$9:G$12))+G$13*(G12/SUM(G$10:G$12)),0) -> 19 | K18: International Migrant | L18: =1000*G18/M9 -> 1.0855902 | M18: =1000*F18/O9 -> 3.021767 | N18: =1000*E18/P9 -> 1.7938913
E21: =SUM(E15:E18) -> 3605 | F21: =SUM(F15:F18) -> 2921 | G21: =SUM(G15:G18) -> 1518
C22: Source | E22: http://www.metrovancouver.org/services/regional-planning/homelessness/HomelessnessPublications/2017MetroVancouverHomelessCount.pdf
F23: http://calgaryhomeless.com/content/uploads/Calgary_PiT_Report_2018.pdf
G24: http://streetcensuswpg.ca/wp-content/uploads/2018/10/2018_FinalReport_Web.pdf
C26: Counts | E26: p. 19 | F26: p. 6 | G26: p. 11
C27: Mobility | E27: p. 45-46 | F27: p. 21-22 | G27: p. 24
C29: Winnipeg
C30: Mobility < 1 year | G30: =27+34+27+26+30 -> 144
C32: p. 24 | D32: For Interprovincial Migrants in Winnipeg's Count
C34: Alberta | D34: 12
C35: Ontario | D35: 10
C36: BC | D36: 9 | F36: =D36/SUM(D34:D38) -> 0.225
C37: Sask. | D37: 7
C38: Quebec | D38: 2
C41: Calgary
C43: p. 23 of 56 | D43: Reason for Move | H43: USA CPS Table 17 Mobility Reason for Move for Intercounty One-Year Movers
N44: Migrants in Calgary Homeless Count | O44: Migrants (Intercounty) in USA, CPS
C45: Recreation/Shopping | E45: 0 | H45: ='Table 17-3'!AK8 -> Changes in Marital Status | J45: ='Table 17-3'!AL8 -> 543 | L45: EMPLOYMENT | M45: Employment (Seeking) | N45: =E60 -> 0.24 | O45: =J49/SUM($J$45:$J$62) -> 0.012328641
C46: Only Option Available | E46: 0.01 | H46: ='Table 17-3'!AK9 -> Form own Household | J46: ='Table 17-3'!AL9 -> 1045 | M46: Employment (Secured) | N46: =E56 -> 0.09 | O46: =J48/SUM($J$45:$J$62) -> 0.24537676
C47: Home Community | E47: 0.01 | H47: ='Table 17-3'!AK10 -> Other Family Reasons | J47: ='Table 17-3'!AL10 -> 1428 | M47: Other Work-Related | O47: =SUM(J50,J51,J52)/SUM($J$45:$J$62) -> 0.10451743
C48: Involvement with Justice System | E48: 0.01 | H48: ='Table 17-3'!AK11 -> New Job | J48: ='Table 17-3'!AL11 -> 2667 | M48: New Life Opportunities | N48: =E58 -> 0.1
C49: Change in Family Circumstances | E49: 0.01 | H49: ='Table 17-3'!AK12 -> Look for Work | J49: ='Table 17-3'!AL12 -> 134 | L49: FAMILY | M49: Family Moved Here | N49: =E59 -> 0.14
C50: To Attend School | E50: 0.02 | H50: ='Table 17-3'!AK13 -> Lessen Commute | J50: ='Table 17-3'!AL13 -> 810 | M50: Marry or Form New Household | O50: =SUM(J45,J46)/SUM($J$45:$J$62) -> 0.1461036
C51: Unknown | E51: 0.04 | H51: ='Table 17-3'!AK14 -> Retired | J51: ='Table 17-3'!AL14 -> 183 | M51: Other Family Reasons | N51: =E49+E53+E47 -> 0.08 | O51: =J47/SUM($J$45:$J$62) -> 0.13138283
C52: Fear for Safety | E52: 0.04 | H52: ='Table 17-3'!AK15 -> Other Job-Related | J52: ='Table 17-3'!AL15 -> 143 | L52: HOUSING | M52: Find Housing, Own Home, Better Home | N52: =E54 -> 0.07 | O52: =SUM(J53:J55)/SUM($J$45:$J$62) -> 0.1749931
C53: To Visit Friends/Family | E53: 0.06 | H53: ='Table 17-3'!AK16 -> Wanted to Own Home | J53: ='Table 17-3'!AL16 -> 534 | M53: Safety, Better Neighbourhood, Less Crime | N53: =E52 -> 0.04 | O53: =J55/SUM($J$45:$J$62) -> 0.020517067
C54: To Find Housing | E54: 0.07 | H54: ='Table 17-3'!AK17 -> Wanted Better Home | J54: ='Table 17-3'!AL17 -> 1145 | M54: Access Emergency, Cheaper Housing, Evicted | N54: =E57 -> 0.09 | O54: =SUM(J56:J57)/SUM($J$45:$J$62) -> 0.048670531
C55: To Access Emergency Shelter(s) | E55: 0.07 | H55: ='Table 17-3'!AK18 -> Wanted Better N'hood / Less Crime | J55: ='Table 17-3'!AL18 -> 223 | M55: Other Housing | O55: =J58/SUM($J$45:$J$62) -> 0.045082344
C56: Employment (Secured) | E56: 0.09 | H56: ='Table 17-3'!AK19 -> Wanted Cheaper Housing | J56: ='Table 17-3'!AL19 -> 474 | L56: OTHER | M56: Access Services, Health | N56: =E57 -> 0.09 | O56: =J61/SUM($J$45:$J$62) -> 0.028889502
C57: To Access Services and Supports | E57: 0.09 | H57: ='Table 17-3'!AK20 -> Foreclosure / Eviction | J57: ='Table 17-3'!AL20 -> 55 | M57: Attend School | N57: =E50 -> 0.02 | O57: =J59/SUM($J$45:$J$62) -> 0.04057411
C58: Pursue New Life Opportunities | E58: 0.1 | H58: ='Table 17-3'!AK21 -> Other Housing Reasons | J58: ='Table 17-3'!AL21 -> 490 | M58: Unknown & Other Misc. | N58: =E51+E48+E45+E46 -> 0.06 | O58: =SUM(J60,J62:J63)/SUM($J$45:$J$62) -> 0.070843684
C59: Family Moved Here | E59: 0.14 | H59: ='Table 17-3'!AK22 -> To Attend School / University | J59: ='Table 17-3'!AL22 -> 441
C60: Employment (Seeking) | E60: 0.24 | H60: ='Table 17-3'!AK23 -> Change in Climate | J60: ='Table 17-3'!AL23 -> 182
H61: ='Table 17-3'!AK24 -> Health Reasons | J61: ='Table 17-3'!AL24 -> 314
E62: =SUM(E45:E60) -> 1 | H62: ='Table 17-3'!AK25 -> Natural Disaster | J62: ='Table 17-3'!AL25 -> 58
H63: ='Table 17-3'!AK26 -> Other Reason | J63: ='Table 17-3'!AL26 -> 530

Sheet 1710013601-eng-1
A1: Components of population change by census metropolitan area and census agglomeration, 2016 boundaries 1 2 3 4 5
A2: Annual
A3: Table: 17-10-0136-01
A4: Geography: Census metropolitan area, Census agglomeration, Census metropolitan area part, Census agglomeration part
B6: Both sexes
B7: All ages
B8: 2016 / 2017 | L8: 2017 / 2018
A9: Geography | B9: Births 7 | C9: Deaths 8 | D9: Immigrants 9 | E9: Emigrants 10 11 | F9: Returning emigrants 11 12 | G9: Net temporary emigration 11 13 | H9: Net interprovincial migration 14 | I9: Net intraprovincial migration 15 | J9: Net non-permanent residents 16 17 | K9: Residual deviation 18 | L9: Births 7 | M9: Deaths 8 | N9: Immigrants 9 | O9: Emigrants 10 11 | P9: Returning emigrants 11 12 | Q9: Net temporary emigration 11 13 | R9: Net interprovincial migration 14 | S9: Net intraprovincial migration 15 | T9: Net non-permanent residents 16 17 | U9: Residual deviation 18
B10: Persons
A11: Winnipeg (CMA), Manitoba | B11: 9059 | C11: 6413 | D11: 12671 | E11: 1198 | F11: 830 | G11: 264 | H11: -4009 | I11: 1202 | J11: 4699 | K11: .. | L11: 9196 | M11: 6499 | N11: 11260 | O11: 1123 | P11: 877 | Q11: 246 | R11: -5125 | S11: 773 | T11: 5365 | U11: ..
A12: Calgary (CMA), Alberta | B12: 18075 | C12: 6944 | D12: 18886 | E12: 4451 | F12: 2512 | G12: 1263 | H12: -5620 | I12: 2559 | J12: -2658 | K12: .. | L12: 17743 | M12: 7244 | N12: 17425 | O12: 4557 | P12: 2510 | Q12: 1288 | R12: -1896 | S12: 2444 | T12: -410 | U12: ..
A13: Vancouver (CMA), British Columbia | B13: 24501 | C13: 16207 | D13: 28023 | E13: 8791 | F13: 4603 | G13: 3816 | H13: 5718 | I13: -13099 | J13: 9740 | K13: .. | L13: 24100 | M13: 16075 | N13: 33295 | O13: 8952 | P13: 4620 | Q13: 3911 | R13: 3771 | S13: -14437 | T13: 17021 | U13: ..
A15: Symbol legend:
A16: .. | B16: not available for a specific reference period
A18: Footnotes:
A19: 1 | B19: Population estimates based on the Standard Geographical Classification (SGC) 2016 as delineated in the 2016 Census.
A20: 2 | B20: A census metropolitan area (CMA) or a census agglomeration (CA) is formed by one or more adjacent municipalities centred on a population centre (known as the core). A CMA must have a total population of at least 100,000 of which 50,000 or more must live in the core based on adjusted data from the previous Census of Population Program. A CA must have a core population of at least 10,000 also based on data from the previous Census of Population Program. To be included in the CMA or CA, other adjacent municipalities must have a high degree of integration with the core, as measured by commuting flows derived from data on place of work from the previous Census Program. If the population of the core of a CA falls below 10,000, the CA is retired from the next census. However, once an area becomes a CMA, it is retained as a CMA even if its total population declines below 100,000 or the population of its core falls below 50,000. All areas inside the CMA or CA that are not population centres are rural areas. When a CA has a core of at least 50,000, based on data from the previous Census of Population, it is subdivided into census tracts. Census tracts are maintained for the CA even if the population of the core subsequently falls below 50,000. All CMAs are subdivided into census tracts (2016 Census Dictionary, catalogue number 98-301-X2016001).
A21: 3 | B21: An area outside census metropolitan areas and census agglomerations is made up of all areas (within a province or territory) unallocated to a census metropolitan area (CMA) or census agglomeration (CA).
A22: 4 | B22: The population growth, which is used to calculate population estimates of census metropolitan areas and census agglomerations (table 17100135), is comprised of the components of population growth (table 17100136).
A23: 5 | B23: This table replaces table 17100079.
A24: 6 | B24: Age on July 1.
A25: 7 | B25: The estimates for births are preliminary for 2018/2019, updated for 2016/2017 and 2017/2018 and final up to 2015/2016. Preliminary and updated estimates of births were produced by Demography Division, Statistics Canada (see definitions, data sources and methods record number 3601 and 3608), with the exception of Quebec's data, which are taken from the estimates of "l'Institut de la statistique du Québec" (ISQ) and then adjusted to Statistics Canada's provincial estimates. Final data were produced by Health Statistics Division, Statistics Canada (see definitions, data sources and methods record number 3231). However, before 2011, the final estimates included in this table may differ from the data released by the Health Statistics Division, due to the imputation of certain unknown values (province, territory or sex).
A26: 8 | B26: The estimates for deaths are preliminary for 2018/2019, updated for 2016/2017 and 2017/2018 and final up to 2015/2016. Preliminary and updated estimates of deaths were produced by Demography Division, Statistics Canada (see definitions, data sources and methods record number 3601 and 3608), with the exception of Quebec's data, which are taken from the estimates of "l'Institut de la statistique du Québec" (ISQ) and then adjusted to Statistics Canada's provincial estimates. Final data were produced by Health Statistics Division, Statistics Canada (see definitions, data sources and methods record number 3233). However, before 2011, the final estimates may differ from the data released by the Health Statistics Division due to the imputation of certain unknown values. In addition, for estimates of deaths, the age represents age at the beginning of the period (July 1st) and not the age at the time of occurrence, as with the Health Statistics Division data.
A27: 9 | B27: The estimates for immigrants are preliminary for 2018/2019 and final up to 2017/2018.
A28: 10 | B28: The estimates for emigrants are preliminary for 2018/2019, updated for 2016/2017 and 2017/2018 final up to 2015/2016.
A29: 11 | B29: Please note that for the emigration, the returning emigration and the net temporary emigration, the estimates for the most recent periods are expected to be identical or very similar. In the absence of more up-to-date data sources, the assumption is made that levels remain similar.
A30: 12 | B30: The estimates for returning emigrants are preliminary for 2018/2019, updated for 2016/2017 and 2017/2018 final up to 2015/2016.
... A36: 18 | B36: Residual deviation is obtained by distributing the error of closure linearly throughout the intercensal period. The error of closure is defined as the difference between the postcensal population estimates on Census Day and the population enumerated in that census adjusted for census net undercoverage and incompletely enumerated indian reserves.
A38: How to cite: Statistics Canada. Table 17-10-0136-01 Components of population change by census metropolitan area and census agglomeration, 2016 boundaries
A39: https://www150.statcan.gc.ca/t1/tbl1/en/tv.action?pid=1710013601
A40: DOI: https://doi.org/10.25318/1710013601-eng
N44: ='1710013501-eng-1'!B6 -> Both sexes
C45: ='1710014101-eng-1'!K6 -> Winnipeg (CMA), Manitoba | E45: ='1710014101-eng-1'!M6 -> Calgary (CMA), Alberta | G45: ='1710014101-eng-1'!O6 -> Vancouver (CMA), British Columbia | N45: ='1710013501-eng-1'!B7 -> All ages
C46: ='1710014101-eng-1'!K7 -> 2016 / 2017 | D46: ='1710014101-eng-1'!L7 -> 2017 / 2018 | E46: ='1710014101-eng-1'!M7 -> 2016 / 2017 | F46: ='1710014101-eng-1'!N7 -> 2017 / 2018 | G46: ='1710014101-eng-1'!O7 -> 2016 / 2017 | H46: ='1710014101-eng-1'!P7 -> 2017 / 2018 | M46: ='1710013501-eng-1'!A8 -> Geography | N46: ='1710013501-eng-1'!B8 -> 2015 | O46: ='1710013501-eng-1'!C8 -> 2016 | P46: ='1710013501-eng-1'!D8 -> 2017 | Q46: ='1710013501-eng-1'!E8 -> 2018 | R46: ='1710013501-eng-1'!F8 -> 2019
B47: Non-Movers | C47: =O48-C11-E11-G11-(C48-I11)-(C49-H11) -> 776251 | D47: =P48-M11-O11-G11-(D48-S11)-(D49-R11) -> 792063 | E47: =O49-C12-E12-G12-(E48-I12)-(E49-H12) -> 1388672 | F47: =P49-M12-O12-Q12-(F48-S12)-(F49-R12) -> 1411548 | G47: =O50-C13-E13-G13-(G48-I13)-(G49-H13) -> 2505512 | H47: =P50-M13-O13-Q13-(H48-S13)-(H49-R13) -> 2534261 | N47: ='1710013501-eng-1'!B9 -> Persons
B48: Intraprovincial Migrants | C48: ='1710014101-eng-1'!K9 -> 7867 | D48: ='1710014101-eng-1'!L9 -> 7424 | E48: ='1710014101-eng-1'!M9 -> 15750 | F48: ='1710014101-eng-1'!N9 -> 15018 | G48: ='1710014101-eng-1'!O9 -> 16736 | H48: ='1710014101-eng-1'!P9 -> 16045 | M48: ='1710013501-eng-1'!A10 -> Winnipeg (CMA), Manitoba | N48: ='1710013501-eng-1'!B10 -> 785860 | O48: ='1710013501-eng-1'!C10 -> 801177 | P48: ='1710013501-eng-1'!D10 -> 817754 | Q48: ='1710013501-eng-1'!E10 -> 832232 | R48: ='1710013501-eng-1'!F10 -> 844566
B49: Interprovincial Migrants | C49: ='1710014101-eng-1'!K10 -> 6377 | D49: ='1710014101-eng-1'!L10 -> 6029 | E49: ='1710014101-eng-1'!M10 -> 18019 | F49: ='1710014101-eng-1'!N10 -> 20149 | G49: ='1710014101-eng-1'!O10 -> 23759 | H49: ='1710014101-eng-1'!P10 -> 22964 | M49: ='1710013501-eng-1'!A11 -> Calgary (CMA), Alberta | N49: ='1710013501-eng-1'!B11 -> 1414010 | O49: ='1710013501-eng-1'!C11 -> 1438160 | P49: ='1710013501-eng-1'!D11 -> 1459256 | Q49: ='1710013501-eng-1'!E11 -> 1483983 | R49: ='1710013501-eng-1'!F11 -> 1514723
B50: International Migrants | C50: =D11+F11+J11 -> 18200 | D50: =N11+P11+T11 -> 17502 | E50: =D12+F12+J12 -> 18740 | F50: =N12+P12+T12 -> 19525 | G50: =D13+F13+J13 -> 42366 | H50: =N13+P13+T13 -> 54936 | M50: ='1710013501-eng-1'!A12 -> Vancouver (CMA), British Columbia | N50: ='1710013501-eng-1'!B12 -> 2544484 | O50: ='1710013501-eng-1'!C12 -> 2582202 | P50: ='1710013501-eng-1'!D12 -> 2612874 | Q50: ='1710013501-eng-1'!E12 -> 2652306 | R50: ='1710013501-eng-1'!F12 -> 2691351

Sheet 1710013501-eng-1
A1: Population estimates, July 1, by census metropolitan area and census agglomeration, 2016 boundaries 1 2 3 4 5 6 7
A2: Annual
A3: Table: 17-10-0135-01
A4: Geography: Census metropolitan area, Census agglomeration, Census metropolitan area part, Census agglomeration part
B6: Both sexes
B7: All ages
A8: Geography | B8: 2015 | C8: 2016 | D8: 2017 | E8: 2018 | F8: 2019
B9: Persons
A10: Winnipeg (CMA), Manitoba | B10: 785860 | C10: 801177 | D10: 817754 | E10: 832232 | F10: 844566
A11: Calgary (CMA), Alberta | B11: 1414010 | C11: 1438160 | D11: 1459256 | E11: 1483983 | F11: 1514723
A12: Vancouver (CMA), British Columbia | B12: 2544484 | C12: 2582202 | D12: 2612874 | E12: 2652306 | F12: 2691351
A14: Symbol legend:
A16: Footnotes:
A17: 1 | B17: Population estimates based on the Standard Geographical Classification (SGC) 2016 as delineated in the 2016 Census.
A18: 2 | B18: A census metropolitan area (CMA) or a census agglomeration (CA) is formed by one or more adjacent municipalities centred on a population centre (known as the core). A CMA must have a total population of at least 100,000 of which 50,000 or more must live in the core based on adjusted data from the previous Census of Population Program. A CA must have a core population of at least 10,000 also based on data from the previous Census of Population Program. To be included in the CMA or CA, other adjacent municipalities must have a high degree of integration with the core, as measured by commuting flows derived from data on place of work from the previous Census Program. If the population of the core of a CA falls below 10,000, the CA is retired from the next census. However, once an area becomes a CMA, it is retained as a CMA even if its total population declines below 100,000 or the population of its core falls below 50,000. All areas inside the CMA or CA that are not population centres are rural areas. When a CA has a core of at least 50,000, based on data from the previous Census of Population, it is subdivided into census tracts. Census tracts are maintained for the CA even if the population of the core subsequently falls below 50,000. All CMAs are subdivided into census tracts (2016 Census Dictionary, catalogue number 98-301-X2016001).
A19: 3 | B19: An area outside census metropolitan areas and census agglomerations is made up of all areas (within a province or territory) unallocated to a census metropolitan area (CMA) or census agglomeration (CA).
A20: 4 | B20: Postcensal estimates are based on the latest census counts adjusted for census net undercoverage (including adjustment for incompletely enumerated Indian reserves) and for the estimated population growth that occurred since that census. Intercensal estimates are based on postcensal estimates and census counts adjusted of the censuses preceding and following the considered year.
A21: 5 | B21: Population estimates as of July 1 are final intercensal up to 2015, final postcensal for 2016, updated postcensal for 2017 to 2018 and preliminary postcensal for 2019.
A22: 6 | B22: The population growth, which is used to calculate population estimates of census metropolitan areas and census agglomerations (table 17100135), is comprised of the components of population growth (table 17100136).
A23: 7 | B23: This table replaces table 17100078.
A24: 8 | B24: Age on July 1.
A26: How to cite: Statistics Canada. Table 17-10-0135-01 Population estimates, July 1, by census metropolitan area and census agglomeration, 2016 boundaries
A27: https://www150.statcan.gc.ca/t1/tbl1/en/tv.action?pid=1710013501
A28: DOI: https://doi.org/10.25318/1710013501-eng

Sheet 1710014101-eng-1
A1: Interprovincial and intraprovincial migrants, by census metropolitan area and census agglomeration of origin and destination, 2016 boundaries 1 2 3 4 5 6
A2: Annual
A3: Table: 17-10-0141-01
A4: Geography: Census metropolitan area, Census agglomeration, Census metropolitan area part, Census agglomeration part
B6: Winnipeg (CMA), Manitoba | D6: Calgary (CMA), Alberta | F6: Vancouver (CMA), British Columbia | K6: Winnipeg (CMA), Manitoba | M6: Calgary (CMA), Alberta | O6: Vancouver (CMA), British Columbia
A7: Geography of origin | B7: 2016 / 2017 | C7: 2017 / 2018 | D7: 2016 / 2017 | E7: 2017 / 2018 | F7: 2016 / 2017 | G7: 2017 / 2018 | K7: 2016 / 2017 | L7: 2017 / 2018 | M7: 2016 / 2017 | N7: 2017 / 2018 | O7: 2016 / 2017 | P7: 2017 / 2018
B8: Persons
A9: St. John's (CMA), Newfoundland and Labrador | B9: 43 | C9: 38 | D9: 189 | E9: 302 | F9: 122 | G9: 145 | J9: Intraprovincial | K9: =SUM(B112:B118) -> 7867 | L9: =SUM(C112:C118) -> 7424 | M9: =SUM(D132:D149,D130) -> 15750 | N9: =SUM(E132:E149,E130) -> 15018 | O9: =SUM(F150:F176) -> 16736 | P9: =SUM(G150:G176) -> 16045
A10: Bay Roberts (CA), Newfoundland and Labrador | B10: 0 | C10: 1 | D10: 3 | E10: 8 | F10: 0 | G10: 4 | J10: Interprovincial | K10: =SUM(B9:B181)-K9 -> 6377 | L10: =SUM(C9:C181)-L9 -> 6029 | M10: =SUM(D9:D181)-M9 -> 18019 | N10: =SUM(E9:E181)-N9 -> 20149 | O10: =SUM(F9:F181)-O9 -> 23759 | P10: =SUM(G9:G181)-P9 -> 22964
A11: Grand Falls-Windsor (CA), Newfoundland and Labrador | B11: 6 | C11: 1 | D11: 8 | E11: 8 | F11: 0 | G11: 1
A12: Gander (CA), Newfoundland and Labrador | B12: 0 | C12: 2 | D12: 7 | E12: 11 | F12: 2 | G12: 1
A13: Corner Brook (CA), Newfoundland and Labrador | B13: 1 | C13: 2 | D13: 24 | E13: 37 | F13: 13 | G13: 15
A14: Area outside census metropolitan areas and census agglomerations, Newfoundland and Labrador | B14: 15 | C14: 10 | D14: 137 | E14: 176 | F14: 35 | G14: 29
A15: Charlottetown (CA), Prince Edward Island | B15: 8 | C15: 11 | D15: 68 | E15: 81 | F15: 145 | G15: 142
A16: Summerside (CA), Prince Edward Island | B16: 4 | C16: 6 | D16: 12 | E16: 10 | F16: 4 | G16: 6
A17: Area outside census metropolitan areas and census agglomerations, Prince Edward Island | B17: 3 | C17: 1 | D17: 32 | E17: 23 | F17: 10 | G17: 13
A18: Halifax (CMA), Nova Scotia | B18: 99 | C18: 73 | D18: 412 | E18: 447 | F18: 354 | G18: 364
A19: Kentville (CA), Nova Scotia | B19: 3 | C19: 0 | D19: 18 | E19: 13 | F19: 6 | G19: 11
A20: Truro (CA), Nova Scotia | B20: 2 | C20: 4 | D20: 42 | E20: 31 | F20: 14 | G20: 21
A21: New Glasgow (CA), Nova Scotia | B21: 1 | C21: 0 | D21: 38 | E21: 29 | F21: 4 | G21: 9
A22: Cape Breton (CA), Nova Scotia | B22: 6 | C22: 2 | D22: 62 | E22: 70 | F22: 33 | G22: 23
... A111: Area outside census metropolitan areas and census agglomerations, Ontario | B111: 279 | C111: 291 | D111: 346 | E111: 309 | F111: 287 | G111: 311
A112: Winnipeg (CMA), Manitoba | B112: .. | C112: .. | D112: 935 | E112: 1137 | F112: 1476 | G112: 1405
A113: Winkler (CA), Manitoba | B113: 272 | C113: 228 | D113: 29 | E113: 14 | F113: 15 | G113: 7
A114: Steinbach (CA), Manitoba | B114: 384 | C114: 373 | D114: 14 | E114: 28 | F114: 3 | G114: 10
A115: Portage la Prairie (CA), Manitoba | B115: 251 | C115: 281 | D115: 6 | E115: 13 | F115: 11 | G115: 1
A116: Brandon (CA), Manitoba | B116: 496 | C116: 467 | D116: 93 | E116: 113 | F116: 75 | G116: 88
A117: Thompson (CA), Manitoba | B117: 298 | C117: 316 | D117: 16 | E117: 35 | F117: 9 | G117: 14
A118: Area outside census metropolitan areas and census agglomerations, Manitoba | B118: 6166 | C118: 5759 | D118: 181 | E118: 265 | F118: 130 | G118: 130
A119: Regina (CMA), Saskatchewan | B119: 198 | C119: 173 | D119: 564 | E119: 836 | F119: 513 | G119: 576
A120: Yorkton (CA), Saskatchewan | B120: 21 | C120: 19 | D120: 46 | E120: 58 | F120: 26 | G120: 24
A121: Moose Jaw (CA), Saskatchewan | B121: 20 | C121: 42 | D121: 46 | E121: 55 | F121: 32 | G121: 26
A122: Swift Current (CA), Saskatchewan | B122: 4 | C122: 6 | D122: 38 | E122: 51 | F122: 14 | G122: 7
A123: Saskatoon (CMA), Saskatchewan | B123: 219 | C123: 207 | D123: 776 | E123: 912 | F123: 593 | G123: 662
A124: North Battleford (CA), Saskatchewan | B124: 9 | C124: 11 | D124: 64 | E124: 52 | F124: 29 | G124: 28
... A136: High River (CA), Alberta | B136: 4 | C136: 6 | D136: 391 | E136: 411 | F136: 14 | G136: 6
A137: Calgary (CMA), Alberta | B137: 572 | C137: 478 | D137: .. | E137: .. | F137: 3852 | G137: 3533
A138: Strathmore (CA), Alberta | B138: 6 | C138: 4 | D138: 439 | E138: 449 | F138: 11 | G138: 13
A139: Canmore (CA), Alberta | B139: 8 | C139: 10 | D139: 451 | E139: 452 | F139: 33 | G139: 44
A140: Red Deer (CA), Alberta | B140: 26 | C140: 38 | D140: 819 | E140: 883 | F140: 174 | G140: 120
A141: Sylvan Lake (CA), Alberta | B141: 3 | C141: 4 | D141: 129 | E141: 144 | F141: 28 | G141: 13
A142: Lacombe (CA), Alberta | B142: 1 | C142: 5 | D142: 74 | E142: 52 | F142: 12 | G142: 10
A143: Camrose (CA), Alberta | B143: 6 | C143: 7 | D143: 59 | E143: 68 | F143: 20 | G143: 14
A144: Edmonton (CMA), Alberta | B144: 514 | C144: 407 | D144: 4288 | E144: 4171 | F144: 2928 | G144: 2499
A145: Cold Lake (CA), Alberta | B145: 28 | C145: 21 | D145: 159 | E145: 131 | F145: 24 | G145: 23
A146: Grande Prairie (CA), Alberta | B146: 28 | C146: 20 | D146: 421 | E146: 405 | F146: 166 | G146: 123
A147: Wood Buffalo (CA), Alberta | B147: 52 | C147: 35 | D147: 1197 | E147: 813 | F147: 211 | G147: 137
A148: Wetaskiwin (CA), Alberta | B148: 4 | C148: 6 | D148: 55 | E148: 44 | F148: 13 | G148: 9
A149: Area outside census metropolitan areas and census agglomerations, Alberta | B149: 108 | C149: 111 | D149: 4545 | E149: 4306 | F149: 608 | G149: 566
... A158: Abbotsford - Mission (CMA), British Columbia | B158: 83 | C158: 59 | D158: 203 | E158: 246 | F158: 3745 | G158: 3580
A159: Vancouver (CMA), British Columbia | B159: 546 | C159: 541 | D159: 2295 | E159: 2722 | F159: .. | G159: ..
A160: Squamish (CA), British Columbia | B160: 2 | C160: 11 | D160: 27 | E160: 45 | F160: 359 | G160: 413
A161: Victoria (CMA), British Columbia | B161: 117 | C161: 131 | D161: 524 | E161: 488 | F161: 2262 | G161: 2223
A162: Duncan (CA), British Columbia | B162: 10 | C162: 3 | D162: 23 | E162: 43 | F162: 179 | G162: 146
A163: Nanaimo (CA), British Columbia | B163: 19 | C163: 19 | D163: 190 | E163: 180 | F163: 698 | G163: 729
A164: Parksville (CA), British Columbia | B164: 5 | C164: 4 | D164: 53 | E164: 52 | F164: 157 | G164: 156
A165: Port Alberni (CA), British Columbia | B165: 1 | C165: 0 | D165: 13 | E165: 9 | F165: 107 | G165: 125
A166: Courtenay (CA), British Columbia | B166: 18 | C166: 33 | D166: 76 | E166: 68 | F166: 288 | G166: 285
A167: Campbell River (CA), British Columbia | B167: 2 | C167: 8 | D167: 42 | E167: 49 | F167: 183 | G167: 161
A168: Powell River (CA), British Columbia | B168: 0 | C168: 0 | D168: 5 | E168: 12 | F168: 101 | G168: 107
A169: Williams Lake (CA), British Columbia | B169: 4 | C169: 4 | D169: 16 | E169: 13 | F169: 108 | G169: 110
A170: Quesnel (CA), British Columbia | B170: 1 | C170: 5 | D170: 14 | E170: 13 | F170: 84 | G170: 105
A171: Prince Rupert (CA), British Columbia | B171: 1 | C171: 3 | D171: 1 | E171: 7 | F171: 104 | G171: 78
... A181: Area outside census metropolitan areas and census agglomerations, Nunavut | B181: 54 | C181: 36 | D181: 14 | E181: 10 | F181: 14 | G181: 10
A183: Symbol legend:
A184: .. | B184: not available for a specific reference period
A186: Footnotes:
A187: 1 | B187: Population estimates based on the Standard Geographical Classification (SGC) 2016 as delineated in the 2016 Census.
A188: 2 | B188: A census metropolitan area (CMA) or a census agglomeration (CA) is formed by one or more adjacent municipalities centred on a population centre (known as the core). A CMA must have a total population of at least 100,000 of which 50,000 or more must live in the core based on adjusted data from the previous Census of Population Program. A CA must have a core population of at least 10,000 also based on data from the previous Census of Population Program. To be included in the CMA or CA, other adjacent municipalities must have a high degree of integration with the core, as measured by commuting flows derived from data on place of work from the previous Census Program. If the population of the core of a CA falls below 10,000, the CA is retired from the next census. However, once an area becomes a CMA, it is retained as a CMA even if its total population declines below 100,000 or the population of its core falls below 50,000. All areas inside the CMA or CA that are not population centres are rural areas. When a CA has a core of at least 50,000, based on data from the previous Census of Population, it is subdivided into census tracts. Census tracts are maintained for the CA even if the population of the core subsequently falls below 50,000. All CMAs are subdivided into census tracts.
A189: 3 | B189: An area outside census metropolitan areas and census agglomerations is made up of all areas (within a province or territory) unallocated to a census metropolitan area (CMA) or census agglomeration (CA).
A190: 4 | B190: The estimates for interprovincial and intraprovincial migrants are final. Intraprovincial migrant data for the province of Quebec are taken from the estimates of "l'Institut de la statistique du Québec" (ISQ).
A191: 5 | B191: This table replaces table 17100087.
A192: 6 | B192: When adding up migrant flows in this table, small differences may be observed when comparing them with the number of migrants from table 17000136. Those differences are expected and are the results of minor edits necessary to ensure the consistency of the cohort component formula.
A194: How to cite: Statistics Canada. Table 17-10-0141-01 Interprovincial and intraprovincial migrants, by census metropolitan area and census agglomeration of origin and destination, 2016 boundaries
A195: https://www150.statcan.gc.ca/t1/tbl1/en/tv.action?pid=1710014101

Sheet Table 17-3
A1: Table with row headers in columns A and M and column headers in rows 5 and 6 | M1: Table with row headers in columns A and M and column headers in rows 5 and 6
A2: Table 17-3. Reason for Move (Both Collapsed and Specific Categories), by Type of Move, Sex, Age, Race and Hispanic Origin, Relationship to Householder, Educational Attainment, Marital Status, Nativity, Tenure, and Poverty Status: 2018 to 2019 | M2: Table 17-3. Reason for Move (Both Collapsed and Specific Categories), by Type of Move, Sex, Age, Race and Hispanic Origin, Relationship to Householder, Educational Attainment, Marital Status, Nativity, Tenure, and Poverty Status: 2018 to 2019
A3: (Numbers in thousands) | M3: (Numbers in thousands)
A4: Leading dots indicate subparts. | M4: Leading dots indicate subparts.
A5: Intercounty Movers in the United States | B5: .Total | C5: Family-related reasons | G5: Employment-related reasons | M5: Intercounty Movers in the United States | N5: Housing-related reasons | U5: Other reasons
C6: . Total, collapsed/1 | D6: . Change in marital status | E6: . To establish own household | F6: . Other family reason/2 | G6: . Total, collapsed/1 | H6: . New job or job transfer | I6: . To look for work or lost job | J6: . To be closer to work/easier commute | K6: . Retired | L6: . Other job-related reason/2 | N6: . Total, collapsed/1 | O6: . Wanted to own home, not rent | P6: . Wanted new or better home/ apartment | Q6: . Wanted better neighborhood/less crime | R6: . Wanted cheaper housing | S6: . Foreclosure/eviction | T6: . Other housing reason/2 | U6: . Total, collapsed/1 | V6: . To attend or leave college | W6: . Change of climate | X6: . Health reasons | Y6: . Natural disaster | Z6: . Other reasons/2
D7: Change in Marital Status | E7: Est. Own Household | F7: Other Family | H7: New Job | I7: To Look for Work | J7: Easier Commute | K7: Retired | L7: Other Job-Related | O7: Wanted to Own | P7: Better Home | Q7: Better Neighborhood / Less Crime | R7: Cheaper Housing | S7: Foreclosure/Eviction | T7: Other Housing | V7: Attend School/College | W7: Change of Climate | X7: Health | Y7: Natural Disaster | Z7: Other | AI7: MOVERS 1+ years
A8: MOVERS 1+ years | B8: 11401 | C8: 3016 | D8: 543 | E8: 1045 | F8: 1428 | G8: 3937 | H8: 2667 | I8: 134 | J8: 810 | K8: 183 | L8: 143 | M8: MOVERS 1+ years | N8: 2922 | O8: 534 | P8: 1145 | Q8: 223 | R8: 474 | S8: 55 | T8: 490 | U8: 1526 | V8: 441 | W8: 182 | X8: 314 | Y8: 58 | Z8: 530 | AI8: 11401 | AK8: Changes in Marital Status | AL8: =AI10 -> 543
AI9: 3016 | AK9: Form own Household | AL9: =AI11 -> 1045
A10: SEX | M10: SEX | AH10: Change in Marital Status | AI10: 543 | AK10: Other Family Reasons | AL10: =AI12 -> 1428
A11: .Male | B11: 5550 | C11: 1419 | D11: 276 | E11: 490 | F11: 653 | G11: 2025 | H11: 1382 | I11: 79 | J11: 396 | K11: 86 | L11: 83 | M11: .Male | N11: 1338 | O11: 266 | P11: 494 | Q11: 97 | R11: 227 | S11: 23 | T11: 232 | U11: 768 | V11: 237 | W11: 82 | X11: 159 | Y11: 27 | Z11: 263 | AH11: Est. Own Household | AI11: 1045 | AK11: New Job | AL11: =AI14 -> 2667
A12: .Female | B12: 5851 | C12: 1597 | D12: 267 | E12: 555 | F12: 775 | G12: 1913 | H12: 1285 | I12: 55 | J12: 415 | K12: 97 | L12: 60 | M12: .Female | N12: 1583 | O12: 268 | P12: 652 | Q12: 126 | R12: 247 | S12: 32 | T12: 259 | U12: 758 | V12: 204 | W12: 101 | X12: 155 | Y12: 32 | Z12: 267 | AH12: Other Family | AI12: 1428 | AK12: Look for Work | AL12: =AI15 -> 134
A13: AGE | M13: AGE | AI13: 3937 | AK13: Lessen Commute | AL13: =AI16 -> 810
A14: .Under 16 years | B14: 2221 | C14: 665 | D14: 82 | E14: 215 | F14: 367 | G14: 771 | H14: 576 | I14: 9 | J14: 136 | K14: 16 | L14: 35 | M14: .Under 16 years | N14: 617 | O14: 70 | P14: 276 | Q14: 70 | R14: 94 | S14: 10 | T14: 98 | U14: 168 | V14: 17 | W14: 24 | X14: 28 | Y14: 9 | Z14: 89 | AH14: New Job | AI14: 2667 | AK14: Retired | AL14: =AI17 -> 183
A15: .16 to 19 years | B15: 502 | C15: 137 | D15: 14 | E15: 30 | F15: 93 | G15: 143 | H15: 83 | I15: 14 | J15: 37 | K15: 4 | L15: 6 | M15: .16 to 19 years | N15: 152 | O15: 35 | P15: 56 | Q15: 11 | R15: 29 | S15: 4 | T15: 17 | U15: 70 | V15: 36 | W15: 2 | X15: 6 | Y15: - | Z15: 26 | AH15: To Look for Work | AI15: 134 | AK15: Other Job-Related | AL15: =AI18 -> 143
A16: .20 to 24 years | B16: 1497 | C16: 423 | D16: 65 | E16: 198 | F16: 160 | G16: 490 | H16: 329 | I16: 40 | J16: 107 | K16: - | L16: 13 | M16: .20 to 24 years | N16: 246 | O16: 68 | P16: 82 | Q16: 13 | R16: 29 | S16: - | T16: 53 | U16: 339 | V16: 225 | W16: 40 | X16: 18 | Y16: 2 | Z16: 54 | AH16: Easier Commute | AI16: 810 | AK16: Wanted to Own Home | AL16: =AI21 -> 534
A17: .25 to 29 years | B17: 1858 | C17: 430 | D17: 64 | E17: 190 | F17: 176 | G17: 779 | H17: 546 | I17: 22 | J17: 200 | K17: 1 | L17: 11 | M17: .25 to 29 years | N17: 424 | O17: 96 | P17: 176 | Q17: 25 | R17: 59 | S17: 7 | T17: 61 | U17: 225 | V17: 115 | W17: 3 | X17: 23 | Y17: 1 | Z17: 83 | AH17: Retired | AI17: 183 | AK17: Wanted Better Home | AL17: =AI22 -> 1145
A18: .30 to 44 years | B18: 2505 | C18: 554 | D18: 136 | E18: 176 | F18: 242 | G18: 1010 | H18: 737 | I18: 19 | J18: 195 | K18: 15 | L18: 43 | M18: .30 to 44 years | N18: 666 | O18: 132 | P18: 253 | Q18: 66 | R18: 97 | S18: 18 | T18: 100 | U18: 274 | V18: 30 | W18: 51 | X18: 52 | Y18: 7 | Z18: 134 | AH18: Other Job-Related | AI18: 143 | AK18: Wanted Better N'hood / Less Crime | AL18: =AI23 -> 223
A19: .45 to 64 years | B19: 2012 | C19: 553 | D19: 145 | E19: 185 | F19: 223 | G19: 601 | H19: 363 | I19: 30 | J19: 132 | K19: 47 | L19: 28 | M19: .45 to 64 years | N19: 651 | O19: 117 | P19: 248 | Q19: 29 | R19: 126 | S19: 16 | T19: 115 | U19: 207 | V19: 15 | W19: 33 | X19: 40 | Y19: 2 | Z19: 117 | AI19: MOVERS 1+ years | AK19: Wanted Cheaper Housing | AL19: =AI24 -> 474
A20: .65 to 74 years | B20: 483 | C20: 153 | D20: 18 | E20: 38 | F20: 98 | G20: 115 | H20: 25 | I20: - | J20: 2 | K20: 82 | L20: 5 | M20: .65 to 74 years | N20: 107 | O20: 9 | P20: 40 | Q20: - | R20: 29 | S20: - | T20: 30 | U20: 108 | V20: - | W20: 19 | X20: 58 | Y20: 12 | Z20: 19 | AI20: 2922 | AK20: Foreclosure / Eviction | AL20: =AI25 -> 55
A21: .75+ years | B21: 323 | C21: 100 | D21: 18 | E21: 13 | F21: 69 | G21: 29 | H21: 8 | I21: - | J21: 1 | K21: 18 | L21: 2 | M21: .75+ years | N21: 59 | O21: 7 | P21: 16 | Q21: 8 | R21: 12 | S21: - | T21: 16 | U21: 136 | V21: 3 | W21: 11 | X21: 88 | Y21: 25 | Z21: 9 | AH21: Wanted to Own | AI21: 534 | AK21: Other Housing Reasons | AL21: =AI26 -> 490
A22: RACE AND HISPANIC ORIGIN/3 | M22: RACE AND HISPANIC ORIGIN/3 | AH22: Better Home | AI22: 1145 | AK22: To Attend School / University | AL22: =AI28 -> 441
A23: .White alone | B23: 8005 | C23: 2208 | D23: 454 | E23: 737 | F23: 1017 | G23: 2742 | H23: 1829 | I23: 90 | J23: 550 | K23: 172 | L23: 102 | M23: .White alone | N23: 1975 | O23: 426 | P23: 776 | Q23: 127 | R23: 326 | S23: 27 | T23: 293 | U23: 1080 | V23: 271 | W23: 138 | X23: 232 | Y23: 37 | Z23: 402 | AH23: Better Neighborhood / Less Crime | AI23: 223 | AK23: Change in Climate | AL23: =AI29 -> 182
A24: .Black or African American alone | B24: 1886 | C24: 493 | D24: 45 | E24: 207 | F24: 240 | G24: 595 | H24: 402 | I24: 26 | J24: 136 | K24: 2 | L24: 30 | M24: .Black or African American alone | N24: 596 | O24: 53 | P24: 241 | Q24: 69 | R24: 63 | S24: 27 | T24: 143 | U24: 203 | V24: 79 | W24: 26 | X24: 37 | Y24: 16 | Z24: 46 | AH24: Cheaper Housing | AI24: 474 | AK24: Health Reasons | AL24: =AI30 -> 314
A25: .Asian alone | B25: 727 | C25: 148 | D25: 30 | E25: 44 | F25: 74 | G25: 256 | H25: 183 | I25: 5 | J25: 54 | K25: 9 | L25: 5 | M25: .Asian alone | N25: 216 | O25: 18 | P25: 77 | Q25: 24 | R25: 65 | S25: 1 | T25: 31 | U25: 106 | V25: 56 | W25: - | X25: 7 | Y25: 2 | Z25: 41 | AH25: Foreclosure/Eviction | AI25: 55 | AK25: Natural Disaster | AL25: =AI31 -> 58
A26: .All remaining single races and all race combinations | B26: 782 | C26: 167 | D26: 13 | E26: 57 | F26: 97 | G26: 344 | H26: 254 | I26: 13 | J26: 71 | K26: - | L26: 6 | M26: .All remaining single races and all race combinations | N26: 135 | O26: 36 | P26: 51 | Q26: 3 | R26: 20 | S26: - | T26: 24 | U26: 136 | V26: 35 | W26: 18 | X26: 38 | Y26: 3 | Z26: 42 | AH26: Other Housing | AI26: 490 | AK26: Other Reason | AL26: =AI32 -> 530
A27: .White alone, not Hispanic or Latino | B27: 6631 | C27: 1795 | D27: 379 | E27: 576 | F27: 840 | G27: 2351 | H27: 1592 | I27: 71 | J27: 461 | K27: 167 | L27: 61 | M27: .White alone, not Hispanic or Latino | N27: 1596 | O27: 356 | P27: 628 | Q27: 117 | R27: 234 | S27: 27 | T27: 235 | U27: 889 | V27: 215 | W27: 104 | X27: 208 | Y27: 32 | Z27: 329 | AI27: 1526
A28: .Hispanic or Latino | B28: 1684 | C28: 469 | D28: 90 | E28: 175 | F28: 203 | G28: 516 | H28: 341 | I28: 23 | J28: 103 | K28: 4 | L28: 45 | M28: .Hispanic or Latino | N28: 473 | O28: 87 | P28: 194 | Q28: 15 | R28: 104 | S28: - | T28: 73 | U28: 226 | V28: 76 | W28: 38 | X28: 35 | Y28: 5 | Z28: 72 | AH28: Attend School/College | AI28: 441 | AL28: =SUM(AL8:AL27) -> 11399
A29: .White alone or in combination with one or more other races | B29: 8484 | C29: 2308 | D29: 455 | E29: 777 | F29: 1076 | G29: 2951 | H29: 1973 | I29: 94 | J29: 605 | K29: 172 | L29: 108 | M29: .White alone or in combination with one or more other races | N29: 2069 | O29: 443 | P29: 823 | Q29: 130 | R29: 338 | S29: 27 | T29: 309 | U29: 1155 | V29: 297 | W29: 149 | X29: 254 | Y29: 40 | Z29: 415 | AH29: Change of Climate | AI29: 182
A30: .Black or African American alone or in combination with one or more other races | B30: 2159 | C30: 564 | D30: 49 | E30: 236 | F30: 279 | G30: 694 | H30: 476 | I30: 26 | J30: 160 | K30: 2 | L30: 30 | M30: .Black or African American alone or in combination with one or more other races | N30: 661 | O30: 67 | P30: 273 | Q30: 70 | R30: 67 | S30: 27 | T30: 157 | U30: 240 | V30: 95 | W30: 30 | X30: 48 | Y30: 16 | Z30: 50 | AH30: Health | AI30: 314
A31: .Asian alone or in combination with one or more other races | B31: 853 | C31: 179 | D31: 34 | E31: 55 | F31: 91 | G31: 324 | H31: 226 | I31: 5 | J31: 76 | K31: 9 | L31: 8 | M31: .Asian alone or in combination with one or more other races | N31: 221 | O31: 18 | P31: 80 | Q31: 24 | R31: 67 | S31: 1 | T31: 31 | U31: 128 | V31: 69 | W31: - | X31: 11 | Y31: 2 | Z31: 46 | AH31: Natural Disaster | AI31: 58
A32: RELATIONSHIP TO HOUSEHOLDER/4 | M32: RELATIONSHIP TO HOUSEHOLDER/4 | AH32: Other | AI32: 530
A33: .Householder, spouse present | B33: 1630 | C33: 341 | D33: 70 | E33: 120 | F33: 152 | G33: 675 | H33: 469 | I33: 11 | J33: 102 | K33: 63 | L33: 30 | M33: .Householder, spouse present | N33: 438 | O33: 111 | P33: 174 | Q33: 27 | R33: 51 | S33: 12 | T33: 63 | U33: 175 | V33: 32 | W33: 47 | X33: 54 | Y33: 2 | Z33: 40
A34: .Other family householder | B34: 803 | C34: 278 | D34: 41 | E34: 109 | F34: 128 | G34: 209 | H34: 115 | I34: 10 | J34: 67 | K34: 4 | L34: 12 | M34: .Other family householder | N34: 239 | O34: 31 | P34: 96 | Q34: 26 | R34: 46 | S34: 4 | T34: 36 | U34: 77 | V34: 9 | W34: 10 | X34: 14 | Y34: 7 | Z34: 37
A35: .Spouse of householder | B35: 1707 | C35: 396 | D35: 104 | E35: 123 | F35: 170 | G35: 694 | H35: 477 | I35: 15 | J35: 111 | K35: 63 | L35: 28 | M35: .Spouse of householder | N35: 438 | O35: 113 | P35: 174 | Q35: 24 | R35: 51 | S35: 12 | T35: 65 | U35: 179 | V35: 31 | W35: 48 | X35: 54 | Y35: 2 | Z35: 43
A36: .Child of householder | B36: 2825 | C36: 774 | D36: 115 | E36: 261 | F36: 397 | G36: 990 | H36: 711 | I36: 39 | J36: 174 | K36: 25 | L36: 42 | M36: .Child of householder | N36: 812 | O36: 123 | P36: 340 | Q36: 76 | R36: 107 | S36: 17 | T36: 148 | U36: 249 | V36: 47 | W36: 31 | X36: 47 | Y36: 9 | Z36: 115
A37: .Other relative of householder | B37: 727 | C37: 247 | D37: 27 | E37: 43 | F37: 177 | G37: 126 | H37: 77 | I37: 15 | J37: 24 | K37: 4 | L37: 6 | M37: .Other relative of householder | N37: 235 | O37: 28 | P37: 107 | Q37: 7 | R37: 42 | S37: 4 | T37: 46 | U37: 120 | V37: 22 | W37: 19 | X37: 47 | Y37: 3 | Z37: 29
A38: .Nonrelative of householder | B38: 1295 | C38: 348 | D38: 66 | E38: 124 | F38: 158 | G38: 397 | H38: 231 | I38: 16 | J38: 133 | K38: - | L38: 16 | M38: .Nonrelative of householder | N38: 279 | O38: 42 | P38: 99 | Q38: 25 | R38: 70 | S38: - | T38: 44 | U38: 271 | V38: 115 | W38: 12 | X38: 15 | Y38: - | Z38: 128
A39: .Nonfamily householder | B39: 2404 | C39: 631 | D39: 119 | E39: 265 | F39: 247 | G39: 847 | H39: 587 | I39: 28 | J39: 199 | K39: 23 | L39: 10 | M39: .Nonfamily householder | N39: 481 | O39: 85 | P39: 156 | Q39: 38 | R39: 108 | S39: 6 | T39: 88 | U39: 445 | V39: 184 | W39: 16 | X39: 72 | Y39: 36 | Z39: 137
A40: .Secondary individual in group quarters | B40: 10 | C40: - | D40: - | E40: - | F40: - | G40: - | H40: - | I40: - | J40: - | K40: - | L40: - | M40: .Secondary individual in group quarters | N40: - | O40: - | P40: - | Q40: - | R40: - | S40: - | T40: - | U40: 10 | V40: - | W40: - | X40: 10 | Y40: - | Z40: -
A41: EDUCATIONAL ATTAINMENT (ages 25+) | M41: EDUCATIONAL ATTAINMENT (ages 25+)
A42: .Not a high school graduate | B42: 502 | C42: 125 | D42: 36 | E42: 30 | F42: 59 | G42: 107 | H42: 56 | I42: 7 | J42: 24 | K42: 13 | L42: 7 | M42: .Not a high school graduate | N42: 204 | O42: 19 | P42: 75 | Q42: 11 | R42: 51 | S42: - | T42: 47 | U42: 66 | V42: - | W42: 8 | X42: 31 | Y42: - | Z42: 27
A43: .High school graduate | B43: 1759 | C43: 501 | D43: 103 | E43: 190 | F43: 208 | G43: 510 | H43: 309 | I43: 23 | J43: 110 | K43: 42 | L43: 27 | M43: .High school graduate | N43: 464 | O43: 65 | P43: 180 | Q43: 26 | R43: 89 | S43: 19 | T43: 86 | U43: 284 | V43: 26 | W43: 44 | X43: 114 | Y43: 17 | Z43: 82
A44: .Some college or associate's degree | B44: 1951 | C44: 557 | D44: 107 | E44: 171 | F44: 279 | G44: 647 | H44: 406 | I44: 30 | J44: 131 | K44: 52 | L44: 28 | M44: .Some college or associate's degree | N44: 510 | O44: 124 | P44: 171 | Q44: 40 | R44: 99 | S44: 14 | T44: 61 | U44: 237 | V44: 33 | W44: 32 | X44: 65 | Y44: 10 | Z44: 97
A45: .Bachelor's degree | B45: 1795 | C45: 397 | D45: 80 | E45: 158 | F45: 159 | G45: 723 | H45: 502 | I45: 7 | J45: 174 | K45: 30 | L45: 9 | M45: .Bachelor's degree | N45: 432 | O45: 74 | P45: 182 | Q45: 37 | R45: 49 | S45: 7 | T45: 83 | U45: 242 | V45: 85 | W45: 19 | X45: 37 | Y45: 14 | Z45: 87
A46: .Professional or graduate degree | B46: 1173 | C46: 211 | D46: 56 | E46: 52 | F46: 103 | G46: 546 | H46: 407 | I46: 4 | J46: 91 | K46: 27 | L46: 17 | M46: .Professional or graduate degree | N46: 297 | O46: 77 | P46: 126 | Q46: 14 | R46: 34 | S46: 1 | T46: 45 | U46: 119 | V46: 19 | W46: 12 | X46: 14 | Y46: 5 | Z46: 68
A47: .Persons 1 to 24 years | B47: 4221 | C47: 1225 | D47: 162 | E47: 444 | F47: 620 | G47: 1404 | H47: 988 | I47: 63 | J47: 280 | K47: 19 | L47: 54 | M47: .Persons 1 to 24 years | N47: 1015 | O47: 173 | P47: 413 | Q47: 94 | R47: 152 | S47: 14 | T47: 169 | U47: 577 | V47: 278 | W47: 66 | X47: 53 | Y47: 11 | Z47: 168
A48: MARITAL STATUS (ages 15+) | M48: MARITAL STATUS (ages 15+)
A49: .Married, spouse present | B49: 3454 | C49: 773 | D49: 176 | E49: 248 | F49: 349 | G49: 1383 | H49: 949 | I49: 34 | J49: 215 | K49: 126 | L49: 58 | M49: .Married, spouse present | N49: 926 | O49: 228 | P49: 380 | Q49: 51 | R49: 111 | S49: 25 | T49: 131 | U49: 372 | V49: 64 | W49: 99 | X49: 116 | Y49: 4 | Z49: 90
A50: .Married, spouse absent | B50: 199 | C50: 57 | D50: 27 | E50: 15 | F50: 15 | G50: 76 | H50: 56 | I50: - | J50: 21 | K50: - | L50: - | M50: .Married, spouse absent | N50: 32 | O50: 3 | P50: 11 | Q50: - | R50: 5 | S50: 1 | T50: 12 | U50: 33 | V50: 14 | W50: - | X50: 9 | Y50: - | Z50: 9
A51: .Widowed | B51: 336 | C51: 113 | D51: 26 | E51: 27 | F51: 59 | G51: 37 | H51: 18 | I51: 3 | J51: 7 | K51: 8 | L51: - | M51: .Widowed | N51: 91 | O51: 10 | P51: 34 | Q51: 3 | R51: 21 | S51: - | T51: 22 | U51: 97 | V51: - | W51: 3 | X51: 50 | Y51: 25 | Z51: 17
A52: .Divorced | B52: 917 | C52: 288 | D52: 71 | E52: 97 | F52: 120 | G52: 211 | H52: 109 | I52: 6 | J52: 70 | K52: 18 | L52: 9 | M52: .Divorced | N52: 279 | O52: 48 | P52: 87 | Q52: 26 | R52: 78 | S52: 3 | T52: 36 | U52: 139 | V52: 5 | W52: 17 | X52: 39 | Y52: 8 | Z52: 70
A53: .Separated | B53: 216 | C53: 135 | D53: 71 | E53: 29 | F53: 35 | G53: 33 | H53: 20 | I53: 3 | J53: 7 | K53: 2 | L53: 1 | M53: .Separated | N53: 26 | O53: 2 | P53: 12 | Q53: 5 | R53: 3 | S53: - | T53: 4 | U53: 22 | V53: 1 | W53: - | X53: 8 | Y53: 6 | Z53: 7
A54: .Never Married | B54: 4179 | C54: 1021 | D54: 92 | E54: 421 | F54: 508 | G54: 1455 | H54: 963 | I54: 80 | J54: 357 | K54: 15 | L54: 40 | M54: .Never Married | N54: 989 | O54: 173 | P54: 362 | Q54: 70 | R54: 164 | S54: 16 | T54: 204 | U54: 714 | V54: 345 | W54: 40 | X54: 69 | Y54: 6 | Z54: 254
A55: .Persons 1 to 14 years | B55: 2099 | C55: 629 | D55: 79 | E55: 208 | F55: 343 | G55: 742 | H55: 553 | I55: 9 | J55: 133 | K55: 13 | L55: 35 | M55: .Persons 1 to 14 years | N55: 579 | O55: 70 | P55: 259 | Q55: 66 | R55: 91 | S55: 10 | T55: 82 | U55: 148 | V55: 12 | W55: 23 | X55: 22 | Y55: 9 | Z55: 82
A56: NATIVITY | M56: NATIVITY
A57: .Native-born | B57: 10067 | C57: 2695 | D57: 446 | E57: 924 | F57: 1325 | G57: 3469 | H57: 2344 | I57: 132 | J57: 715 | K57: 165 | L57: 113 | M57: .Native-born | N57: 2566 | O57: 488 | P57: 1016 | Q57: 203 | R57: 372 | S57: 48 | T57: 439 | U57: 1337 | V57: 371 | W57: 165 | X57: 282 | Y57: 52 | Z57: 467
A58: .Foreign-born | B58: 1334 | C58: 321 | D58: 97 | E58: 121 | F58: 103 | G58: 468 | H58: 323 | I58: 2 | J58: 95 | K58: 18 | L58: 30 | M58: .Foreign-born | N58: 356 | O58: 46 | P58: 130 | Q58: 19 | R58: 102 | S58: 7 | T58: 51 | U58: 188 | V58: 70 | W58: 18 | X58: 31 | Y58: 6 | Z58: 63
A59: ..Naturalized U.S. citizen | B59: 513 | C59: 111 | D59: 20 | E59: 49 | F59: 42 | G59: 179 | H59: 115 | I59: 1 | J59: 39 | K59: 13 | L59: 11 | M59: ..Naturalized U.S. citizen | N59: 141 | O59: 24 | P59: 45 | Q59: 9 | R59: 34 | S59: 6 | T59: 23 | U59: 82 | V59: 27 | W59: 13 | X59: 20 | Y59: 2 | Z59: 21
A60: ..Not a U.S. citizen | B60: 821 | C60: 210 | D60: 77 | E60: 72 | F60: 61 | G60: 289 | H60: 208 | I60: 2 | J60: 55 | K60: 5 | L60: 19 | M60: ..Not a U.S. citizen | N60: 215 | O60: 22 | P60: 85 | Q60: 11 | R60: 68 | S60: 1 | T60: 28 | U60: 106 | V60: 44 | W60: 5 | X60: 11 | Y60: 4 | Z60: 42
A61: TENURE | M61: TENURE
A62: .In an owner-occupied housing unit | B62: 3989 | C62: 1137 | D62: 197 | E62: 406 | F62: 535 | G62: 1054 | H62: 625 | I62: 61 | J62: 195 | K62: 151 | L62: 23 | M62: .In an owner-occupied housing unit | N62: 1356 | O62: 505 | P62: 455 | Q62: 57 | R62: 158 | S62: 4 | T62: 178 | U62: 442 | V62: 39 | W62: 78 | X62: 119 | Y62: 8 | Z62: 198
A63: .In a renter-occupied housing unit | B63: 7412 | C63: 1879 | D63: 346 | E63: 640 | F63: 894 | G63: 2883 | H63: 2043 | I63: 73 | J63: 616 | K63: 32 | L63: 120 | M63: .In a renter-occupied housing unit | N63: 1565 | O63: 29 | P63: 691 | Q63: 166 | R63: 316 | S63: 51 | T63: 313 | U63: 1084 | V63: 402 | W63: 104 | X63: 195 | Y63: 51 | Z63: 332
A64: POVERTY STATUS | M64: POVERTY STATUS
A65: .Below 100% of poverty | B65: 1773 | C65: 555 | D65: 110 | E65: 171 | F65: 274 | G65: 441 | H65: 278 | I65: 29 | J65: 100 | K65: 16 | L65: 19 | M65: .Below 100% of poverty | N65: 463 | O65: 31 | P65: 154 | Q65: 77 | R65: 102 | S65: 4 | T65: 96 | U65: 313 | V65: 110 | W65: 4 | X65: 56 | Y65: 24 | Z65: 120
A66: .100% to 149% of poverty | B66: 1104 | C66: 309 | D66: 46 | E66: 129 | F66: 135 | G66: 347 | H66: 234 | I66: 24 | J66: 83 | K66: 7 | L66: - | M66: .100% to 149% of poverty | N66: 294 | O66: 83 | P66: 70 | Q66: 17 | R66: 67 | S66: - | T66: 58 | U66: 153 | V66: 44 | W66: 29 | X66: 42 | Y66: 4 | Z66: 34
A67: .150% of poverty and above | B67: 8524 | C67: 2152 | D67: 387 | E67: 746 | F67: 1019 | G67: 3149 | H67: 2155 | I67: 82 | J67: 627 | K67: 161 | L67: 124 | M67: .150% of poverty and above | N67: 2164 | O67: 420 | P67: 922 | Q67: 129 | R67: 306 | S67: 51 | T67: 336 | U67: 1059 | V67: 287 | W67: 150 | X67: 216 | Y67: 31 | Z67: 376
A68: Footnotes: | M68: Footnotes:
A69: 1/ The collapsed reason for move categories are combinations of several specific categories. For family-related reason, the specific reasons included are change in marital status, to establish own household, and other family reason. For employment-related reason, the specific reasons included are new job or job transfer, to look for work or lost job, to be closer to work/easier commute, retired, and other job-related reason. For housing-related reason, the specific reasons included are wanted to own home, not rent, wanted new or better house/apartment, wanted better neighborhood/less crime, wanted cheaper housing, foreclosure/eviction, and other housing reason. For other reason, the specific reasons included are to attend or leave college, change of climate, health reasons, natural disaster, and other reason. | M69: 1/ The collapsed reason for move categories are combinations of several specific categories. For family-related reason, the specific reasons included are change in marital status, to establish own household, and other family reason. For employment-related reason, the specific reasons included are new job or job transfer, to look for work or lost job, to be closer to work/easier commute, retired, and other job-related reason. For housing-related reason, the specific reasons included are wanted to own home, not rent, wanted new or better house/apartment, wanted better neighborhood/less crime, wanted cheaper housing, foreclosure/eviction, and other housing reason. For other reason, the specific reasons included are to attend or leave college, change of climate, health reasons, natural disaster, and other reason.
A70: 2/ As of 2019, write-in responses for "other family", "other job-related", and "other housing" could potentially be recoded to more specific reasons for moving. Before 2019, only "other reason" responses could have been recoded. Beginning in 2016, respondents who selected "other family", "other job-related", "other housing", and "other reason" were asked to provide their specific reason for move. Prior to 2016, only respondents who selected "other reason" were asked to specify a reason. More information is available at https://www.census.gov/topics/population/migration/guidance/user-notes.html. | M70: 2/ As of 2019, write-in responses for "other family", "other job-related", and "other housing" could potentially be recoded to more specific reasons for moving. Before 2019, only "other reason" responses could have been recoded. Beginning in 2016, respondents who selected "other family", "other job-related", "other housing", and "other reason" were asked to provide their specific reason for move. Prior to 2016, only respondents who selected "other reason" were asked to specify a reason. More information is available at https://www.census.gov/topics/population/migration/guidance/user-notes.html.
A71: 3/ With respect to race, a respondent can be White, Black, Asian, American Indian and Alaskan Native (AIAN), Native Hawaiian and Other Pacific Islander (NHOPI), or combinations of two or more of the preceding. A respondent’s ethnicity can be Hispanic or non-Hispanic, regardless of race. The specified category for all remaining single races and race combinations includes AIAN, NHOPI, and two or more races. | M71: 3/ With respect to race, a respondent can be White, Black, Asian, American Indian and Alaskan Native (AIAN), Native Hawaiian and Other Pacific Islander (NHOPI), or combinations of two or more of the preceding. A respondent’s ethnicity can be Hispanic or non-Hispanic, regardless of race. The specified category for all remaining single races and race combinations includes AIAN, NHOPI, and two or more races.
A72: 4/ The householder refers to the person (or one of the persons) in whose name the housing unit is owned or rented (maintained) or, if there is no such person, any adult member (at least 15 years old), excluding roomers, boarders, or paid employees. If the house is owned or rented jointly by a married couple, the householder may be either spouse. | M72: 4/ The householder refers to the person (or one of the persons) in whose name the housing unit is owned or rented (maintained) or, if there is no such person, any adult member (at least 15 years old), excluding roomers, boarders, or paid employees. If the house is owned or rented jointly by a married couple, the householder may be either spouse.
A73: "-" Represents zero or rounds to zero. | M73: "-" Represents zero or rounds to zero.
A74: Migration estimates from the Current Population Survey Annual Social and Economic Supplement (CPS-ASEC) exclude persons less than one year old. The sample includes noninstitutionalized persons currently living in the United States (50 states and the District of Columbia) and living in a household with at least one civilian adult (at least 15 years old). Movers from Puerto Rico and the United States Island Areas are counted as movers from abroad. For more information about CPS data, see the technical documentation accessible at https://www.census.gov/programs-surveys/cps/technical-documentation.html. | M74: Migration estimates from the Current Population Survey Annual Social and Economic Supplement (CPS-ASEC) exclude persons less than one year old. The sample includes noninstitutionalized persons currently living in the United States (50 states and the District of Columbia) and living in a household with at least one civilian adult (at least 15 years old). Movers from Puerto Rico and the United States Island Areas are counted as movers from abroad. For more information about CPS data, see the technical documentation accessible at https://www.census.gov/programs-surveys/cps/technical-documentation.html.
A75: Source: U.S. Census Bureau, Current Population Survey, 2019 Annual Social and Economic Supplement | M75: Source: U.S. Census Bureau, Current Population Survey, 2019 Annual Social and Economic Supplement
